Workbook
Name ContraPart1: #REF!-SUMIF(#REF!,,#REF!)
Name ContraPart1: QCI!$M$53-SUMIF(QCI!$G$13:$G$52,,QCI!$M$13:$M$52)
Name ContraPart1: #REF!-SUMIF(#REF!,,#REF!)
Name ContraPart2: MAX(QCI!$L$6-SUM(QCI!$J$13:$L$52),0)
Name ContraPart2: MAX(#REF!-SUM(#REF!),0)
Name Contrapartida: IF(SUM(QCI!$I1:$L1)=0,"",SUM(QCI!$I1:$L1)*(Cronograma!B1/100))
Name CPAutomatica: IF(QCI!$M1="","",IF(AND(QCI!$J1="",QCI!$K1="",QCI!$L1="",QCI!ContraPart1<=0),"",IF(AND(QCI!$J1="",QCI!$K1="",QCI!$L1=""),QCI!$M1/QCI!ContraPart1*QCI!ContraPart2,"")))
Name CPAuxiliar: IF(QCI!$M$53<QCI!$M$4+QCI!$M$6,QCI!$M$53*(((QCI!$M$6*100)/(QCI!$M$4+QCI!$M$6))/100),QCI!$M$53-QCI!$M$4)
Name Incidencia: IF(QCI!$M1=0,0,QCI!$M1*100/QCI!$M$53)
Name matriz: #REF!
Name matriz: #REF!
Name matriz2: #REF!
Name matriz2: #REF!
Name Parcial0: OFFSET([0]!ValorTotal0,1,0,MATCH(VLOOKUP("Macroitem",[0]!TabAux,1,FALSE),[0]!TabAux,0)-1,1)
Name Parcial0: OFFSET([0]!ValorTotal0,1,0,MATCH(VLOOKUP("Macroitem",[0]!TabAux,1,FALSE),[0]!TabAux,0)-1,1)
Name Parcial1: OFFSET([0]!ValorTotal1,1,0,MATCH(VLOOKUP("Macroitem",[0]!TabAux,1,FALSE),[0]!TabAux,0)-1,1)
Name Parcial1: OFFSET([0]!ValorTotal1,1,0,MATCH(VLOOKUP("Macroitem",[0]!TabAux,1,FALSE),[0]!TabAux,0)-1,1)
Name Parcial2: OFFSET([0]!ValorTotal2,1,0,MATCH(VLOOKUP("Macroitem",[0]!TabAux,1,FALSE),[0]!TabAux,0)-1,1)
Name Parcial2: OFFSET([0]!ValorTotal2,1,0,MATCH(VLOOKUP("Macroitem",[0]!TabAux,1,FALSE),[0]!TabAux,0)-1,1)
Name ParcialAc: OFFSET([0]!ValorTotalAc,1,0,MATCH(VLOOKUP("Macroitem",[0]!TabAux,1,FALSE),[0]!TabAux,0)-1,1)
Name ParcialAc: OFFSET([0]!ValorTotalAc,1,0,MATCH(VLOOKUP("Macroitem",[0]!TabAux,1,FALSE),[0]!TabAux,0)-1,1)
Name ParcialPer: OFFSET([0]!ValorTotalPer,1,0,MATCH(VLOOKUP("Macroitem",[0]!TabAux,1,FALSE),[0]!TabAux,0)-1,1)
Name ParcialPer: OFFSET([0]!ValorTotalPer,1,0,MATCH(VLOOKUP("Macroitem",[0]!TabAux,1,FALSE),[0]!TabAux,0)-1,1)
Name Quantidade1V: IF([0]!ValorQuantidade1="",[0]!ValorQuantidade0,[0]!ValorQuantidade1)
Name Quantidade2V: IF([0]!ValorQuantidade2<>"",[0]!ValorQuantidade2,ORÇAMENTO!Quantidade1V)
Name Quantidade2V: IF([0]!ValorQuantidade2<>"",[0]!ValorQuantidade2,ORÇAMENTO!Quantidade1V)
Name Repasse: IF(ValorRepasse=0,"",ValorRepasse*(Cronograma!C1/100))
Name RepasseQCI: QCI!ValorTotal-SUM(QCI!$I1:$L1)
Name TabCPFin: #REF!
Name TabCPFin: QCI!$I$13:$J$52
Name TabCPFin: #REF!
Name TabCronograma: Cronograma!$A$1:$IV$65536
Name TabMedicao: QCI!$O$1:$GL$65536
Name TESTE: #REF!*#REF!
Name TESTE: #REF!*#REF!
Name TotalCPFin: SUM(IF(ISNUMBER(QCI!TabCPFin),QCI!TabCPFin))
Name Unitario1V: IF([0]!ValorUnitario1="",[0]!ValorUnitario0,[0]!ValorUnitario1)
Name Unitario1V: IF([0]!ValorUnitario1="",[0]!ValorUnitario0,[0]!ValorUnitario1)
Name ValorCPFinanceira: INDEX(QCI!$H$1:$H$65536,ROW())
Name ValorCPFisica: INDEX(QCI!$K$1:$K$65536,ROW())
Name ValorCPOutra: INDEX(QCI!$L$1:$L$65536,ROW())
Name ValorRepasse: INDEX(#REF!,ROW())
Name ValorRepasse: INDEX(QCI!$F$1:$F$65536,ROW())
Name ValorRepasse: INDEX(QCI!$F$1:$F$65536,ROW())
Name ValorTotal: INDEX(QCI!$M$1:$M$65536,ROW())

Sheet ORÇAMENTO
A2: CONTRATANTE: | C2: PREFEITURA MUNICIPAL DE ARARANGUA | E2: CONVÊNIO:
A3: OBJETO: | C3: PAVIMENTAÇÃO RUAS COLONINHA - BRDE | E3: TOMADOR: | F3: PREFEITURA MUNICIPAL DE ARARANGUA
A4: LOCAL: | C4: RUA MANOEL HORÁCIO COSTA TRECHO II | E4: PROGRAMA: | F4: AVANÇAR CIDADES
A5: DATA BASE: | C5: MARÇO DE 2018 (Obs. Utilizado SICRO JANEIRO/2018 Onerado, por ausência de mais recentes, e dispensado atualização de custos para a data base considerada) | E5: BANCO: | F5: BRDE
A6: BDI: | C6: INDICADO ABAIXO
A7: LEIS SOCIAIS: | C7: OS MESMOS DO SINAPI NÃO DESONERADO
D9: ORÇAMENTO ANALÍTICO | R9: REDUTOR SINAPI
R10: =[1]Plan1!$H$7 -> 0.8
M11: Quantitativos das ruas
A12: MACRO ITEM | B12: SUB ITEM | C12: DISCRIMINAÇÃO DOS SERVIÇOS | G12: PREVISTO - ORÇADO | J12: REFERÊNCIA | K12: OBSERVAÇÕES | M12: BLOCO 1
D13: UNID | E13: QTIDADE | F13: UNITÁRIO SEM BDI | G13: BDI | H13: UNITÁRIO COM BDI | I13: PREÇO TOTAL | M13: MANOEL HORÁCIO COSTA TRECHO II | P13: TOTAL | R13: Limite SINAPI 03/2018 Onerado SC
B15: 1 | C15: DRENAGEM PLUVIAL | I15: =SUM(I16:I35) -> 98237.974
B16: 1.1 | C16: ESCAVAÇÃO MECANIZADA DE VALA, EM SOLO DE 1A CATEGORIA, LOCAIS COM BAIXO NÍVEL DE iNTERFERÊNCIA. | D16: M3 | E16: =P16 -> 937.46 | F16: =R16*$R$10 -> 4.456 | G16: 20 | H16: =ROUND($F16*(1+$G16/100),2) -> 5.35 | I16: =$E16*$H16 -> 5015.411 | J16: 90106 | K16: Conf. Memória de Cálculo | M16: 937.46 | P16: =SUM(M16:O16) -> 937.46 | R16: =[2]ORÇAMENTO!$R$16:$R$57 -> 5.57 | T16: =E16*R16*1.2 -> 6265.9826
B17: 1.2 | C17: REATERRO MECANIZADO DE VALA COM RETROESCAVADEIRA COM SOLO (SEM SUBSTITUIÇÃO) DE 1ª CATEGORIA EM LOCAIS COM BAIXO NÍVEL DE INTERFERÊNCIA. AF_04/2016 | D17: M3 | E17: =P17 -> 769.6 | F17: =R17*$R$10 -> 10.44 | G17: 20 | H17: =ROUND($F17*(1+$G17/100),2) -> 12.53 | I17: =$E17*$H17 -> 9643.088 | J17: 93379 | K17: Conf. Memória de Cálculo | M17: 769.6 | P17: =SUM(M17:O17) -> 769.6 | R17: =[2]ORÇAMENTO!$R$16:$R$57 -> 13.05 | T17: =E17*R17*1.2 -> 12051.936
B18: 1.3 | C18: FORNECIMENTO E ASSENTAMENTO DE BRITA 3/4 DRENOS E FILTROS - ESPESSURA DE 10 CM | D18: M3 | E18: =P18 -> 25.65 | F18: =R18*$R$10 -> 63.328 | G18: 20 | H18: =ROUND($F18*(1+$G18/100),2) -> 75.99 | I18: =$E18*$H18 -> 1949.1435 | J18: 88549 | K18: Conf. Memória de Cálculo | M18: =(M20+M21+M22+M23+M24)*0.1*0.5 -> 25.65 | P18: =SUM(M18:O18) -> 25.65 | R18: =[2]ORÇAMENTO!$R$16:$R$57 -> 79.16 | T18: =E18*R18*1.2 -> 2436.5448
B19: 1.4 | C19: ASSENTAMENTO DE TUBO DE CONCRETO PARA REDES COLETORAS DE ÁGUAS PLUVIAIS, DIÂMETRO DE 300 MM, JUNTA RÍGIDA, INSTALADO EM LOCAL COM BAIXO NÍVEL DE INTERFERÊNCIAS (NÃO INCLUI FORNECIMENTO). AF_12/2015 | D19: M | E19: =P19 -> 130 | F19: =R19*$R$10 -> 25 | G19: 20 | H19: =ROUND($F19*(1+$G19/100),2) -> 30 | I19: =$E19*$H19 -> 3900 | J19: 92808 | K19: Conf. Memória de Cálculo | M19: 130 | P19: =SUM(M19:O19) -> 130 | R19: =[2]ORÇAMENTO!$R$16:$R$57 -> 31.25 | T19: =E19*R19*1.2 -> 4875
B20: 1.5 | C20: ASSENTAMENTO DE TUBO DE CONCRETO PARA REDES COLETORAS DE ÁGUAS PLUVIAIS, DIÂMETRO DE 400 MM, JUNTA RÍGIDA, INSTALADO EM LOCAL COM BAIXO NÍVEL DE INTERFERÊNCIAS (NÃO INCLUI FORNECIMENTO). AF_12/2015 | D20: M | E20: =P20 -> 372 | F20: =R20*$R$10 -> 32.024 | G20: 20 | H20: =ROUND($F20*(1+$G20/100),2) -> 38.43 | I20: =$E20*$H20 -> 14295.96 | J20: 92809 | K20: Conf. Memória de Cálculo | M20: 372 | P20: =SUM(M20:O20) -> 372 | R20: =[2]ORÇAMENTO!$R$16:$R$57 -> 40.03 | T20: =E20*R20*1.2 -> 17869.392
B21: 1.6 | C21: ASSENTAMENTO DE TUBO DE CONCRETO PARA REDES COLETORAS DE ÁGUAS PLUVIAIS, DIÂMETRO DE 500 MM, JUNTA RÍGIDA, INSTALADO EM LOCAL COM BAIXO NÍVEL DE INTERFERÊNCIAS (NÃO INCLUI FORNECIMENTO). AF_12/2015 | D21: M | E21: =P21 -> 141 | F21: =R21*$R$10 -> 38.96 | G21: 20 | H21: =F21+F21*G21/100 -> 46.752 | I21: =$E21*$H21 -> 6592.032 | J21: 92810 | K21: Conf. Memória de Cálculo | M21: 141 | P21: =SUM(M21:O21) -> 141 | R21: =[2]ORÇAMENTO!$R$16:$R$57 -> 48.7 | T21: =E21*R21*1.2 -> 8240.04
B22: 1.7 | C22: ASSENTAMENTO DE TUBO DE CONCRETO PARA REDES COLETORAS DE ÁGUAS PLUVIAIS, DIÂMETRO DE 600 MM, JUNTA RÍGIDA, INSTALADO EM LOCAL COM BAIXO NÍVEL DE INTERFERÊNCIAS (NÃO INCLUI FORNECIMENTO). AF_12/2015 | D22: M | E22: =P22 -> 0 | F22: =R22*$R$10 -> 46.296 | G22: 20 | H22: =ROUND($F22*(1+$G22/100),2) -> 55.56 | I22: =$E22*$H22 -> 0 | J22: 92811 | K22: Conf. Memória de Cálculo | P22: =SUM(M22:O22) -> 0 | R22: =[2]ORÇAMENTO!$R$16:$R$57 -> 57.87 | T22: =E22*R22*1.2 -> 0
B23: 1.8 | C23: ASSENTAMENTO DE TUBO DE CONCRETO PARA REDES COLETORAS DE ÁGUAS PLUVIAIS, DIÂMETRO DE 800 MM, JUNTA RÍGIDA, INSTALADO EM LOCAL COM BAIXO NÍVEL DE INTERFERÊNCIAS (NÃO INCLUI FORNECIMENTO). AF_12/2015 | D23: M | E23: =P23 -> 0 | F23: =R23*$R$10 -> 61.888 | G23: 20 | H23: =ROUND($F23*(1+$G23/100),2) -> 74.27 | I23: =$E23*$H23 -> 0 | J23: 92813 | K23: Conf. Memória de Cálculo | P23: =SUM(M23:O23) -> 0 | R23: =[2]ORÇAMENTO!$R$16:$R$57 -> 77.36 | T23: =E23*R23*1.2 -> 0
B24: 1.9 | C24: ASSENTAMENTO DE TUBO DE CONCRETO PARA REDES COLETORAS DE ÁGUAS PLUVIAIS, DIÂMETRO DE 1000 MM, JUNTA RÍGIDA, INSTALADO EM LOCAL COM BAIXO NÍVEL DE INTERFERÊNCIAS (NÃO INCLUI FORNECIMENTO). AF_12/2016 | D24: M | E24: =P24 -> 0 | F24: =R24*$R$10 -> 80.352 | G24: 20 | H24: =ROUND($F24*(1+$G24/100),2) -> 96.42 | I24: =$E24*$H24 -> 0 | J24: 92815 | K24: Conf. Memória de Cálculo | P24: =SUM(M24:O24) -> 0 | R24: =[2]ORÇAMENTO!$R$16:$R$57 -> 100.44
B25: 1.10 | C25: TUBO DE CONCRETO SIMPLES, CLASSE- PS1, PB, DN 300 MM, PARA AGUAS PLUVIAIS (NBR 8890) | D25: M | E25: =P25 -> 130 | F25: =R25*$R$10 -> 23.544 | G25: 20 | H25: =ROUND($F25*(1+$G25/100),2) -> 28.25 | I25: =$E25*$H25 -> 3672.5 | J25: 7796 | K25: Conf. Memória de Cálculo | M25: 130 | P25: =SUM(M25:O25) -> 130 | R25: =[2]ORÇAMENTO!$R$16:$R$57 -> 29.43 | T25: =E25*R25*1.2 -> 4591.08
B26: 1.11 | C26: TUBO DE CONCRETO SIMPLES, CLASSE- PS1, PB, DN 400 MM, PARA AGUAS PLUVIAIS (NBR 8890) | D26: M | E26: =P26 -> 372 | F26: =R26*$R$10 -> 31.12 | G26: 20 | H26: =ROUND($F26*(1+$G26/100),2) -> 37.34 | I26: =$E26*$H26 -> 13890.48 | J26: 7781 | K26: Conf. Memória de Cálculo | M26: 372 | P26: =SUM(M26:O26) -> 372 | R26: =[2]ORÇAMENTO!$R$16:$R$57 -> 38.9 | T26: =E26*R26*1.2 -> 17364.96
B27: 1.12 | C27: TUBO DE CONCRETO SIMPLES, CLASSE- PS1, PB, DN 500 MM, PARA AGUAS PLUVIAIS (NBR 8890) | D27: M | E27: =P27 -> 141 | F27: =R27*$R$10 -> 45.088 | G27: 20 | H27: =ROUND($F27*(1+$G27/100),2) -> 54.11 | I27: =$E27*$H27 -> 7629.51 | J27: 7795 | K27: Conf. Memória de Cálculo | M27: 141 | P27: =SUM(M27:O27) -> 141 | R27: =[2]ORÇAMENTO!$R$16:$R$57 -> 56.36 | T27: =E27*R27*1.2 -> 9536.112
B28: 1.13 | C28: TUBO DE CONCRETO SIMPLES, CLASSE- PS1, PB, DN 600 MM, PARA AGUAS PLUVIAIS (NBR 8890) | D28: M | E28: =P28 -> 0 | F28: =R28*$R$10 -> 57.456 | G28: 20 | H28: =ROUND($F28*(1+$G28/100),2) -> 68.95 | I28: =$E28*$H28 -> 0 | J28: 7791 | K28: Conf. Memória de Cálculo | P28: =SUM(M28:O28) -> 0 | R28: =[2]ORÇAMENTO!$R$16:$R$57 -> 71.82 | T28: =E28*R28*1.2 -> 0
B29: 1.14 | C29: TUBO CONCRETO ARMADO, CLASSE PA-1, PB, DN 800 MM, PARA AGUAS PLUVIAIS (NBR 8890) | D29: M | E29: =P29 -> 0 | F29: =R29*$R$10 -> 104.416 | G29: 20 | H29: =ROUND($F29*(1+$G29/100),2) -> 125.3 | I29: =$E29*$H29 -> 0 | J29: 7750 | K29: Conf. Memória de Cálculo | P29: =SUM(M29:O29) -> 0 | R29: =[2]ORÇAMENTO!$R$16:$R$57 -> 130.52 | T29: =E29*R29*1.2 -> 0
B30: 1.15 | C30: TUBO CONCRETO ARMADO, CLASSE PA-1, PB, DN 1000 MM, PARA AGUAS PLUVIAIS (NBR 8890) | D30: M | E30: =P30 -> 0 | F30: =R30*$R$10 -> 143.32 | G30: 20 | H30: =ROUND($F30*(1+$G30/100),2) -> 171.98 | I30: =$E30*$H30 -> 0 | J30: 7753 | K30: Conf. Memória de Cálculo | P30: =SUM(M30:O30) -> 0 | R30: =[2]ORÇAMENTO!$R$16:$R$57 -> 179.15
B31: 1.16 | C31: BOCA DE LOBO EM ALVENARIA (BLOCO DE CONCRETO MACICO), REVESTIDA C/ ARGAMASSA DE CIMENTO E AREIA 1:3, SOBRE LASTRO DE CONCRETO 10CM E TAMPA DE CONCRETO ARMADO - CONF. PROJETO | D31: UNID | E31: =P31 -> 26 | F31: =R31*$R$10 -> 621.888 | G31: 20 | H31: =ROUND($F31*(1+$G31/100),2) -> 746.27 | I31: =$E31*$H31 -> 19403.02 | J31: 83659 | M31: 26 | P31: =SUM(M31:O31) -> 26 | R31: =[2]ORÇAMENTO!$R$16:$R$57 -> 777.36 | T31: =E31*R31*1.2 -> 24253.632
B32: 1.17 | C32: CAIXA DE LIGAÇÃO COM FUNDO E TAMPA DE CONCRETO E PAREDES EM ALVENARIA, CONF. PROJETO | D32: UNID | E32: =P32 -> 13 | F32: =R32*$R$10 -> 648.296 | G32: 20 | H32: =ROUND($F32*(1+$G32/100),2) -> 777.96 | I32: =$E32*$H32 -> 10113.48 | J32: 74206/002 | M32: 13 | P32: =SUM(M32:O32) -> 13 | R32: =[2]ORÇAMENTO!$R$16:$R$57 -> 810.37 | T32: =E32*R32*1.2 -> 12641.772
B33: 1.18 | C33: BIDIM - FORNECIMENTO E INSTALACAO DE MANTA BIDIM RT - 14 40CM LARGURA | D33: M² | E33: =P33 -> 409.472 | F33: =R33*$R$10 -> 4.344 | G33: 20 | H33: =ROUND($F33*(1+$G33/100),2) -> 5.21 | I33: =$E33*$H33 -> 2133.3491 | J33: 83665 | K33: 40 cm de largura x circunferência do tubo + 25% de transpasse | M33: =0.4*(M19*1.256+M20*1.57+M21*1.96+M22*2.35+M23*3.14+3.93*M24) -> 409.472 | N33: =0.4*(N19*1.256+N20*1.57+N21*1.96+N22*2.35+N23*3.14+3.93*N24) -> 0 | O33: =0.4*(O19*1.256+O20*1.57+O21*1.96+O22*2.35+O23*3.14+3.93*O24) -> 0 | P33: =SUM(M33:O33) -> 409.472 | R33: =[2]ORÇAMENTO!$R$16:$R$57 -> 5.43 | T33: =E33*R33*1.2 -> 2668.1196
B34: 1.19 | C34: CAIXA DE LIGAÇÃO COM FUNDO E TAMPA DE CONCRETO E PAREDES EM ALVENARIA, CONF. PROJETO - TUBOS => 80CM - LINHA DUPLA | D34: UNID | E34: =P34 -> 0 | F34: =R34*$R$10 -> 1146.416 | G34: 20 | H34: =ROUND($F34*(1+$G34/100),2) -> 1375.7 | I34: =$E34*$H34 -> 0 | J34: 74206/001 Adequado | M34: 0 | P34: =SUM(M34:O34) -> 0 | R34: =[2]ORÇAMENTO!$R$16:$R$57 -> 1433.02 | S34: =SUM(M34:R34) -> 1433.02 | T34: =E34*R34*1.2 -> 0
B35: 1.20 | C35: CAIXA COLETORA, 1,20X1,20X1,50M, COM FUNDO E TAMPA DE CONCRETO E PAREDES EM ALVENARIA | D35: UNID | E35: =P35 -> 0 | F35: =R35*$R$10 -> 1146.416 | G35: 20 | H35: =ROUND($F35*(1+$G35/100),2) -> 1375.7 | I35: =$E35*$H35 -> 0 | J35: 74206/001 | M35: 0 | P35: =SUM(M35:O35) -> 0 | R35: =[2]ORÇAMENTO!$R$16:$R$57 -> 1433.02 | S35: =SUM(M35:R35) -> 1433.02 | U35: 1405.17
R36: =[2]ORÇAMENTO!$R$16:$R$57 -> 0 | T36: =E36*R36*1.2 -> 0
B37: 2 | C37: PAVIMENTAÇÂO | I37: =SUM(I38:I43) -> 355705.08 | R37: =[2]ORÇAMENTO!$R$16:$R$57 -> 0 | T37: =E37*R37*1.2 -> 0
B38: 2.1 | C38: EXECUÇÃO E COMPACTAÇÃO DE BASE E OU SUB BASE COM BRITA GRADUADA SIMPLES - 10CM- EXCLUSIVE CARGA E TRANSPORTE. AF_09/2017 | D38: M3 | E38: =P38 -> 509.62 | F38: =R38*$R$10 -> 84.656 | G38: 20 | H38: =ROUND($F38*(1+$G38/100),2) -> 101.59 | I38: =$E38*$H38 -> 51772.296 | J38: 96396 | K38: Area de lajota * 0,10 | M38: 509.62 | O38: 0 | P38: =SUM(M38:O38) -> 509.62 | R38: =[2]ORÇAMENTO!$R$16:$R$57 -> 105.82 | T38: =E38*R38*1.2 -> 64713.586
B39: 2.2 | C39: TRANSPORTE COM CAMINHÃO BASCULANTE, EM VIA URBANA PAVIMENTADA - BRITA GRADUADA DMT =20Km | D39: M3XKM | E39: =P39 -> 10192.4 | F39: =R39*$R$10 -> 1.184 | G39: 20 | H39: =ROUND($F39*(1+$G39/100),2) -> 1.42 | I39: =$E39*$H39 -> 14473.208 | J39: 97914 | K39: Volume do material x DMT | M39: =M38*20 -> 10192.4 | O39: 0 | P39: =SUM(M39:O39) -> 10192.4 | R39: =[2]ORÇAMENTO!$R$16:$R$57 -> 1.48 | T39: =E39*R39*1.2 -> 18101.702
B40: 2.3 | C40: REGULARIZACAO E COMPACTACAO DE SUBLEITO ATE 20 CM DE ESPESSURA | D40: M2 | E40: =P40 -> 5096.2 | F40: =R40*$R$10 -> 0.976 | G40: 20 | H40: =ROUND($F40*(1+$G40/100),2) -> 1.17 | I40: =$E40*$H40 -> 5962.554 | J40: 72961 | K40: Ext. da Via x (Largura lajota) | M40: 5096.2 | O40: 0 | P40: =SUM(M40:O40) -> 5096.2 | R40: =[2]ORÇAMENTO!$R$16:$R$57 -> 1.22 | T40: =E40*R40*1.2 -> 7460.8368
B41: 2.4 | C41: EXECUÇÃO DE PAVIMENTO EM PISO INTERTRAVADO, COM BLOCO SEXTAVADO DE 25 X 25 CM, ESPESSURA 8 CM. FORNECIMENTO, ASSENTAMENTO. INCLUI COLCHÃO DE AREIA COM NO MÍNIMO 5CM DE ESP. | D41: M2 | E41: =P41 -> 5096.2 | F41: =R41*$R$10 -> 39.6 | G41: 20 | H41: =ROUND($F41*(1+$G41/100),2) -> 47.52 | I41: =$E41*$H41 -> 242171.42 | J41: 92394 | K41: Conf. Prancha | M41: 5096.2 | O41: 0 | P41: =SUM(M41:O41) -> 5096.2 | R41: =[2]ORÇAMENTO!$R$16:$R$57 -> 49.5 | T41: =E41*R41*1.2 -> 302714.28
B42: 2.5 | C42: FORNECIMENTO E ASSENTAMENTO DE GUIA (MEIO-FIO) EM TRECHO RETO, CONFECCIONADA EM CONCRETO PRÉ-FABRICADO, DIMENSÕES 100X15X13X30 CM (COMPRIMENTO X BASE INFERIOR X BASE SUPERIOR X ALTURA), PARA VIAS URBANAS (USO VIÁRIO). AF_06/2016 | D42: M | E42: =P42 -> 1285 | F42: =R42*$R$10 -> 26.8 | G42: 20 | H42: =ROUND($F42*(1+$G42/100),2) -> 32.16 | I42: =$E42*$H42 -> 41325.6 | J42: 94273 | K42: Conf. Prancha | M42: 1285 | O42: 0 | P42: =SUM(M42:O42) -> 1285 | R42: =[2]ORÇAMENTO!$R$16:$R$57 -> 33.5 | T42: =E42*R42*1.2 -> 51657
B43: 2.6 | C43: FORNECIMENTO E ASSETAMENTO DE MEIO FIO PRÉ MODADDO DE TRAVAMENTO 10X20X10X100CM | D43: M | E43: =P43 -> 0 | F43: =R43*$R$10 -> 24.8 | G43: 20 | H43: =ROUND($F43*(1+$G43/100),2) -> 29.76 | I43: =$E43*$H43 -> 0 | J43: 94273 | M43: 0 | N43: 0 | O43: 0 | P43: =SUM(M43:O43) -> 0 | R43: =[2]ORÇAMENTO!$R$16:$R$57 -> 31
...

Sheet QCI
C1: Agente Promotor | F1: Número do Contrato
C2: Prefeitura Municipal de Araranguá | K2: .
A3: Logotipo Pref. | C3: Empreendimento | L3: Total Contratado | M3: Repasse
C4: PAVIMENTAÇÃO COM LAJOTAS SEXTAVADAS RUA MANOEL HORÁCIO COSTA TRECHO II | K4: . | L4: =$M$4+$M$6 -> 0
C5: Localização | F5: Programa | L5: Auxiliar | M5: C.P. Mínima
C6: COLONINHA | K6: . | L6: =CPAuxiliar -> 595960.06
C8: QCI | D8: QUADRO DE COMPOSIÇÃO DO INVESTIMENTO
C10: QCI VIGENTE
A11: Executora | B11: ITEM | C11: Descrição dos Itens de Investimento | D11: UNID | E11: QTIDADE | F11: Repasse | H11: C.P Financeira | I11: C.P. Financeira | J11: C.P. Contrapartida | M11: Total | N11: Inc.
J12: Financeira | K12: Física | L12: Outras Fontes
C13: PAVIMENTAÇÃO COM LAJOTAS | F13: =RepasseQCI -> 0 | G13: =IF(OR($J13<>"",$K13<>"",$L13<>""),) -> FALSE | H13: =SUM($I13:$J13) -> 0 | I13: =CPAutomatica | N13: =Incidencia -> 0
F14: =RepasseQCI -> 0 | G14: =IF(OR($J14<>"",$K14<>"",$L14<>""),) -> FALSE | H14: =SUM($I14:$J14) -> 0 | I14: =CPAutomatica | N14: =Incidencia -> 0
B15: =ORÇAMENTO!B15 -> 1 | C15: =ORÇAMENTO!C15 -> DRENAGEM PLUVIAL | F15: =RepasseQCI -> 0 | G15: =IF(OR($J15<>"",$K15<>"",$L15<>""),) -> FALSE | H15: =SUM($I15:$J15) -> 98237.974 | I15: =CPAutomatica -> 98237.974 | M15: =ORÇAMENTO!I15 -> 98237.974 | N15: =Incidencia -> 16.483986
B16: =ORÇAMENTO!B37 -> 2 | C16: =ORÇAMENTO!C37 -> PAVIMENTAÇÂO | F16: =RepasseQCI -> 0 | G16: =IF(OR($J16<>"",$K16<>"",$L16<>""),) -> FALSE | H16: =SUM($I16:$J16) -> 355705.08 | I16: =CPAutomatica -> 355705.08 | M16: =ORÇAMENTO!I37 -> 355705.08 | N16: =Incidencia -> 59.686061
B17: =ORÇAMENTO!B44 -> 3 | C17: =ORÇAMENTO!C44 -> SINALIZAÇÃO VIARIA | F17: =RepasseQCI -> 0 | G17: =IF(OR($J17<>"",$K17<>"",$L17<>""),) -> FALSE | H17: =SUM($I17:$J17) -> 10314.396 | I17: =CPAutomatica -> 10314.396 | M17: =ORÇAMENTO!I44 -> 10314.396 | N17: =Incidencia -> 1.7307193
B18: =ORÇAMENTO!B52 -> 4 | C18: =ORÇAMENTO!C52 -> CALÇADAS E RAMPA DE ACESSIBILIDADE E GARAGEM | F18: =RepasseQCI -> 0 | G18: =IF(OR($J18<>"",$K18<>"",$L18<>""),) -> FALSE | H18: =SUM($I18:$J18) -> 131702.61 | I18: =CPAutomatica -> 131702.61 | M18: =ORÇAMENTO!I52 -> 131702.61 | N18: =Incidencia -> 22.099234
F19: =RepasseQCI -> 0 | G19: =IF(OR($J19<>"",$K19<>"",$L19<>""),) -> FALSE | H19: =SUM($I19:$J19) -> 0 | I19: =CPAutomatica | N19: =Incidencia -> 0
F20: =RepasseQCI -> 0 | G20: =IF(OR($J20<>"",$K20<>"",$L20<>""),) -> FALSE | H20: =SUM($I20:$J20) -> 0 | I20: =CPAutomatica | N20: =Incidencia -> 0
F21: =RepasseQCI -> 0 | G21: =IF(OR($J21<>"",$K21<>"",$L21<>""),) -> FALSE | H21: =SUM($I21:$J21) -> 0 | I21: =CPAutomatica | N21: =Incidencia -> 0
F22: =RepasseQCI -> 0 | G22: =IF(OR($J22<>"",$K22<>"",$L22<>""),) -> FALSE | H22: =SUM($I22:$J22) -> 0 | I22: =CPAutomatica | N22: =Incidencia -> 0
F23: =RepasseQCI -> 0 | G23: =IF(OR($J23<>"",$K23<>"",$L23<>""),) -> FALSE | H23: =SUM($I23:$J23) -> 0 | I23: =CPAutomatica | N23: =Incidencia -> 0
F24: =RepasseQCI -> 0 | G24: =IF(OR($J24<>"",$K24<>"",$L24<>""),) -> FALSE | H24: =SUM($I24:$J24) -> 0 | I24: =CPAutomatica | N24: =Incidencia -> 0
F25: =RepasseQCI -> 0 | G25: =IF(OR($J25<>"",$K25<>"",$L25<>""),) -> FALSE | H25: =SUM($I25:$J25) -> 0 | I25: =CPAutomatica | N25: =Incidencia -> 0
F26: =RepasseQCI -> 0 | G26: =IF(OR($J26<>"",$K26<>"",$L26<>""),) -> FALSE | H26: =SUM($I26:$J26) -> 0 | I26: =CPAutomatica | N26: =Incidencia -> 0
F27: =RepasseQCI -> 0 | G27: =IF(OR($J27<>"",$K27<>"",$L27<>""),) -> FALSE | H27: =SUM($I27:$J27) -> 0 | I27: =CPAutomatica | N27: =Incidencia -> 0
F28: =RepasseQCI -> 0 | G28: =IF(OR($J28<>"",$K28<>"",$L28<>""),) -> FALSE | H28: =SUM($I28:$J28) -> 0 | I28: =CPAutomatica | N28: =Incidencia -> 0
F29: =RepasseQCI -> 0 | G29: =IF(OR($J29<>"",$K29<>"",$L29<>""),) -> FALSE | H29: =SUM($I29:$J29) -> 0 | I29: =CPAutomatica | N29: =Incidencia -> 0
F30: =RepasseQCI -> 0 | G30: =IF(OR($J30<>"",$K30<>"",$L30<>""),) -> FALSE | H30: =SUM($I30:$J30) -> 0 | I30: =CPAutomatica | N30: =Incidencia -> 0
... F52: =RepasseQCI -> 0 | G52: =IF(OR($J52<>"",$K52<>"",$L52<>""),) -> FALSE | H52: =SUM($I52:$J52) -> 0 | I52: =CPAutomatica | N52: =Incidencia -> 0
A53: =SUM($L$13:$L$52) -> 0 | C53: TOTAL | F53: =SUM($F$13:$F$52) -> 0 | J53: =TotalCPFin -> 595960.06 | K53: =SUM($K$13:$K$52) -> 0 | L53: =SUM($L$13:$L$52) -> 0 | M53: =SUM($M$13:$M$52) -> 595960.06 | N53: =SUM($N$13:$N$52) -> 100
B59: _____________________________________________
B60: Prefeito | F60: Responsável Técnico | M60: 43257
B61: Nome: | F61: Nome: | M61: Data
B62: CPF | F62: Registro:

Sheet Cronograma
A1: Agente Promotor | I1: Data Início de Obras
A2: =QCI!$C$2 -> Prefeitura Municipal de Araranguá
A3: Número do Contrato
A4: =QCI!$F$2 -> 0
A5: Programa | I5: Prazo de Execução
A6: =QCI!$F$6 -> 0 | I6: 4 | J6: =IF(I6=1,"mês","meses") -> meses
H8: CRONOGRAMA FÍSICO-FINANCEIRO | W8: CRONOGRAMA FÍSICO-FINANCEIRO | AL8: CRONOGRAMA FÍSICO-FINANCEIRO | BA8: CRONOGRAMA FÍSICO-FINANCEIRO | BP8: CRONOGRAMA FÍSICO-FINANCEIRO | CE8: CRONOGRAMA FÍSICO-FINANCEIRO | CT8: CRONOGRAMA FÍSICO-FINANCEIRO | DI8: CRONOGRAMA FÍSICO-FINANCEIRO | DX8: CRONOGRAMA FÍSICO-FINANCEIRO | EM8: CRONOGRAMA FÍSICO-FINANCEIRO | FB8: CRONOGRAMA FÍSICO-FINANCEIRO | FQ8: CRONOGRAMA FÍSICO-FINANCEIRO | GF8: CRONOGRAMA FÍSICO-FINANCEIRO | GU8: CRONOGRAMA FÍSICO-FINANCEIRO | HJ8: CRONOGRAMA FÍSICO-FINANCEIRO | HY8: CRONOGRAMA FÍSICO-FINANCEIRO
B10: Total | C10: Inc. | D10: Acum | E10: Mês 01 | H10: Mês 02 | K10: Mês 03 | N10: Mês 04 | Q10: Mês 05 | T10: Mês 06 | W10: Mês 07 | Z10: Mês 08 | AC10: Mês 09 | AF10: Mês 10 | AI10: Mês 11 | AL10: Mês 12 | AO10: Mês 13 | AR10: Mês 14 | AU10: Mês 15 | AX10: Mês 16 | BA10: Mês 17 | BD10: Mês 18 | BG10: Mês 19 | BJ10: Mês 20 | BM10: Mês 21 | BP10: Mês 22 | BS10: Mês 23 | BV10: Mês 24 | BY10: Mês 25 | CB10: Mês 26 | CE10: Mês 27 | CH10: Mês 28 | CK10: Mês 29 | CN10: Mês 30 | CQ10: Mês 31 | CT10: Mês 32 | CW10: Mês 33 | CZ10: Mês 34 | DC10: Mês 35 | DF10: Mês 36 | DI10: Mês 37 | DL10: Mês 38 | DO10: Mês 39 | DR10: Mês 40 | DU10: Mês 41 | DX10: Mês 42 | EA10: Mês 43 | ED10: Mês 44 | EG10: Mês 45 | EJ10: Mês 46 | EM10: Mês 47 | EP10: Mês 48 | ES10: Mês 49 | EV10: Mês 50 | EY10: Mês 51 | FB10: Mês 52 | FE10: Mês 53 | FH10: Mês 54 | FK10: Mês 55 | FN10: Mês 56 | FQ10: Mês 57 | FT10: Mês 58 | FW10: Mês 59 | FZ10: Mês 60 | GC10: Mês 61 | GF10: Mês 62 | GI10: Mês 63 | GL10: Mês 64 | GO10: Mês 65 | GR10: Mês 66 | GU10: Mês 67 | GX10: Mês 68 | HA10: Mês 69 | HD10: Mês 70 | HG10: Mês 71 | HJ10: Mês 72 | HM10: Mês 73 | HP10: Mês 74 | HS10: Mês 75 | HV10: Mês 76 | HY10: Mês 77 | IB10: Mês 78 | IE10: Mês 79 | IH10: Mês 80 | IK10: Mês 81 | IN10: Mês 82 | IQ10: Mês 83 | IT10: Mês 84
A11: Item | E11: Repasse | F11: Contrapartida R$ | G11: Percent. | H11: Repasse | I11: Contrapartida R$ | J11: Percent. | K11: Repasse | L11: Contrapartida R$ | M11: Percent. | N11: Repasse | O11: Contrapartida R$ | P11: Percent. | Q11: Repasse | R11: Contrapartida R$ | S11: Percent. | T11: Repasse | U11: Contrapartida R$ | V11: Percent. | W11: Repasse | X11: Contrapartida R$ | Y11: Percent. | Z11: Repasse | AA11: Contrapartida R$ | AB11: Percent. | AC11: Repasse | AD11: Contrapartida R$ | AE11: Percent. | AF11: Repasse | AG11: Contrapartida R$ | AH11: Percent. | AI11: Repasse | AJ11: Contrapartida R$ | AK11: Percent. | AL11: Repasse | AM11: Contrapartida R$ | AN11: Percent. | AO11: Repasse | AP11: Contrapartida R$ | AQ11: Percent. | AR11: Repasse | AS11: Contrapartida R$ | AT11: Percent. | AU11: Repasse | AV11: Contrapartida R$ | AW11: Percent. | AX11: Repasse | AY11: Contrapartida R$ | AZ11: Percent. | BA11: Repasse | BB11: Contrapartida R$ | BC11: Percent. | BD11: Repasse | BE11: Contrapartida R$ | BF11: Percent. | BG11: Repasse | BH11: Contrapartida R$ | BI11: Percent. | BJ11: Repasse | BK11: Contrapartida R$ | BL11: Percent. | BM11: Repasse | BN11: Contrapartida R$ | BO11: Percent. | BP11: Repasse | BQ11: Contrapartida R$ | BR11: Percent. | BS11: Repasse | BT11: Contrapartida R$ | BU11: Percent. | BV11: Repasse | BW11: Contrapartida R$ | BX11: Percent. | BY11: Repasse | BZ11: Contrapartida R$ | CA11: Percent. | CB11: Repasse | CC11: Contrapartida R$ | CD11: Percent. | CE11: Repasse | CF11: Contrapartida R$ | CG11: Percent. | CH11: Repasse | CI11: Contrapartida R$ | CJ11: Percent. | CK11: Repasse | CL11: Contrapartida R$ | CM11: Percent. | CN11: Repasse | CO11: Contrapartida R$ | CP11: Percent. | CQ11: Repasse | CR11: Contrapartida R$ | CS11: Percent. | CT11: Repasse | CU11: Contrapartida R$ | CV11: Percent. | CW11: Repasse | CX11: Contrapartida R$ | CY11: Percent. | CZ11: Repasse | DA11: Contrapartida R$ | DB11: Percent. | DC11: Repasse | DD11: Contrapartida R$ | DE11: Percent. | DF11: Repasse | DG11: Contrapartida R$ | DH11: Percent. | DI11: Repasse | DJ11: Contrapartida R$ | DK11: Percent. | DL11: Repasse | DM11: Contrapartida R$ | DN11: Percent. | DO11: Repasse | DP11: Contrapartida R$ | DQ11: Percent. | DR11: Repasse | DS11: Contrapartida R$ | DT11: Percent. | DU11: Repasse | DV11: Contrapartida R$ | DW11: Percent. | DX11: Repasse | DY11: Contrapartida R$ | DZ11: Percent. | EA11: Repasse | EB11: Contrapartida R$ | EC11: Percent. | ED11: Repasse | EE11: Contrapartida R$ | EF11: Percent. | EG11: Repasse | EH11: Contrapartida R$ | EI11: Percent. | EJ11: Repasse | EK11: Contrapartida R$ | EL11: Percent. | EM11: Repasse | EN11: Contrapartida R$ | EO11: Percent. | EP11: Repasse | EQ11: Contrapartida R$ | ER11: Percent. | ES11: Repasse | ET11: Contrapartida R$ | EU11: Percent. | EV11: Repasse | EW11: Contrapartida R$ | EX11: Percent. | EY11: Repasse | EZ11: Contrapartida R$ | FA11: Percent. | FB11: Repasse | FC11: Contrapartida R$ | FD11: Percent. | FE11: Repasse | FF11: Contrapartida R$ | FG11: Percent. | FH11: Repasse | FI11: Contrapartida R$ | FJ11: Percent. | FK11: Repasse | FL11: Contrapartida R$ | FM11: Percent. | FN11: Repasse | FO11: Contrapartida R$ | FP11: Percent. | FQ11: Repasse | FR11: Contrapartida R$ | FS11: Percent. | FT11: Repasse | FU11: Contrapartida R$ | FV11: Percent. | FW11: Repasse | FX11: Contrapartida R$ | FY11: Percent. | FZ11: Repasse | GA11: Contrapartida R$ | GB11: Percent. | GC11: Repasse | GD11: Contrapartida R$ | GE11: Percent. | GF11: Repasse | GG11: Contrapartida R$ | GH11: Percent. | GI11: Repasse | GJ11: Contrapartida R$ | GK11: Percent. | GL11: Repasse | GM11: Contrapartida R$ | GN11: Percent. | GO11: Repasse | GP11: Contrapartida R$ | GQ11: Percent. | GR11: Repasse | GS11: Contrapartida R$ | GT11: Percent. | GU11: Repasse | GV11: Contrapartida R$ | GW11: Percent. | GX11: Repasse | GY11: Contrapartida R$ | GZ11: Percent. | HA11: Repasse | HB11: Contrapartida R$ | HC11: Percent. | HD11: Repasse | HE11: Contrapartida R$ | HF11: Percent. | HG11: Repasse | HH11: Contrapartida R$ | HI11: Percent. | HJ11: Repasse | HK11: Contrapartida R$ | HL11: Percent. | HM11: Repasse | HN11: Contrapartida R$ | HO11: Percent. | HP11: Repasse | HQ11: Contrapartida R$ | HR11: Percent. | HS11: Repasse | HT11: Contrapartida R$ | HU11: Percent. | HV11: Repasse | HW11: Contrapartida R$ | HX11: Percent. | HY11: Repasse | HZ11: Contrapartida R$ | IA11: Percent. | IB11: Repasse | IC11: Contrapartida R$ | ID11: Percent. | IE11: Repasse | IF11: Contrapartida R$ | IG11: Percent. | IH11: Repasse | II11: Contrapartida R$ | IJ11: Percent. | IK11: Repasse | IL11: Contrapartida R$ | IM11: Percent. | IN11: Repasse | IO11: Contrapartida R$ | IP11: Percent. | IQ11: Repasse | IR11: Contrapartida R$ | IS11: Percent. | IT11: Repasse | IU11: Contrapartida R$ | IV11: Percent.
B12: (R$) | C12: (%) | D12: (%) | E12: (R$) | F12: (R$) | G12: (%) | H12: (R$) | I12: (R$) | J12: (%) | K12: (R$) | L12: (R$) | M12: (%) | N12: (R$) | O12: (R$) | P12: (%) | Q12: (R$) | R12: (R$) | S12: (%) | T12: (R$) | U12: (R$) | V12: (%) | W12: (R$) | X12: (R$) | Y12: (%) | Z12: (R$) | AA12: (R$) | AB12: (%) | AC12: (R$) | AD12: (R$) | AE12: (%) | AF12: (R$) | AG12: (R$) | AH12: (%) | AI12: (R$) | AJ12: (R$) | AK12: (%) | AL12: (R$) | AM12: (R$) | AN12: (%) | AO12: (R$) | AP12: (R$) | AQ12: (%) | AR12: (R$) | AS12: (R$) | AT12: (%) | AU12: (R$) | AV12: (R$) | AW12: (%) | AX12: (R$) | AY12: (R$) | AZ12: (%) | BA12: (R$) | BB12: (R$) | BC12: (%) | BD12: (R$) | BE12: (R$) | BF12: (%) | BG12: (R$) | BH12: (R$) | BI12: (%) | BJ12: (R$) | BK12: (R$) | BL12: (%) | BM12: (R$) | BN12: (R$) | BO12: (%) | BP12: (R$) | BQ12: (R$) | BR12: (%) | BS12: (R$) | BT12: (R$) | BU12: (%) | BV12: (R$) | BW12: (R$) | BX12: (%) | BY12: (R$) | BZ12: (R$) | CA12: (%) | CB12: (R$) | CC12: (R$) | CD12: (%) | CE12: (R$) | CF12: (R$) | CG12: (%) | CH12: (R$) | CI12: (R$) | CJ12: (%) | CK12: (R$) | CL12: (R$) | CM12: (%) | CN12: (R$) | CO12: (R$) | CP12: (%) | CQ12: (R$) | CR12: (R$) | CS12: (%) | CT12: (R$) | CU12: (R$) | CV12: (%) | CW12: (R$) | CX12: (R$) | CY12: (%) | CZ12: (R$) | DA12: (R$) | DB12: (%) | DC12: (R$) | DD12: (R$) | DE12: (%) | DF12: (R$) | DG12: (R$) | DH12: (%) | DI12: (R$) | DJ12: (R$) | DK12: (%) | DL12: (R$) | DM12: (R$) | DN12: (%) | DO12: (R$) | DP12: (R$) | DQ12: (%) | DR12: (R$) | DS12: (R$) | DT12: (%) | DU12: (R$) | DV12: (R$) | DW12: (%) | DX12: (R$) | DY12: (R$) | DZ12: (%) | EA12: (R$) | EB12: (R$) | EC12: (%) | ED12: (R$) | EE12: (R$) | EF12: (%) | EG12: (R$) | EH12: (R$) | EI12: (%) | EJ12: (R$) | EK12: (R$) | EL12: (%) | EM12: (R$) | EN12: (R$) | EO12: (%) | EP12: (R$) | EQ12: (R$) | ER12: (%) | ES12: (R$) | ET12: (R$) | EU12: (%) | EV12: (R$) | EW12: (R$) | EX12: (%) | EY12: (R$) | EZ12: (R$) | FA12: (%) | FB12: (R$) | FC12: (R$) | FD12: (%) | FE12: (R$) | FF12: (R$) | FG12: (%) | FH12: (R$) | FI12: (R$) | FJ12: (%) | FK12: (R$) | FL12: (R$) | FM12: (%) | FN12: (R$) | FO12: (R$) | FP12: (%) | FQ12: (R$) | FR12: (R$) | FS12: (%) | FT12: (R$) | FU12: (R$) | FV12: (%) | FW12: (R$) | FX12: (R$) | FY12: (%) | FZ12: (R$) | GA12: (R$) | GB12: (%) | GC12: (R$) | GD12: (R$) | GE12: (%) | GF12: (R$) | GG12: (R$) | GH12: (%) | GI12: (R$) | GJ12: (R$) | GK12: (%) | GL12: (R$) | GM12: (R$) | GN12: (%) | GO12: (R$) | GP12: (R$) | GQ12: (%) | GR12: (R$) | GS12: (R$) | GT12: (%) | GU12: (R$) | GV12: (R$) | GW12: (%) | GX12: (R$) | GY12: (R$) | GZ12: (%) | HA12: (R$) | HB12: (R$) | HC12: (%) | HD12: (R$) | HE12: (R$) | HF12: (%) | HG12: (R$) | HH12: (R$) | HI12: (%) | HJ12: (R$) | HK12: (R$) | HL12: (%) | HM12: (R$) | HN12: (R$) | HO12: (%) | HP12: (R$) | HQ12: (R$) | HR12: (%) | HS12: (R$) | HT12: (R$) | HU12: (%) | HV12: (R$) | HW12: (R$) | HX12: (%) | HY12: (R$) | HZ12: (R$) | IA12: (%) | IB12: (R$) | IC12: (R$) | ID12: (%) | IE12: (R$) | IF12: (R$) | IG12: (%) | IH12: (R$) | II12: (R$) | IJ12: (%) | IK12: (R$) | IL12: (R$) | IM12: (%) | IN12: (R$) | IO12: (R$) | IP12: (%) | IQ12: (R$) | IR12: (R$) | IS12: (%) | IT12: (R$) | IU12: (R$) | IV12: (%)
A13: =QCI!$B13 -> 0 | B13: =QCI!$M13 -> 0 | C13: =IF($B13=0,"",$B13/$B$53*100) | D13: =G13+J13+M13+P13+S13+V13+Y13+AB13+AE13+AH13+AK13+AN13+AQ13+AT13+AW13+AZ13+BC13+BF13+BI13+BL13+BO13+BR13+BU13+BX13+CA13+CD13+CG13+CJ13+CM13+CP13+CS13+CV13+CY13+DB13+DE13+DH13+DK13+DN13+DQ13+DT13+DW13+DZ13+EC13+EF13+EI13+EL13+EO13+ER13+EU13+EX13+FA13+FD13+FG13+FJ13+FM13+FP13+FS13+FV13+FY13+GB13+GE13+GH13+GK13+GN13+GQ13+GT13+GW13+GZ13+HC13+HF13+HI13+HL13+HO13+HR13+HU13+HX13+IA13+ID13+IG13+IJ13+IM13+IP13+IS13+IV13 -> 0 | E13: =Repasse | F13: =Contrapartida | H13: =Repasse | I13: =Contrapartida | K13: =Repasse | L13: =Contrapartida | N13: =Repasse | O13: =Contrapartida | Q13: =Repasse | R13: =Contrapartida | T13: =Repasse | U13: =Contrapartida | W13: =Repasse | X13: =Contrapartida | Z13: =Repasse | AA13: =Contrapartida | AC13: =Repasse | AD13: =Contrapartida | AF13: =Repasse | AG13: =Contrapartida | AI13: =Repasse | AJ13: =Contrapartida | AL13: =Repasse | AM13: =Contrapartida | AO13: =Repasse | AP13: =Contrapartida | AR13: =Repasse | AS13: =Contrapartida | AU13: =Repasse | AV13: =Contrapartida | AX13: =Repasse | AY13: =Contrapartida | BA13: =Repasse | BB13: =Contrapartida | BD13: =Repasse | BE13: =Contrapartida | BG13: =Repasse | BH13: =Contrapartida | BJ13: =Repasse | BK13: =Contrapartida | BM13: =Repasse | BN13: =Contrapartida | BP13: =Repasse | BQ13: =Contrapartida | BS13: =Repasse | BT13: =Contrapartida | BV13: =Repasse | BW13: =Contrapartida | BY13: =Repasse | BZ13: =Contrapartida | CB13: =Repasse | CC13: =Contrapartida | CE13: =Repasse | CF13: =Contrapartida | CH13: =Repasse | CI13: =Contrapartida | CK13: =Repasse | CL13: =Contrapartida | CN13: =Repasse | CO13: =Contrapartida | CQ13: =Repasse | CR13: =Contrapartida | CT13: =Repasse | CU13: =Contrapartida | CW13: =Repasse | CX13: =Contrapartida | CZ13: =Repasse | DA13: =Contrapartida | DC13: =Repasse | DD13: =Contrapartida | DF13: =Repasse | DG13: =Contrapartida | DI13: =Repasse | DJ13: =Contrapartida | DL13: =Repasse | DM13: =Contrapartida | DO13: =Repasse | DP13: =Contrapartida | DR13: =Repasse | DS13: =Contrapartida | DU13: =Repasse | DV13: =Contrapartida | DX13: =Repasse | DY13: =Contrapartida | EA13: =Repasse | EB13: =Contrapartida | ED13: =Repasse | EE13: =Contrapartida | EG13: =Repasse | EH13: =Contrapartida | EJ13: =Repasse | EK13: =Contrapartida | EM13: =Repasse | EN13: =Contrapartida | EP13: =Repasse | EQ13: =Contrapartida | ES13: =Repasse | ET13: =Contrapartida | EV13: =Repasse | EW13: =Contrapartida | EY13: =Repasse | EZ13: =Contrapartida | FB13: =Repasse | FC13: =Contrapartida | FE13: =Repasse | FF13: =Contrapartida | FH13: =Repasse | FI13: =Contrapartida | FK13: =Repasse | FL13: =Contrapartida | FN13: =Repasse | FO13: =Contrapartida | FQ13: =Repasse | FR13: =Contrapartida | FT13: =Repasse | FU13: =Contrapartida | FW13: =Repasse | FX13: =Contrapartida | FZ13: =Repasse | GA13: =Contrapartida | GC13: =Repasse | GD13: =Contrapartida | GF13: =Repasse | GG13: =Contrapartida | GI13: =Repasse | GJ13: =Contrapartida | GL13: =Repasse | GM13: =Contrapartida | GO13: =Repasse | GP13: =Contrapartida | GR13: =Repasse | GS13: =Contrapartida | GU13: =Repasse | GV13: =Contrapartida | GX13: =Repasse | GY13: =Contrapartida | HA13: =Repasse | HB13: =Contrapartida | HD13: =Repasse | HE13: =Contrapartida | HG13: =Repasse | HH13: =Contrapartida | HJ13: =Repasse | HK13: =Contrapartida | HM13: =Repasse | HN13: =Contrapartida | HP13: =Repasse | HQ13: =Contrapartida | HS13: =Repasse | HT13: =Contrapartida | HV13: =Repasse | HW13: =Contrapartida | HY13: =Repasse | HZ13: =Contrapartida | IB13: =Repasse | IC13: =Contrapartida | IE13: =Repasse | IF13: =Contrapartida | IH13: =Repasse | II13: =Contrapartida | IK13: =Repasse | IL13: =Contrapartida | IN13: =Repasse | IO13: =Contrapartida | IQ13: =Repasse | IR13: =Contrapartida | IT13: =Repasse | IU13: =Contrapartida
A14: =QCI!$B14 -> 0 | B14: =QCI!$M14 -> 0 | C14: =IF($B14=0,"",$B14/$B$53*100) | D14: =G14+J14+M14+P14+S14+V14+Y14+AB14+AE14+AH14+AK14+AN14+AQ14+AT14+AW14+AZ14+BC14+BF14+BI14+BL14+BO14+BR14+BU14+BX14+CA14+CD14+CG14+CJ14+CM14+CP14+CS14+CV14+CY14+DB14+DE14+DH14+DK14+DN14+DQ14+DT14+DW14+DZ14+EC14+EF14+EI14+EL14+EO14+ER14+EU14+EX14+FA14+FD14+FG14+FJ14+FM14+FP14+FS14+FV14+FY14+GB14+GE14+GH14+GK14+GN14+GQ14+GT14+GW14+GZ14+HC14+HF14+HI14+HL14+HO14+HR14+HU14+HX14+IA14+ID14+IG14+IJ14+IM14+IP14+IS14+IV14 -> 0 | E14: =Repasse | F14: =Contrapartida | H14: =Repasse | I14: =Contrapartida | K14: =Repasse | L14: =Contrapartida | N14: =Repasse | O14: =Contrapartida | Q14: =Repasse | R14: =Contrapartida | T14: =Repasse | U14: =Contrapartida | W14: =Repasse | X14: =Contrapartida | Z14: =Repasse | AA14: =Contrapartida | AC14: =Repasse | AD14: =Contrapartida | AF14: =Repasse | AG14: =Contrapartida | AI14: =Repasse | AJ14: =Contrapartida | AL14: =Repasse | AM14: =Contrapartida | AO14: =Repasse | AP14: =Contrapartida | AR14: =Repasse | AS14: =Contrapartida | AU14: =Repasse | AV14: =Contrapartida | AX14: =Repasse | AY14: =Contrapartida | BA14: =Repasse | BB14: =Contrapartida | BD14: =Repasse | BE14: =Contrapartida | BG14: =Repasse | BH14: =Contrapartida | BJ14: =Repasse | BK14: =Contrapartida | BM14: =Repasse | BN14: =Contrapartida | BP14: =Repasse | BQ14: =Contrapartida | BS14: =Repasse | BT14: =Contrapartida | BV14: =Repasse | BW14: =Contrapartida | BY14: =Repasse | BZ14: =Contrapartida | CB14: =Repasse | CC14: =Contrapartida | CE14: =Repasse | CF14: =Contrapartida | CH14: =Repasse | CI14: =Contrapartida | CK14: =Repasse | CL14: =Contrapartida | CN14: =Repasse | CO14: =Contrapartida | CQ14: =Repasse | CR14: =Contrapartida | CT14: =Repasse | CU14: =Contrapartida | CW14: =Repasse | CX14: =Contrapartida | CZ14: =Repasse | DA14: =Contrapartida | DC14: =Repasse | DD14: =Contrapartida | DF14: =Repasse | DG14: =Contrapartida | DI14: =Repasse | DJ14: =Contrapartida | DL14: =Repasse | DM14: =Contrapartida | DO14: =Repasse | DP14: =Contrapartida | DR14: =Repasse | DS14: =Contrapartida | DU14: =Repasse | DV14: =Contrapartida | DX14: =Repasse | DY14: =Contrapartida | EA14: =Repasse | EB14: =Contrapartida | ED14: =Repasse | EE14: =Contrapartida | EG14: =Repasse | EH14: =Contrapartida | EJ14: =Repasse | EK14: =Contrapartida | EM14: =Repasse | EN14: =Contrapartida | EP14: =Repasse | EQ14: =Contrapartida | ES14: =Repasse | ET14: =Contrapartida | EV14: =Repasse | EW14: =Contrapartida | EY14: =Repasse | EZ14: =Contrapartida | FB14: =Repasse | FC14: =Contrapartida | FE14: =Repasse | FF14: =Contrapartida | FH14: =Repasse | FI14: =Contrapartida | FK14: =Repasse | FL14: =Contrapartida | FN14: =Repasse | FO14: =Contrapartida | FQ14: =Repasse | FR14: =Contrapartida | FT14: =Repasse | FU14: =Contrapartida | FW14: =Repasse | FX14: =Contrapartida | FZ14: =Repasse | GA14: =Contrapartida | GC14: =Repasse | GD14: =Contrapartida | GF14: =Repasse | GG14: =Contrapartida | GI14: =Repasse | GJ14: =Contrapartida | GL14: =Repasse | GM14: =Contrapartida | GO14: =Repasse | GP14: =Contrapartida | GR14: =Repasse | GS14: =Contrapartida | GU14: =Repasse | GV14: =Contrapartida | GX14: =Repasse | GY14: =Contrapartida | HA14: =Repasse | HB14: =Contrapartida | HD14: =Repasse | HE14: =Contrapartida | HG14: =Repasse | HH14: =Contrapartida | HJ14: =Repasse | HK14: =Contrapartida | HM14: =Repasse | HN14: =Contrapartida | HP14: =Repasse | HQ14: =Contrapartida | HS14: =Repasse | HT14: =Contrapartida | HV14: =Repasse | HW14: =Contrapartida | HY14: =Repasse | HZ14: =Contrapartida | IB14: =Repasse | IC14: =Contrapartida | IE14: =Repasse | IF14: =Contrapartida | IH14: =Repasse | II14: =Contrapartida | IK14: =Repasse | IL14: =Contrapartida | IN14: =Repasse | IO14: =Contrapartida | IQ14: =Repasse | IR14: =Contrapartida | IT14: =Repasse | IU14: =Contrapartida
A15: =QCI!$B15 -> 1 | B15: =QCI!$M15 -> 98237.974 | C15: =IF($B15=0,"",$B15/$B$53*100) -> 16.483986 | D15: =G15+J15+M15+P15+S15+V15+Y15+AB15+AE15+AH15+AK15+AN15+AQ15+AT15+AW15+AZ15+BC15+BF15+BI15+BL15+BO15+BR15+BU15+BX15+CA15+CD15+CG15+CJ15+CM15+CP15+CS15+CV15+CY15+DB15+DE15+DH15+DK15+DN15+DQ15+DT15+DW15+DZ15+EC15+EF15+EI15+EL15+EO15+ER15+EU15+EX15+FA15+FD15+FG15+FJ15+FM15+FP15+FS15+FV15+FY15+GB15+GE15+GH15+GK15+GN15+GQ15+GT15+GW15+GZ15+HC15+HF15+HI15+HL15+HO15+HR15+HU15+HX15+IA15+ID15+IG15+IJ15+IM15+IP15+IS15+IV15 -> 100 | E15: =Repasse | F15: =Contrapartida -> 29471.392 | G15: 30 | H15: =Repasse | I15: =Contrapartida -> 39295.189 | J15: 40 | K15: =Repasse | L15: =Contrapartida -> 19647.595 | M15: 20 | N15: =Repasse | O15: =Contrapartida -> 9823.7974 | P15: 10 | Q15: =Repasse | R15: =Contrapartida -> 0 | T15: =Repasse | U15: =Contrapartida -> 0 | W15: =Repasse | X15: =Contrapartida -> 0 | Z15: =Repasse | AA15: =Contrapartida -> 0 | AC15: =Repasse | AD15: =Contrapartida -> 0 | AF15: =Repasse | AG15: =Contrapartida -> 0 | AI15: =Repasse | AJ15: =Contrapartida -> 0 | AL15: =Repasse | AM15: =Contrapartida -> 0 | AO15: =Repasse | AP15: =Contrapartida -> 0 | AR15: =Repasse | AS15: =Contrapartida -> 0 | AU15: =Repasse | AV15: =Contrapartida -> 0 | AX15: =Repasse | AY15: =Contrapartida -> 0 | BA15: =Repasse | BB15: =Contrapartida -> 0 | BD15: =Repasse | BE15: =Contrapartida -> 0 | BG15: =Repasse | BH15: =Contrapartida -> 0 | BJ15: =Repasse | BK15: =Contrapartida -> 0 | BM15: =Repasse | BN15: =Contrapartida -> 0 | BP15: =Repasse | BQ15: =Contrapartida -> 0 | BS15: =Repasse | BT15: =Contrapartida -> 0 | BV15: =Repasse | BW15: =Contrapartida -> 0 | BY15: =Repasse | BZ15: =Contrapartida -> 0 | CB15: =Repasse | CC15: =Contrapartida -> 0 | CE15: =Repasse | CF15: =Contrapartida -> 0 | CH15: =Repasse | CI15: =Contrapartida -> 0 | CK15: =Repasse | CL15: =Contrapartida -> 0 | CN15: =Repasse | CO15: =Contrapartida -> 0 | CQ15: =Repasse | CR15: =Contrapartida -> 0 | CT15: =Repasse | CU15: =Contrapartida -> 0 | CW15: =Repasse | CX15: =Contrapartida -> 0 | CZ15: =Repasse | DA15: =Contrapartida -> 0 | DC15: =Repasse | DD15: =Contrapartida -> 0 | DF15: =Repasse | DG15: =Contrapartida -> 0 | DI15: =Repasse | DJ15: =Contrapartida -> 0 | DL15: =Repasse | DM15: =Contrapartida -> 0 | DO15: =Repasse | DP15: =Contrapartida -> 0 | DR15: =Repasse | DS15: =Contrapartida -> 0 | DU15: =Repasse | DV15: =Contrapartida -> 0 | DX15: =Repasse | DY15: =Contrapartida -> 0 | EA15: =Repasse | EB15: =Contrapartida -> 0 | ED15: =Repasse | EE15: =Contrapartida -> 0 | EG15: =Repasse | EH15: =Contrapartida -> 0 | EJ15: =Repasse | EK15: =Contrapartida -> 0 | EM15: =Repasse | EN15: =Contrapartida -> 0 | EP15: =Repasse | EQ15: =Contrapartida -> 0 | ES15: =Repasse | ET15: =Contrapartida -> 0 | EV15: =Repasse | EW15: =Contrapartida -> 0 | EY15: =Repasse | EZ15: =Contrapartida -> 0 | FB15: =Repasse | FC15: =Contrapartida -> 0 | FE15: =Repasse | FF15: =Contrapartida -> 0 | FH15: =Repasse | FI15: =Contrapartida -> 0 | FK15: =Repasse | FL15: =Contrapartida -> 0 | FN15: =Repasse | FO15: =Contrapartida -> 0 | FQ15: =Repasse | FR15: =Contrapartida -> 0 | FT15: =Repasse | FU15: =Contrapartida -> 0 | FW15: =Repasse | FX15: =Contrapartida -> 0 | FZ15: =Repasse | GA15: =Contrapartida -> 0 | GC15: =Repasse | GD15: =Contrapartida -> 0 | GF15: =Repasse | GG15: =Contrapartida -> 0 | GI15: =Repasse | GJ15: =Contrapartida -> 0 | GL15: =Repasse | GM15: =Contrapartida -> 0 | GO15: =Repasse | GP15: =Contrapartida -> 0 | GR15: =Repasse | GS15: =Contrapartida -> 0 | GU15: =Repasse | GV15: =Contrapartida -> 0 | GX15: =Repasse | GY15: =Contrapartida -> 0 | HA15: =Repasse | HB15: =Contrapartida -> 0 | HD15: =Repasse | HE15: =Contrapartida -> 0 | HG15: =Repasse | HH15: =Contrapartida -> 0 | HJ15: =Repasse | HK15: =Contrapartida -> 0 | HM15: =Repasse | HN15: =Contrapartida -> 0 | HP15: =Repasse | HQ15: =Contrapartida -> 0 | HS15: =Repasse | HT15: =Contrapartida -> 0 | HV15: =Repasse | HW15: =Contrapartida -> 0 | HY15: =Repasse | HZ15: =Contrapartida -> 0 | IB15: =Repasse | IC15: =Contrapartida -> 0 | IE15: =Repasse | IF15: =Contrapartida -> 0 | IH15: =Repasse | II15: =Contrapartida -> 0 | IK15: =Repasse | IL15: =Contrapartida -> 0 | IN15: =Repasse | IO15: =Contrapartida -> 0 | IQ15: =Repasse | IR15: =Contrapartida -> 0 | IT15: =Repasse | IU15: =Contrapartida -> 0
A16: =QCI!$B16 -> 2 | B16: =QCI!$M16 -> 355705.08 | C16: =IF($B16=0,"",$B16/$B$53*100) -> 59.686061 | D16: =G16+J16+M16+P16+S16+V16+Y16+AB16+AE16+AH16+AK16+AN16+AQ16+AT16+AW16+AZ16+BC16+BF16+BI16+BL16+BO16+BR16+BU16+BX16+CA16+CD16+CG16+CJ16+CM16+CP16+CS16+CV16+CY16+DB16+DE16+DH16+DK16+DN16+DQ16+DT16+DW16+DZ16+EC16+EF16+EI16+EL16+EO16+ER16+EU16+EX16+FA16+FD16+FG16+FJ16+FM16+FP16+FS16+FV16+FY16+GB16+GE16+GH16+GK16+GN16+GQ16+GT16+GW16+GZ16+HC16+HF16+HI16+HL16+HO16+HR16+HU16+HX16+IA16+ID16+IG16+IJ16+IM16+IP16+IS16+IV16 -> 100 | E16: =Repasse | F16: =Contrapartida -> 106711.52 | G16: 30 | H16: =Repasse | I16: =Contrapartida -> 142282.03 | J16: 40 | K16: =Repasse | L16: =Contrapartida -> 71141.016 | M16: 20 | N16: =Repasse | O16: =Contrapartida -> 35570.508 | P16: 10 | Q16: =Repasse | R16: =Contrapartida -> 0 | T16: =Repasse | U16: =Contrapartida -> 0 | W16: =Repasse | X16: =Contrapartida -> 0 | Z16: =Repasse | AA16: =Contrapartida -> 0 | AC16: =Repasse | AD16: =Contrapartida -> 0 | AF16: =Repasse | AG16: =Contrapartida -> 0 | AI16: =Repasse | AJ16: =Contrapartida -> 0 | AL16: =Repasse | AM16: =Contrapartida -> 0 | AO16: =Repasse | AP16: =Contrapartida -> 0 | AR16: =Repasse | AS16: =Contrapartida -> 0 | AU16: =Repasse | AV16: =Contrapartida -> 0 | AX16: =Repasse | AY16: =Contrapartida -> 0 | BA16: =Repasse | BB16: =Contrapartida -> 0 | BD16: =Repasse | BE16: =Contrapartida -> 0 | BG16: =Repasse | BH16: =Contrapartida -> 0 | BJ16: =Repasse | BK16: =Contrapartida -> 0 | BM16: =Repasse | BN16: =Contrapartida -> 0 | BP16: =Repasse | BQ16: =Contrapartida -> 0 | BS16: =Repasse | BT16: =Contrapartida -> 0 | BV16: =Repasse | BW16: =Contrapartida -> 0 | BY16: =Repasse | BZ16: =Contrapartida -> 0 | CB16: =Repasse | CC16: =Contrapartida -> 0 | CE16: =Repasse | CF16: =Contrapartida -> 0 | CH16: =Repasse | CI16: =Contrapartida -> 0 | CK16: =Repasse | CL16: =Contrapartida -> 0 | CN16: =Repasse | CO16: =Contrapartida -> 0 | CQ16: =Repasse | CR16: =Contrapartida -> 0 | CT16: =Repasse | CU16: =Contrapartida -> 0 | CW16: =Repasse | CX16: =Contrapartida -> 0 | CZ16: =Repasse | DA16: =Contrapartida -> 0 | DC16: =Repasse | DD16: =Contrapartida -> 0 | DF16: =Repasse | DG16: =Contrapartida -> 0 | DI16: =Repasse | DJ16: =Contrapartida -> 0 | DL16: =Repasse | DM16: =Contrapartida -> 0 | DO16: =Repasse | DP16: =Contrapartida -> 0 | DR16: =Repasse | DS16: =Contrapartida -> 0 | DU16: =Repasse | DV16: =Contrapartida -> 0 | DX16: =Repasse | DY16: =Contrapartida -> 0 | EA16: =Repasse | EB16: =Contrapartida -> 0 | ED16: =Repasse | EE16: =Contrapartida -> 0 | EG16: =Repasse | EH16: =Contrapartida -> 0 | EJ16: =Repasse | EK16: =Contrapartida -> 0 | EM16: =Repasse | EN16: =Contrapartida -> 0 | EP16: =Repasse | EQ16: =Contrapartida -> 0 | ES16: =Repasse | ET16: =Contrapartida -> 0 | EV16: =Repasse | EW16: =Contrapartida -> 0 | EY16: =Repasse | EZ16: =Contrapartida -> 0 | FB16: =Repasse | FC16: =Contrapartida -> 0 | FE16: =Repasse | FF16: =Contrapartida -> 0 | FH16: =Repasse | FI16: =Contrapartida -> 0 | FK16: =Repasse | FL16: =Contrapartida -> 0 | FN16: =Repasse | FO16: =Contrapartida -> 0 | FQ16: =Repasse | FR16: =Contrapartida -> 0 | FT16: =Repasse | FU16: =Contrapartida -> 0 | FW16: =Repasse | FX16: =Contrapartida -> 0 | FZ16: =Repasse | GA16: =Contrapartida -> 0 | GC16: =Repasse | GD16: =Contrapartida -> 0 | GF16: =Repasse | GG16: =Contrapartida -> 0 | GI16: =Repasse | GJ16: =Contrapartida -> 0 | GL16: =Repasse | GM16: =Contrapartida -> 0 | GO16: =Repasse | GP16: =Contrapartida -> 0 | GR16: =Repasse | GS16: =Contrapartida -> 0 | GU16: =Repasse | GV16: =Contrapartida -> 0 | GX16: =Repasse | GY16: =Contrapartida -> 0 | HA16: =Repasse | HB16: =Contrapartida -> 0 | HD16: =Repasse | HE16: =Contrapartida -> 0 | HG16: =Repasse | HH16: =Contrapartida -> 0 | HJ16: =Repasse | HK16: =Contrapartida -> 0 | HM16: =Repasse | HN16: =Contrapartida -> 0 | HP16: =Repasse | HQ16: =Contrapartida -> 0 | HS16: =Repasse | HT16: =Contrapartida -> 0 | HV16: =Repasse | HW16: =Contrapartida -> 0 | HY16: =Repasse | HZ16: =Contrapartida -> 0 | IB16: =Repasse | IC16: =Contrapartida -> 0 | IE16: =Repasse | IF16: =Contrapartida -> 0 | IH16: =Repasse | II16: =Contrapartida -> 0 | IK16: =Repasse | IL16: =Contrapartida -> 0 | IN16: =Repasse | IO16: =Contrapartida -> 0 | IQ16: =Repasse | IR16: =Contrapartida -> 0 | IT16: =Repasse | IU16: =Contrapartida -> 0
A17: =QCI!$B17 -> 3 | B17: =QCI!$M17 -> 10314.396 | C17: =IF($B17=0,"",$B17/$B$53*100) -> 1.7307193 | D17: =G17+J17+M17+P17+S17+V17+Y17+AB17+AE17+AH17+AK17+AN17+AQ17+AT17+AW17+AZ17+BC17+BF17+BI17+BL17+BO17+BR17+BU17+BX17+CA17+CD17+CG17+CJ17+CM17+CP17+CS17+CV17+CY17+DB17+DE17+DH17+DK17+DN17+DQ17+DT17+DW17+DZ17+EC17+EF17+EI17+EL17+EO17+ER17+EU17+EX17+FA17+FD17+FG17+FJ17+FM17+FP17+FS17+FV17+FY17+GB17+GE17+GH17+GK17+GN17+GQ17+GT17+GW17+GZ17+HC17+HF17+HI17+HL17+HO17+HR17+HU17+HX17+IA17+ID17+IG17+IJ17+IM17+IP17+IS17+IV17 -> 100 | E17: =Repasse | F17: =Contrapartida -> 0 | H17: =Repasse | I17: =Contrapartida -> 0 | K17: =Repasse | L17: =Contrapartida -> 8251.5168 | M17: 80 | N17: =Repasse | O17: =Contrapartida -> 2062.8792 | P17: 20 | Q17: =Repasse | R17: =Contrapartida -> 0 | T17: =Repasse | U17: =Contrapartida -> 0 | W17: =Repasse | X17: =Contrapartida -> 0 | Z17: =Repasse | AA17: =Contrapartida -> 0 | AC17: =Repasse | AD17: =Contrapartida -> 0 | AF17: =Repasse | AG17: =Contrapartida -> 0 | AI17: =Repasse | AJ17: =Contrapartida -> 0 | AL17: =Repasse | AM17: =Contrapartida -> 0 | AO17: =Repasse | AP17: =Contrapartida -> 0 | AR17: =Repasse | AS17: =Contrapartida -> 0 | AU17: =Repasse | AV17: =Contrapartida -> 0 | AX17: =Repasse | AY17: =Contrapartida -> 0 | BA17: =Repasse | BB17: =Contrapartida -> 0 | BD17: =Repasse | BE17: =Contrapartida -> 0 | BG17: =Repasse | BH17: =Contrapartida -> 0 | BJ17: =Repasse | BK17: =Contrapartida -> 0 | BM17: =Repasse | BN17: =Contrapartida -> 0 | BP17: =Repasse | BQ17: =Contrapartida -> 0 | BS17: =Repasse | BT17: =Contrapartida -> 0 | BV17: =Repasse | BW17: =Contrapartida -> 0 | BY17: =Repasse | BZ17: =Contrapartida -> 0 | CB17: =Repasse | CC17: =Contrapartida -> 0 | CE17: =Repasse | CF17: =Contrapartida -> 0 | CH17: =Repasse | CI17: =Contrapartida -> 0 | CK17: =Repasse | CL17: =Contrapartida -> 0 | CN17: =Repasse | CO17: =Contrapartida -> 0 | CQ17: =Repasse | CR17: =Contrapartida -> 0 | CT17: =Repasse | CU17: =Contrapartida -> 0 | CW17: =Repasse | CX17: =Contrapartida -> 0 | CZ17: =Repasse | DA17: =Contrapartida -> 0 | DC17: =Repasse | DD17: =Contrapartida -> 0 | DF17: =Repasse | DG17: =Contrapartida -> 0 | DI17: =Repasse | DJ17: =Contrapartida -> 0 | DL17: =Repasse | DM17: =Contrapartida -> 0 | DO17: =Repasse | DP17: =Contrapartida -> 0 | DR17: =Repasse | DS17: =Contrapartida -> 0 | DU17: =Repasse | DV17: =Contrapartida -> 0 | DX17: =Repasse | DY17: =Contrapartida -> 0 | EA17: =Repasse | EB17: =Contrapartida -> 0 | ED17: =Repasse | EE17: =Contrapartida -> 0 | EG17: =Repasse | EH17: =Contrapartida -> 0 | EJ17: =Repasse | EK17: =Contrapartida -> 0 | EM17: =Repasse | EN17: =Contrapartida -> 0 | EP17: =Repasse | EQ17: =Contrapartida -> 0 | ES17: =Repasse | ET17: =Contrapartida -> 0 | EV17: =Repasse | EW17: =Contrapartida -> 0 | EY17: =Repasse | EZ17: =Contrapartida -> 0 | FB17: =Repasse | FC17: =Contrapartida -> 0 | FE17: =Repasse | FF17: =Contrapartida -> 0 | FH17: =Repasse | FI17: =Contrapartida -> 0 | FK17: =Repasse | FL17: =Contrapartida -> 0 | FN17: =Repasse | FO17: =Contrapartida -> 0 | FQ17: =Repasse | FR17: =Contrapartida -> 0 | FT17: =Repasse | FU17: =Contrapartida -> 0 | FW17: =Repasse | FX17: =Contrapartida -> 0 | FZ17: =Repasse | GA17: =Contrapartida -> 0 | GC17: =Repasse | GD17: =Contrapartida -> 0 | GF17: =Repasse | GG17: =Contrapartida -> 0 | GI17: =Repasse | GJ17: =Contrapartida -> 0 | GL17: =Repasse | GM17: =Contrapartida -> 0 | GO17: =Repasse | GP17: =Contrapartida -> 0 | GR17: =Repasse | GS17: =Contrapartida -> 0 | GU17: =Repasse | GV17: =Contrapartida -> 0 | GX17: =Repasse | GY17: =Contrapartida -> 0 | HA17: =Repasse | HB17: =Contrapartida -> 0 | HD17: =Repasse | HE17: =Contrapartida -> 0 | HG17: =Repasse | HH17: =Contrapartida -> 0 | HJ17: =Repasse | HK17: =Contrapartida -> 0 | HM17: =Repasse | HN17: =Contrapartida -> 0 | HP17: =Repasse | HQ17: =Contrapartida -> 0 | HS17: =Repasse | HT17: =Contrapartida -> 0 | HV17: =Repasse | HW17: =Contrapartida -> 0 | HY17: =Repasse | HZ17: =Contrapartida -> 0 | IB17: =Repasse | IC17: =Contrapartida -> 0 | IE17: =Repasse | IF17: =Contrapartida -> 0 | IH17: =Repasse | II17: =Contrapartida -> 0 | IK17: =Repasse | IL17: =Contrapartida -> 0 | IN17: =Repasse | IO17: =Contrapartida -> 0 | IQ17: =Repasse | IR17: =Contrapartida -> 0 | IT17: =Repasse | IU17: =Contrapartida -> 0
A18: =QCI!$B18 -> 4 | B18: =QCI!$M18 -> 131702.61 | C18: =IF($B18=0,"",$B18/$B$53*100) -> 22.099234 | D18: =G18+J18+M18+P18+S18+V18+Y18+AB18+AE18+AH18+AK18+AN18+AQ18+AT18+AW18+AZ18+BC18+BF18+BI18+BL18+BO18+BR18+BU18+BX18+CA18+CD18+CG18+CJ18+CM18+CP18+CS18+CV18+CY18+DB18+DE18+DH18+DK18+DN18+DQ18+DT18+DW18+DZ18+EC18+EF18+EI18+EL18+EO18+ER18+EU18+EX18+FA18+FD18+FG18+FJ18+FM18+FP18+FS18+FV18+FY18+GB18+GE18+GH18+GK18+GN18+GQ18+GT18+GW18+GZ18+HC18+HF18+HI18+HL18+HO18+HR18+HU18+HX18+IA18+ID18+IG18+IJ18+IM18+IP18+IS18+IV18 -> 100 | E18: =Repasse | F18: =Contrapartida -> 0 | G18: 0 | H18: =Repasse | I18: =Contrapartida -> 65851.303 | J18: 50 | K18: =Repasse | L18: =Contrapartida -> 52681.043 | M18: 40 | N18: =Repasse | O18: =Contrapartida -> 13170.261 | P18: 10 | Q18: =Repasse | R18: =Contrapartida -> 0 | T18: =Repasse | U18: =Contrapartida -> 0 | W18: =Repasse | X18: =Contrapartida -> 0 | Z18: =Repasse | AA18: =Contrapartida -> 0 | AC18: =Repasse | AD18: =Contrapartida -> 0 | AF18: =Repasse | AG18: =Contrapartida -> 0 | AI18: =Repasse | AJ18: =Contrapartida -> 0 | AL18: =Repasse | AM18: =Contrapartida -> 0 | AO18: =Repasse | AP18: =Contrapartida -> 0 | AR18: =Repasse | AS18: =Contrapartida -> 0 | AU18: =Repasse | AV18: =Contrapartida -> 0 | AX18: =Repasse | AY18: =Contrapartida -> 0 | BA18: =Repasse | BB18: =Contrapartida -> 0 | BD18: =Repasse | BE18: =Contrapartida -> 0 | BG18: =Repasse | BH18: =Contrapartida -> 0 | BJ18: =Repasse | BK18: =Contrapartida -> 0 | BM18: =Repasse | BN18: =Contrapartida -> 0 | BP18: =Repasse | BQ18: =Contrapartida -> 0 | BS18: =Repasse | BT18: =Contrapartida -> 0 | BV18: =Repasse | BW18: =Contrapartida -> 0 | BY18: =Repasse | BZ18: =Contrapartida -> 0 | CB18: =Repasse | CC18: =Contrapartida -> 0 | CE18: =Repasse | CF18: =Contrapartida -> 0 | CH18: =Repasse | CI18: =Contrapartida -> 0 | CK18: =Repasse | CL18: =Contrapartida -> 0 | CN18: =Repasse | CO18: =Contrapartida -> 0 | CQ18: =Repasse | CR18: =Contrapartida -> 0 | CT18: =Repasse | CU18: =Contrapartida -> 0 | CW18: =Repasse | CX18: =Contrapartida -> 0 | CZ18: =Repasse | DA18: =Contrapartida -> 0 | DC18: =Repasse | DD18: =Contrapartida -> 0 | DF18: =Repasse | DG18: =Contrapartida -> 0 | DI18: =Repasse | DJ18: =Contrapartida -> 0 | DL18: =Repasse | DM18: =Contrapartida -> 0 | DO18: =Repasse | DP18: =Contrapartida -> 0 | DR18: =Repasse | DS18: =Contrapartida -> 0 | DU18: =Repasse | DV18: =Contrapartida -> 0 | DX18: =Repasse | DY18: =Contrapartida -> 0 | EA18: =Repasse | EB18: =Contrapartida -> 0 | ED18: =Repasse | EE18: =Contrapartida -> 0 | EG18: =Repasse | EH18: =Contrapartida -> 0 | EJ18: =Repasse | EK18: =Contrapartida -> 0 | EM18: =Repasse | EN18: =Contrapartida -> 0 | EP18: =Repasse | EQ18: =Contrapartida -> 0 | ES18: =Repasse | ET18: =Contrapartida -> 0 | EV18: =Repasse | EW18: =Contrapartida -> 0 | EY18: =Repasse | EZ18: =Contrapartida -> 0 | FB18: =Repasse | FC18: =Contrapartida -> 0 | FE18: =Repasse | FF18: =Contrapartida -> 0 | FH18: =Repasse | FI18: =Contrapartida -> 0 | FK18: =Repasse | FL18: =Contrapartida -> 0 | FN18: =Repasse | FO18: =Contrapartida -> 0 | FQ18: =Repasse | FR18: =Contrapartida -> 0 | FT18: =Repasse | FU18: =Contrapartida -> 0 | FW18: =Repasse | FX18: =Contrapartida -> 0 | FZ18: =Repasse | GA18: =Contrapartida -> 0 | GC18: =Repasse | GD18: =Contrapartida -> 0 | GF18: =Repasse | GG18: =Contrapartida -> 0 | GI18: =Repasse | GJ18: =Contrapartida -> 0 | GL18: =Repasse | GM18: =Contrapartida -> 0 | GO18: =Repasse | GP18: =Contrapartida -> 0 | GR18: =Repasse | GS18: =Contrapartida -> 0 | GU18: =Repasse | GV18: =Contrapartida -> 0 | GX18: =Repasse | GY18: =Contrapartida -> 0 | HA18: =Repasse | HB18: =Contrapartida -> 0 | HD18: =Repasse | HE18: =Contrapartida -> 0 | HG18: =Repasse | HH18: =Contrapartida -> 0 | HJ18: =Repasse | HK18: =Contrapartida -> 0 | HM18: =Repasse | HN18: =Contrapartida -> 0 | HP18: =Repasse | HQ18: =Contrapartida -> 0 | HS18: =Repasse | HT18: =Contrapartida -> 0 | HV18: =Repasse | HW18: =Contrapartida -> 0 | HY18: =Repasse | HZ18: =Contrapartida -> 0 | IB18: =Repasse | IC18: =Contrapartida -> 0 | IE18: =Repasse | IF18: =Contrapartida -> 0 | IH18: =Repasse | II18: =Contrapartida -> 0 | IK18: =Repasse | IL18: =Contrapartida -> 0 | IN18: =Repasse | IO18: =Contrapartida -> 0 | IQ18: =Repasse | IR18: =Contrapartida -> 0 | IT18: =Repasse | IU18: =Contrapartida -> 0
A19: =QCI!$B19 -> 0 | B19: =QCI!$M19 -> 0 | C19: =IF($B19=0,"",$B19/$B$53*100) | D19: =G19+J19+M19+P19+S19+V19+Y19+AB19+AE19+AH19+AK19+AN19+AQ19+AT19+AW19+AZ19+BC19+BF19+BI19+BL19+BO19+BR19+BU19+BX19+CA19+CD19+CG19+CJ19+CM19+CP19+CS19+CV19+CY19+DB19+DE19+DH19+DK19+DN19+DQ19+DT19+DW19+DZ19+EC19+EF19+EI19+EL19+EO19+ER19+EU19+EX19+FA19+FD19+FG19+FJ19+FM19+FP19+FS19+FV19+FY19+GB19+GE19+GH19+GK19+GN19+GQ19+GT19+GW19+GZ19+HC19+HF19+HI19+HL19+HO19+HR19+HU19+HX19+IA19+ID19+IG19+IJ19+IM19+IP19+IS19+IV19 -> 0 | E19: =Repasse | F19: =Contrapartida | H19: =Repasse | I19: =Contrapartida | K19: =Repasse | L19: =Contrapartida | N19: =Repasse | O19: =Contrapartida | Q19: =Repasse | R19: =Contrapartida | T19: =Repasse | U19: =Contrapartida | W19: =Repasse | X19: =Contrapartida | Z19: =Repasse | AA19: =Contrapartida | AC19: =Repasse | AD19: =Contrapartida | AF19: =Repasse | AG19: =Contrapartida | AI19: =Repasse | AJ19: =Contrapartida | AL19: =Repasse | AM19: =Contrapartida | AO19: =Repasse | AP19: =Contrapartida | AR19: =Repasse | AS19: =Contrapartida | AU19: =Repasse | AV19: =Contrapartida | AX19: =Repasse | AY19: =Contrapartida | BA19: =Repasse | BB19: =Contrapartida | BD19: =Repasse | BE19: =Contrapartida | BG19: =Repasse | BH19: =Contrapartida | BJ19: =Repasse | BK19: =Contrapartida | BM19: =Repasse | BN19: =Contrapartida | BP19: =Repasse | BQ19: =Contrapartida | BS19: =Repasse | BT19: =Contrapartida | BV19: =Repasse | BW19: =Contrapartida | BY19: =Repasse | BZ19: =Contrapartida | CB19: =Repasse | CC19: =Contrapartida | CE19: =Repasse | CF19: =Contrapartida | CH19: =Repasse | CI19: =Contrapartida | CK19: =Repasse | CL19: =Contrapartida | CN19: =Repasse | CO19: =Contrapartida | CQ19: =Repasse | CR19: =Contrapartida | CT19: =Repasse | CU19: =Contrapartida | CW19: =Repasse | CX19: =Contrapartida | CZ19: =Repasse | DA19: =Contrapartida | DC19: =Repasse | DD19: =Contrapartida | DF19: =Repasse | DG19: =Contrapartida | DI19: =Repasse | DJ19: =Contrapartida | DL19: =Repasse | DM19: =Contrapartida | DO19: =Repasse | DP19: =Contrapartida | DR19: =Repasse | DS19: =Contrapartida | DU19: =Repasse | DV19: =Contrapartida | DX19: =Repasse | DY19: =Contrapartida | EA19: =Repasse | EB19: =Contrapartida | ED19: =Repasse | EE19: =Contrapartida | EG19: =Repasse | EH19: =Contrapartida | EJ19: =Repasse | EK19: =Contrapartida | EM19: =Repasse | EN19: =Contrapartida | EP19: =Repasse | EQ19: =Contrapartida | ES19: =Repasse | ET19: =Contrapartida | EV19: =Repasse | EW19: =Contrapartida | EY19: =Repasse | EZ19: =Contrapartida | FB19: =Repasse | FC19: =Contrapartida | FE19: =Repasse | FF19: =Contrapartida | FH19: =Repasse | FI19: =Contrapartida | FK19: =Repasse | FL19: =Contrapartida | FN19: =Repasse | FO19: =Contrapartida | FQ19: =Repasse | FR19: =Contrapartida | FT19: =Repasse | FU19: =Contrapartida | FW19: =Repasse | FX19: =Contrapartida | FZ19: =Repasse | GA19: =Contrapartida | GC19: =Repasse | GD19: =Contrapartida | GF19: =Repasse | GG19: =Contrapartida | GI19: =Repasse | GJ19: =Contrapartida | GL19: =Repasse | GM19: =Contrapartida | GO19: =Repasse | GP19: =Contrapartida | GR19: =Repasse | GS19: =Contrapartida | GU19: =Repasse | GV19: =Contrapartida | GX19: =Repasse | GY19: =Contrapartida | HA19: =Repasse | HB19: =Contrapartida | HD19: =Repasse | HE19: =Contrapartida | HG19: =Repasse | HH19: =Contrapartida | HJ19: =Repasse | HK19: =Contrapartida | HM19: =Repasse | HN19: =Contrapartida | HP19: =Repasse | HQ19: =Contrapartida | HS19: =Repasse | HT19: =Contrapartida | HV19: =Repasse | HW19: =Contrapartida | HY19: =Repasse | HZ19: =Contrapartida | IB19: =Repasse | IC19: =Contrapartida | IE19: =Repasse | IF19: =Contrapartida | IH19: =Repasse | II19: =Contrapartida | IK19: =Repasse | IL19: =Contrapartida | IN19: =Repasse | IO19: =Contrapartida | IQ19: =Repasse | IR19: =Contrapartida | IT19: =Repasse | IU19: =Contrapartida
