Workbook

Sheet PISOS
A1: QUANTITATIVO GERAL PISO TÁTIL E PISO PAVER
A2: CALÇADA | B2: EXTENSÃO CALÇADA (m) | C2: EXTENSÃO DO PISO TÁTIL (m) | D2: QUANTIDADE DE MEIO FIO 12CM A SER DESCONTADO | E2: EXTENSÃO CALÇADA EXCLUÍDO MEIO FIO E INCLUSO LIMPA RODA (m) | F2: LARGURA CALÇADA EXCLUSO MEIO FIO (m) | G2: ÁREA CALÇADA EXCLUSO MEIO FIO E INCLUSO LIMPA RODA (m²) | H2: QUANTIDADE DE LIMPA RODAS (UNID.) | I2: LIMPA RODA 0,57m² (m²) | J2: ÁREA DA CALÇADA FORA MEIO FIO E LIMPA RODAS (m²) | K2: QUANT. DE RAMPAS | L2: QUANT. DE PISO TÁTIL ALERTA EM MUDANÇA DE DIREÇÃO | M2: QUANT. DE POSTES | N2: ÁREA DO PISO TÁTIL ALERTA EXTRA (m²) | O2: ÁREA DO PISO TÁTIL ALERTA (m²) | P2: ÁREA DO PISO TÁTIL DIRECIONAL EXTRA (m²) | Q2: ÁREA DO PISO TÁTIL DIRECIONAL (m²) | R2: ÁREA TOTAL PISO TÁTIL (m²) | S2: ÁREA TOTAL PAVER EXTRA (m²) | T2: ÁREA TOTAL PAVER (m²)
A3: Q1 | B3: 232 | D3: 3 | E3: =B3-(D3*0.12) -> 231.64 | F3: 1.88 | G3: =(E3*F3) -> 435.4832 | H3: 3 | I3: =0.57*H3 -> 1.71 | J3: =G3-I3 -> 433.7732 | K3: 4 | L3: 3 | M3: 0 | N3: 0 | O3: =((((2*F3+1.2)*K3)+(L3*0.4+M3*1.8))*0.4)+N3 -> 8.416 | P3: 0 | Q3: =((B3-((1.08+0.12)*H3)-5.6*K3)*0.4)+P3 -> 82.4 | R3: =SUM(O3,Q3) -> 90.816 | S3: 0 | T3: =J3-R3+S3 -> 342.9572
A4: Q2 | B4: 232 | D4: 3 | E4: =B4-(D4*0.12) -> 231.64 | F4: 1.88 | G4: =(E4*F4) -> 435.4832 | H4: 3 | I4: =0.57*H4 -> 1.71 | J4: =G4-I4 -> 433.7732 | K4: 4 | L4: 3 | M4: 8 | N4: 0 | O4: =((((2*F4+1.2)*K4)+(L4*0.4+M4*1.8))*0.4)+N4 -> 14.176 | P4: 0 | Q4: =((B4-((1.08+0.12)*H4)-5.6*K4)*0.4)+P4 -> 82.4 | R4: =SUM(O4,Q4) -> 96.576 | S4: 0 | T4: =J4-R4+S4 -> 337.1972
A5: Q3 | B5: 0 | D5: 0 | E5: =B5-(D5*0.12) -> 0 | F5: 0 | G5: =(E5*F5) -> 0 | H5: 0 | I5: =0.57*H5 -> 0 | J5: =G5-I5 -> 0 | K5: 0 | L5: 0 | M5: 0 | N5: 0 | O5: =((((2*F5+1.2)*K5)+(L5*0.4+M5*1.8))*0.4)+N5 -> 0 | P5: 0 | Q5: =((B5-((1.08+0.12)*H5)-5.6*K5)*0.4)+P5 -> 0 | R5: =SUM(O5,Q5) -> 0 | S5: 0 | T5: =J5-R5+S5 -> 0
A6: Q4 | B6: 0 | D6: 0 | E6: =B6-(D6*0.12) -> 0 | F6: 0 | G6: =(E6*F6) -> 0 | H6: 0 | I6: =0.57*H6 -> 0 | J6: =G6-I6 -> 0 | K6: 0 | L6: 0 | M6: 0 | N6: 0 | O6: =((((2*F6+1.2)*K6)+(L6*0.4+M6*1.8))*0.4)+N6 -> 0 | P6: 0 | Q6: =((B6-((1.08+0.12)*H6)-5.6*K6)*0.4)+P6 -> 0 | R6: =SUM(O6,Q6) -> 0 | S6: 0 | T6: =J6-R6+S6 -> 0
I7: =SUM(I3:I6) -> 3.42 | J7: =SUM(J3:J6) -> 867.5464 | O7: =SUM(O3:O6) -> 22.592 | Q7: =SUM(Q3:Q6) -> 164.8 | R7: =SUM(R3:R6) -> 187.392 | T7: =J7-R7 -> 680.1544

Sheet MEIO FIO
A1: QUANTITATIVO MEIO FIO
B2: (m)
A3: Q1 =
A4: Q2=
A5: Q3=
A6: Q4
A7: Q5 | B7: 0
A8: Q6

Sheet PAVIMENTAÇÃO
A2: PAVIMENTAÇÃO
G3: QTDADE | H3: UNIDADE
A4: EXTENSÃO DO PAVIMENTO | G4: 232 | H4: m
A5: LARGURA RUA | G5: 8 | H5: m
A6: ÁREA LIMPA RODAS TOTAL= | G6: 5.1 | H6: unid.
A7: ÁREA DE PAVIMENTAÇÃO | G7: =G5*G4+G6 -> 1861.1 | H7: m²
A8: REVESTIMENTO CBUQ Esp. 4CM - 2,5T/M³ | G8: =G7*0.04*2.5 -> 186.11 | H8: T
A9: ALÍQUOTA DE CAP UTILIZADO = | G9: 5.75 | H9: %
A10: FORNECIMENTO DE CAP 50/70 | G10: =G8*G9% -> 10.701325 | H10: T
A11: MEIO FIO 15x12x30x100cm (Fck = 25.0 MPa) | G11: 470.58 | H11: m
A12: BASE DE BRITA GRADUADA COMPACTADA esp 10cm | G12: =G4*G13*0.1+G6 -> 194.18 | H12: m³
A13: BRITA LARGURA CONSIDERADA = | G13: 8.15 | H13: m
A14: SUB. BASE MACADAME COMPACTADA esp 13cm | G14: =G4*G15*0.13+G6 -> 261.46 | H14: m³
A15: SUBA BASE MACAME LARGURA DE PISTA EQUIVALENTE= | G15: 8.5 | H15: m
A16: PINTURA DE LIGAÇAO COM EMUSÃO ASFALTICA RR - 2C | G16: =G7 -> 1861.1 | H16: m²
A17: IMPRIMAÇÃO COM ASFALTO DILUÍDO CM-30 | G17: =G7 -> 1861.1 | H17: m²
A18: LARGURA CONSIDERADA PARA CALCULO REGULARIZAÇÃO EQUIVALENTE= | G18: 8.69 | H18: m
A19: REGULARIZAÇÃO DO SUB-LEITO E COMPACT. (M. NIVELADORA) | G19: =G4*G18+G6 -> 2021.18 | H19: m²

Sheet DRENAGEM
A1: DRENAGEM | H1: ∅ DN | I1: DIÂM EXTERNO | J1: Área Tubo (m²)
E2: QTDADE | F2: UNID. | H2: 30 | I2: 37 | J2: =(PI()*(((I2/2)/100)^2)) -> 0.10752101
H3: 40 | I3: 48 | J3: =(PI()*(((I3/2)/100)^2)) -> 0.18095574
A4: CAIXA DE BOCA DE LOBO | E4: 12 | F4: unid. | H4: 50 | I4: 60 | J4: =(PI()*(((I4/2)/100)^2)) -> 0.28274334
A5: CAIXA DE LIGAÇÃO | E5: 6 | F5: unid. | H5: 60 | I5: 71.1 | J5: =(PI()*(((I5/2)/100)^2)) -> 0.39703526
H6: 80 | I6: 93 | J6: =(PI()*(((I6/2)/100)^2)) -> 0.67929087
H7: 100 | I7: 120 | J7: =(PI()*(((I7/2)/100)^2)) -> 1.1309734
H8: 120 | I8: 144 | J8: =(PI()*(((I8/2)/100)^2)) -> 1.6286016
A9: CÁLCULO VOLUME CORTE ATERRO | E9: QTDADE | F9: UNID. | H9: ESCARIF (m³) | I9: REATERRO (m³) | J9: X | K9: Y | L9: ESCAR(M³) | M9: REAT (M³)
A10: TUBOS ∅30cm | E10: 72 | F10: m | H10: =E10*L10 -> 79.2 | I10: =E10*M10 -> 71.458487 | J10: 1 | K10: 1.1 | L10: =J10*K10 -> 1.1 | M10: =L10-J2 -> 0.99247899
A11: TUBOS ∅40cm | E11: 0 | F11: m | H11: =E11*L11 -> 0 | I11: =E11*M11 -> 0 | J11: 1.1 | K11: 1.2 | L11: =J11*K11 -> 1.32 | M11: =L11-J3 -> 1.1390443
A12: TUBOS ∅50cm | E12: 0 | F12: m | H12: =E12*L12 -> 0 | I12: =E12*M12 -> 0 | J12: 1.4 | K12: 1.3 | L12: =J12*K12 -> 1.82 | M12: =L12-J4 -> 1.5372567
A13: TUBOS ∅60cm | E13: 0 | F13: m | H13: =E13*L13 -> 0 | I13: =E13*M13 -> 0 | J13: 1.5 | K13: 1.4 | L13: =J13*K13 -> 2.1 | M13: =L13-J5 -> 1.7029647
A14: TUBOS ∅80cm | E14: 0 | F14: m | H14: =E14*L14 -> 0 | I14: =E14*M14 -> 0 | J14: 1.8 | K14: 1.6 | L14: =J14*K14 -> 2.88 | M14: =L14-J6 -> 2.2007091
A15: TUBOS ∅100cm | E15: 0 | F15: m | H15: =E15*L15 -> 0 | I15: =E15*M15 -> 0 | J15: 2.1 | K15: 1.9 | L15: =J15*K15 -> 3.99 | M15: =L15-J7 -> 2.8590266
A16: TUBOS ∅120cm | E16: 0 | F16: m | H16: =E16*L16 -> 0 | I16: =E16*M16 -> 0 | J16: 2.3 | K16: 2.1 | L16: =J16*K16 -> 4.83 | M16: =L16-J8 -> 3.2013984
K17: CAIXA DE LIG | L17: 1.2
K18: BOCA LOBO | L18: 1.2
D19: EXT. TOTAL TUBOS= | E19: =SUM(E10:E17) -> 72 | F19: m | G19: TOTAL= | H19: =SUM(H10:H16)+(L17*E5)+(L18*E4) -> 100.8 | I19: =SUM(I10:I16) -> 71.458487
D20: COLCHÃO DE BRITA (0,50X0,10)= | E20: =(E19-E10)*0.5*0.1 -> 0 | F20: m³

Sheet CALÇADA
A1: ÁREA DA CALÇADA
G2: QTDADE | H2: UNIDADE
A3: ÁREA TOTAL DA CALÇADA | G3: =PISOS!J7 -> 867.5464 | H3: m²
A4: PISO TÁTIL ALERTA | G4: =PISOS!O7 -> 22.592 | H4: m²
A5: PISO TÁTIL DIRECIONAL | G5: =PISOS!Q7 -> 164.8 | H5: m²
A6: PISO TÁTIL TOTAL | G6: =PISOS!R7 -> 187.392 | H6: m²
A7: PISO BLOCO DE CONCRETO PAVER | G7: =PISOS!T7 -> 680.1544 | H7: m²
A8: REGULAR. E COMPACT. COM LASTRO DE PÓ DE BRITA ESP 4cm | G8: =G3*0.04 -> 34.701856 | H8: m³
A9: COLCHÃO DE AREIA COMPACTADO ESP 4cm | G9: =G3*0.04 -> 34.701856 | H9: m³
A10: REGULARIZAÇÃO MECÂNICA | G10: =G3 -> 867.5464 | H10: m²

Sheet SINALIZAÇÃO
A1: SINALIZAÇÃO HORIZONTAL E VERTICAL
G2: QTDADE | H2: UNIDADE
A3: EXTENSÃO FAIXA AMARELA TRACEJADA | G3: 151.13 | H3: m
A4: QUANTIDADE DE FAIXA CONTÍNUA 15,00m | G4: 4 | H4: unid.
A5: ÁREA DE PINTURA FAIXA AMARELA EXTRA | G5: 0 | H5: m²
A6: ÁREA DE PINTURA DE FAIXA AMARELA | G6: =((G3/3+G4*15)*G7)+G5 -> 11.037667 | H6: m²
A7: LARGURA DA FAIXA | G7: 0.1 | H7: m
A8: QUANTIDADE DE PARADAS PARA PEDESTRES | G8: 2 | H8: Unid.
A9: PINTURA DE FAIXA DE PEDESTRE EXTRA | G9: 0 | H9: m²
A10: PINTURA DE FAIXA DE PEDESTRE | G10: =(9.6*G8)+G9 -> 19.2 | H10: m²
A11: QUANTIDADE DE FAIXA DE RETENÇÃO 4,00m | G11: 4 | H11: unid.
A12: ÁREA DE PINTURA DE FAIXA RETENÇÃO | G12: =G11*2 -> 8 | H12: m²
A13: ÁREA DE PINTURA DE FAIXA DE RETENÇÃO EXTRA | G13: 0 | H13: m²
A14: ÁREA TOTAL PINTURA DE FAIXA DE PEDESTRE BRANCA | G14: =SUM(G10,G12,G13) -> 27.2 | H14: m²
A15: ÁREA TOTAL DE PINTURA REFLETIVA | G15: =G14+G6 -> 38.237667 | H15: m²
A16: PLACA PASSAGEM DE PEDESTRE CÓDIGO A-32 L=0,50m | G16: 4 | H16: unid.
A17: PLACA PARE CÓDIGO - R - 1 L = 0,25m | G17: 4 | H17: unid.
A18: INDICAÇÃO DE RUA | G18: 1 | H18: unid.
A19: PLACA LIMITE DE VELOCIDADE 40KM/H CÓDIGO R - 19 L=0,50m | G19: 2 | H19: Unid.

Sheet PISO TÁTIL CÁLCULO POR ÁREAS
A1: QUANTITATIVO GERAL PISO TÁTIL E PISO PAVER
A2: CALÇADA | B2: EXTENSÃO DA CALÇADA COM PISO TÁTIL EXCETO LIMPA RODA (m) | C2: ÁREA DE MEIO FIO (L x 0,12)(M²) | D2: SOMATÓRIO DAS LARGURAS DAS CALÇADAS ONDE SERÃO FEITAS RAMPAS (m) | E2: ÁREA CALÇADA TOTAL HACHURAS DESENHO (m²) | F2: QUANTIDADE DE LIMPA RODAS (UNID.) | G2: LIMPA RODA 0,57m² (m²) | H2: ÁREA DA CALÇADA FORA MEIO FIO (m²) | I2: QUANT. DE RAMPAS | J2: QUANT. DE PISO TÁTIL ALERTA EM MUDANÇA DE DIREÇÃO | K2: QUANT. DE POSTES | L2: ÁREA DO PISO TÁTIL ALERTA EXTRA (m²) | M2: ÁREA DO PISO TÁTIL ALERTA (m²) | N2: ÁREA DO PISO TÁTIL DIRECIONAL EXTRA (m²) | O2: ÁREA DO PISO TÁTIL DIRECIONAL (m²) | P2: ÁREA TOTAL PISO TÁTIL (m²) | Q2: ÁREA TOTAL PAVER EXTRA (m²) | R2: ÁREA TOTAL PAVER (m²)
A3: Q1 | B3: 235.53 | C3: ='MEIO FIO'!B3*0.12 -> 0 | D3: 4 | E3: 474.2 | F3: 1 | G3: =0.57*F3 -> 0.57 | H3: =E3-C3 -> 474.2 | I3: 2 | J3: 1 | K3: 6 | L3: 0 | M3: =((((2*(D3-I3*0.12)+1.2))+(J3*0.4+K3*1.56)*0.4)+L3) -> 12.624 | N3: 0 | O3: =((B3-5.6*I3)*0.4)+N3+0.8*F3 -> 90.532 | P3: =SUM(M3,O3) -> 103.156 | Q3: 0 | R3: =H3-P3+Q3 -> 371.044
A4: Q2 | B4: 59.74 | C4: ='MEIO FIO'!B4*0.12 -> 0 | D4: 4.12 | E4: 136.88 | F4: 3 | G4: =0.57*F4 -> 1.71 | H4: =E4-G4 -> 135.17 | I4: 2 | J4: 3 | K4: 1 | L4: 0 | M4: =((((2*(D4-I4*0.12)+1.2))+(J4*0.4+K4*1.56)*0.4)+L4) -> 10.064 | N4: 0 | O4: =((B4-5.6*I4)*0.4)+N4+0.8*F4 -> 21.816 | P4: =SUM(M4,O4) -> 31.88 | Q4: 0 | R4: =H4-P4+Q4 -> 103.29
A5: Q3 | B5: 203.37 | C5: ='MEIO FIO'!B5*0.12 -> 0 | D5: 3.55 | E5: 358.52 | F5: 3 | G5: =0.57*F5 -> 1.71 | H5: =E5-G5 -> 356.81 | I5: 2 | J5: 4 | K5: 0 | L5: 0 | M5: =((((2*(D5-I5*0.12)+1.2))+(J5*0.4+K5*1.56)*0.4)+L5) -> 8.46 | N5: 1.5 | O5: =((B5-5.6*I5)*0.4)+N5+0.8*F5 -> 80.768 | P5: =SUM(M5,O5) -> 89.228 | Q5: 0 | R5: =H5-P5+Q5 -> 267.582
A6: Q4 | B6: 74.28 | C6: ='MEIO FIO'!B6*0.12 -> 0 | D6: 4 | E6: 138.73 | F6: 3 | G6: =0.57*F6 -> 1.71 | H6: =E6-G6 -> 137.02 | I6: 2 | J6: 3 | K6: 0 | L6: 0 | M6: =((((2*(D6-I6*0.12)+1.2))+(J6*0.4+K6*1.56)*0.4)+L6) -> 9.2 | N6: 0 | O6: =((B6-5.6*I6)*0.4)+N6+0.8*F6 -> 27.632 | P6: =SUM(M6,O6) -> 36.832 | Q6: 0 | R6: =H6-P6+Q6 -> 100.188
E7: =SUM(E3:E6) -> 1108.33 | G7: =SUM(G3:G6) -> 5.7 | H7: =SUM(H3:H6) -> 1103.2 | M7: =SUM(M3:M6) -> 40.348 | O7: =SUM(O3:O6) -> 220.748 | P7: =SUM(P3:P6) -> 261.096 | R7: =H7-P7 -> 842.104
