Workbook
Name ContraPart1: QCI!$M$53-SUMIF(QCI!$G$13:$G$52,,QCI!$M$13:$M$52)
Name ContraPart1: #REF!-SUMIF(#REF!,,#REF!)
Name ContraPart2: MAX(QCI!$L$6-SUM(QCI!$J$13:$L$52),0)
Name ContraPart2: MAX(#REF!-SUM(#REF!),0)
Name Contrapartida: IF(SUM(QCI!$I1:$L1)=0,"",SUM(QCI!$I1:$L1)*(Cronograma!B1/100))
Name CPAutomatica: IF(QCI!$M1="","",IF(AND(QCI!$J1="",QCI!$K1="",QCI!$L1="",QCI!ContraPart1<=0),"",IF(AND(QCI!$J1="",QCI!$K1="",QCI!$L1=""),QCI!$M1/QCI!ContraPart1*QCI!ContraPart2,"")))
Name CPAuxiliar: IF(QCI!$M$53<QCI!$M$4+QCI!$M$6,QCI!$M$53*(((QCI!$M$6*100)/(QCI!$M$4+QCI!$M$6))/100),QCI!$M$53-QCI!$M$4)
Name Incidencia: IF(QCI!$M1=0,0,QCI!$M1*100/QCI!$M$53)
Name matriz: #REF!
Name matriz2: #REF!
Name Parcial0: OFFSET(ValorTotal0,1,0,MATCH(VLOOKUP("Macroitem",TabAux,1,FALSE),TabAux,0)-1,1)
Name Parcial1: OFFSET(ValorTotal1,1,0,MATCH(VLOOKUP("Macroitem",TabAux,1,FALSE),TabAux,0)-1,1)
Name Parcial2: OFFSET(ValorTotal2,1,0,MATCH(VLOOKUP("Macroitem",TabAux,1,FALSE),TabAux,0)-1,1)
Name ParcialAc: OFFSET(ValorTotalAc,1,0,MATCH(VLOOKUP("Macroitem",TabAux,1,FALSE),TabAux,0)-1,1)
Name ParcialPer: OFFSET(ValorTotalPer,1,0,MATCH(VLOOKUP("Macroitem",TabAux,1,FALSE),TabAux,0)-1,1)
Name Quantidade1V: IF(ValorQuantidade1="",ValorQuantidade0,ValorQuantidade1)
Name Quantidade2V: IF(ValorQuantidade2<>"",ValorQuantidade2,Quantidade1V)
Name Repasse: IF([0]!ValorRepasse=0,"",[0]!ValorRepasse*(Cronograma!C1/100))
Name RepasseQCI: QCI!ValorTotal-SUM(QCI!$I1:$L1)
Name TabCPFin: QCI!$I$13:$J$52
Name TabCPFin: #REF!
Name TabCronograma: Cronograma!$A$1:$IV$65536
Name TabMedicao: QCI!$O$1:$GL$65536
Name TESTE: #REF!*#REF!
Name TotalCPFin: SUM(IF(ISNUMBER(QCI!TabCPFin),QCI!TabCPFin))
Name Unitario1V: IF(ValorUnitario1="",ValorUnitario0,ValorUnitario1)
Name ValorCPFinanceira: INDEX(QCI!$H$1:$H$65536,ROW())
Name ValorCPFisica: INDEX(QCI!$K$1:$K$65536,ROW())
Name ValorCPOutra: INDEX(QCI!$L$1:$L$65536,ROW())
Name ValorRepasse: INDEX(QCI!$F$1:$F$65536,ROW())
Name ValorRepasse: INDEX(QCI!$F$1:$F$65536,ROW())
Name ValorTotal: INDEX(QCI!$M$1:$M$65536,ROW())

Sheet Orcamento
A2: CONTRATANTE: | C2: PREFEITURA MUNICIPAL DE ARARANGUA | E2: CONVÊNIO: | F2: RECURSO PRÓPRIO/PARCERIA
A3: OBJETO: | C3: PREF. ABEL ESTEVES DE AGUIAR | E3: TOMADOR: | F3: PREFEITURA MUNICIPAL DE ARARANGUA
A4: LOCAL: | C4: VILA SÃO JOSÉ | Q4: 1170000
A5: DATA BASE: | C5: 43466 | Q5: 234000
A6: BDI: | C6: INDICADO ABAIXO | Q6: =Q4+Q5 -> 1404000
A7: LEIS SOCIAIS: | C7: OS MESMOS DO SINAPI NÃO DESONERADO | Q7: =#REF! -> #REF!
D9: ORÇAMENTO GLOBAL | Q9: REDUTOR SINAPI
Q10: 1
A12: MACRO ITEM | B12: ITENS | C12: DISCRIMINAÇÃO DOS SERVIÇOS | G12: PREVISTO - ORÇADO | J12: REFERÊNCIA | K12: OBSERVAÇÕES | M12: Quantitativos das ruas
D13: UNID | E13: QTIDADE | F13: UNITÁRIO SEM BDI | G13: BDI | H13: UNITÁRIO COM BDI | I13: PREÇO TOTAL | O13: TOTAL
O14: =ROUND(SUM(M14:N14),2) -> 0
B15: 1 | C15: DRENAGEM PLUVIAL | I15: =SUM(I16:I28) -> 22986 | O15: =ROUND(SUM(M15:N15),2) -> 0
B16: 1.1 | C16: ESCAVAÇÃO MECANIZADA DE REDE PLUVIAL | D16: m³ | E16: =O16 -> 111.6 | F16: 5.2 | G16: 25 | H16: =ROUND($F16*(1+$G16/100),2) -> 6.5 | I16: =$E16*$H16 -> 725.4 | J16: 90106 | M16: =DRENAGEM!H20 -> 111.6 | O16: =ROUND(SUM(M16:N16),2) -> 111.6 | Q16: 79.16 | S16: =E16*Q16*1.2 -> 10601.107
B17: 1.2 | C17: REATERRO MECANIZADO DE VALA COM ESCAVADEIRA | D17: m³ | E17: =O17 -> 69.52 | F17: 5 | G17: 25 | H17: =ROUND($F17*(1+$G17/100),2) -> 6.25 | I17: =$E17*$H17 -> 434.5 | J17: 93371 | M17: =DRENAGEM!I20 -> 69.523109 | O17: =ROUND(SUM(M17:N17),2) -> 69.52
B18: 1.3 | C18: LASTRO DE BRITA N. 02 EXTENSÀO - 0,5 x L x 0,10 | D18: m³ | E18: =O18 -> 0 | F18: 70 | G18: 25 | H18: =ROUND($F18*(1+$G18/100),2) -> 87.5 | I18: =$E18*$H18 -> 0 | J18: 88549 | M18: =DRENAGEM!E21 -> 0 | O18: =ROUND(SUM(M18:N18),2) -> 0 | Q18: 1533.96 | S18: =E18*Q18*1.2 -> 0
B19: 1.4 | C19: TUBO DE CONCRETO (SIMPLES) PARA REDES COLETORAS DE ÁGUAS PLUVIAIS, DIÂMETRO DE 300 MM, JUNTA RÍGIDA, INSTALADO EM LOCAL COM BAIXO NÍVEL DE INTERFERÊNCIAS - FORNECIMENTO E ASSENTAMENTO. AF_12/2015 | D19: m | E19: =O19 -> 90 | F19: 32 | G19: 25 | H19: =ROUND($F19*(1+$G19/100),2) -> 40 | I19: =$E19*$H19 -> 3600 | J19: 95567 | M19: =DRENAGEM!E10 -> 90 | O19: =ROUND(SUM(M19:N19),2) -> 90 | Q19: 101.55 | S19: =E19*Q19*1.2 -> 10967.4
B20: 1.5 | C20: TUBO DE CONCRETO (SIMPLES) PARA REDES COLETORAS DE ÁGUAS PLUVIAIS, DIÂMETRO DE 400 MM, JUNTA RÍGIDA, INSTALADO EM LOCAL COM ALTO NÍVEL DE INTERFERÊNCIAS - FORNECIMENTO E ASSENTAMENTO. AF_12/2015 | D20: m | E20: =O20 -> 0 | F20: 47 | G20: 25 | H20: =ROUND($F20*(1+$G20/100),2) -> 58.75 | I20: =$E20*$H20 -> 0 | J20: 95571 | M20: =DRENAGEM!E11 -> 0 | O20: =ROUND(SUM(M20:N20),2) -> 0 | Q20: 80
B21: 1.6 | C21: TUBO DE CONCRETO (SIMPLES) PARA REDES COLETORAS DE ÁGUAS PLUVIAIS, DIÂMETRO DE 500 MM, JUNTA RÍGIDA, INSTALADO EM LOCAL COM BAIXO NÍVEL DE INTERFERÊNCIAS - FORNECIMENTO E ASSENTAMENTO. AF_12/2015 | D21: m | E21: =O21 -> 0 | F21: 63 | G21: 25 | H21: =ROUND($F21*(1+$G21/100),2) -> 78.75 | I21: =$E21*$H21 -> 0 | J21: 95569 | M21: =DRENAGEM!E12 -> 0 | O21: =ROUND(SUM(M21:N21),2) -> 0
B22: 1.7 | C22: TUBO DE CONCRETO (SIMPLES) PARA REDES COLETORAS DE ÁGUAS PLUVIAIS, DIÂMETRO DE 600 MM, JUNTA RÍGIDA, INSTALADO EM LOCAL COM BAIXO NÍVEL DE INTERFERÊNCIAS - FORNECIMENTO E ASSENTAMENTO. AF_12/2015 | D22: m | E22: =O22 -> 0 | F22: 75 | G22: 25 | H22: =ROUND($F22*(1+$G22/100),2) -> 93.75 | I22: =$E22*$H22 -> 0 | M22: =DRENAGEM!E13 -> 0 | O22: =ROUND(SUM(M22:N22),2) -> 0
B23: 1.8 | C23: TUBO DE CONCRETO (SIMPLES) PARA REDES COLETORAS DE ÁGUAS PLUVIAIS, DIÂMETRO DE 800 MM, JUNTA RÍGIDA, INSTALADO EM LOCAL COM BAIXO NÍVEL DE INTERFERÊNCIAS - FORNECIMENTO E ASSENTAMENTO. AF_12/2015 | D23: m | E23: =O23 -> 0 | F23: 90 | G23: 25 | H23: =ROUND($F23*(1+$G23/100),2) -> 112.5 | I23: =$E23*$H23 -> 0 | M23: =DRENAGEM!E14 -> 0 | O23: =ROUND(SUM(M23:N23),2) -> 0
B24: 1.9 | C24: TUBO DE CONCRETO (SIMPLES) PARA REDES COLETORAS DE ÁGUAS PLUVIAIS, DIÂMETRO DE 1000 MM, JUNTA RÍGIDA, INSTALADO EM LOCAL COM BAIXO NÍVEL DE INTERFERÊNCIAS - FORNECIMENTO E ASSENTAMENTO. AF_12/2015 | D24: m | E24: =O24 -> 0 | F24: 135 | G24: 25 | H24: =ROUND($F24*(1+$G24/100),2) -> 168.75 | I24: =$E24*$H24 -> 0 | M24: =DRENAGEM!E15 -> 0 | O24: =ROUND(SUM(M24:N24),2) -> 0
B25: 1.10 | C25: MANTA GEOTÉXTIL 200G/M² PARA TUBOS | D25: m² | E25: =O25 -> 45.22 | F25: 4 | G25: 25 | H25: =ROUND($F25*(1+$G25/100),2) -> 5 | I25: =$E25*$H25 -> 226.1 | J25: 73881/001 | M25: =0.4*(M19*1.256+M20*1.57+M21*1.96+M22*2.35+M23*3.14+3.93*M24) -> 45.216 | O25: =ROUND(SUM(M25:N25),2) -> 45.22
B26: 1.11 | C26: CAIXA DE BOCA DE LOBO PROJ. TIPO GRELHA | D26: UNID. | E26: =O26 -> 18 | F26: 540 | G26: 25 | H26: =ROUND($F26*(1+$G26/100),2) -> 675 | I26: =$E26*$H26 -> 12150 | J26: 83659 | M26: =DRENAGEM!E4 -> 18 | O26: =ROUND(SUM(M26:N26),2) -> 18
B27: 1.12 | C27: CAIXA DE PASSAGEM COM TAMPA | D27: UNID. | E27: =O27 -> 9 | F27: 520 | G27: 25 | H27: =ROUND($F27*(1+$G27/100),2) -> 650 | I27: =$E27*$H27 -> 5850 | J27: 74206/002 | K27: prancha detalhe | M27: =DRENAGEM!E5 -> 9 | O27: =ROUND(SUM(M27:N27),2) -> 9 | Q27: 305.09 | S27: =E27*Q27*1.2 -> 3294.972
E28: =O28 -> 0 | F28: 0 | H28: =ROUND($F28*(1+$G28/100),2) -> 0 | I28: =$E28*$H28 -> 0 | M28: 0 | O28: =ROUND(SUM(M28:N28),2) -> 0 | S28: =E28*Q28*1.2 -> 0
B29: 2 | C29: PAVIMENTAÇÂO | H29: =ROUND($F29*(1+$G29/100),2) -> 0 | I29: =SUM(I30:I41) -> 339943.84 | O29: =ROUND(SUM(M29:N29),2) -> 0 | S29: =E29*Q29*1.2 -> 0
B30: 2.1 | C30: TERRAPLANAGEM | D30: m² | E30: =O30 -> 5027.64 | F30: 1 | G30: 25 | H30: =ROUND($F30*(1+$G30/100),2) -> 1.25 | I30: =$E30*$H30 -> 6284.55 | J30: 72961 | K30: Ext. da Via x (Largura lajota) + LIMPA RODA | M30: =PAVIMENTO!B16 -> 5027.644 | O30: =ROUND(SUM(M30:N30),2) -> 5027.64 | Q30: 1.2 | S30: =E30*Q30*1.2 -> 7239.8016
B31: 2.2 | C31: BASE DE BRITA GRADUADA SIMPLES COMPACTADADA 10 cm | D31: m³ | E31: =O31 -> 502.76 | F31: 92 | G31: 25 | H31: =ROUND($F31*(1+$G31/100),2) -> 115 | I31: =$E31*$H31 -> 57817.4 | J31: ins4721 | K31: Area de lajota * 0,10 | M31: =M30*0.1 -> 502.7644 | O31: =ROUND(SUM(M31:N31),2) -> 502.76 | Q31: 105.7 | R31: 4721 | S31: =E31*Q31*1.2 -> 63770.078
B32: 2.2.1 | C32: BASE DE BRITA GRADUADA SIMPLES COMPACTADADA 10 cm PARA TRECHO DESNÍVEL | D32: m³ | E32: =O32 -> 8 | F32: =F31 -> 92 | G32: 25 | H32: =ROUND($F32*(1+$G32/100),2) -> 115 | I32: =$E32*$H32 -> 920 | J32: ins4721 | K32: Area de lajota * 0,10 | M32: 8 | O32: =ROUND(SUM(M32:N32),2) -> 8 | Q32: 105.7 | R32: 4721
B33: 2.3 | C33: COLOCAÇÃO E TRANSPORTE DE AREIA MÉDIA 5 cm (EXCLUSO ESPALHAMENTO) | D33: m³ | E33: =O33 -> 251.38 | F33: 27 | G33: 15 | H33: =ROUND($F33*(1+$G33/100),2) -> 31.05 | I33: =$E33*$H33 -> 7805.349 | J33: ins 000360 | K33: área *0,05 | M33: =M30*0.05 -> 251.3822 | O33: =ROUND(SUM(M33:N33),2) -> 251.38 | Q33: 33.73 | S33: =E33*Q33*1.2 -> 10174.857
B34: 2.4 | C34: LAJOTA DE CONCRETO SEXTAVADO 8cm (Fck=35,0 MPa) PREFEITURA | D34: m² | E34: =O34 -> 130.02 | F34: 28.2 | G34: 15 | H34: =ROUND($F34*(1+$G34/100),2) -> 32.43 | I34: =$E34*$H34 -> 4216.5486 | J34: SINAPI92394/ins712 | M34: =PAVIMENTO!B15 -> 130.02 | O34: =ROUND(SUM(M34:N34),2) -> 130.02 | Q34: 49.75 | S34: =E34*Q34*1.2 -> 7762.194
B35: 2.4.1 | C35: LAJOTA DE CONCRETO SEXTAVADO 8cm (Fck=35,0 MPa) MORADORES | D35: m² | E35: =O35 -> 4897.62 | F35: 28.2 | G35: 15 | H35: =ROUND($F35*(1+$G35/100),2) -> 32.43 | I35: =$E35*$H35 -> 158829.82 | J35: SINAPI92394/ins712 | M35: =PAVIMENTO!B8 -> 4897.624 | O35: =ROUND(SUM(M35:N35),2) -> 4897.62 | Q35: 49.75
B36: 2.5 | C36: MÃO DE OBRA PARA COLOCAÇÃO DE LAJOTA SEXTAVADA E ESPALHAMENTO DE AREIA | D36: m² | E36: =O36 -> 5027.64 | F36: 10.4 | G36: 25 | H36: =ROUND($F36*(1+$G36/100),2) -> 13 | I36: =$E36*$H36 -> 65359.32 | J36: 88260 E 88316 | M36: =M30 -> 5027.644 | N36: =N31*39.2 -> 0 | O36: =ROUND(SUM(M36:N36),2) -> 5027.64 | Q36: 1.03 | S36: =E36*Q36*1.2 -> 6214.163
B37: 2.6 | C37: MEIO FIO 12X10X30x100cm (Fck = 20.0 MPa) | D37: m | E37: =O37 -> 8.5 | F37: 15 | G37: 15 | H37: =ROUND($F37*(1+$G37/100),2) -> 17.25 | I37: =$E37*$H37 -> 146.625 | J37: ins 4059 | M37: =PAVIMENTO!C15 -> 8.5 | O37: =ROUND(SUM(M37:N37),2) -> 8.5
B38: 2.6.1 | C38: MEIO FIO 12X10X30x100cm (Fck = 20.0 MPa) MORADORES | D38: m | E38: =O38 -> 1348.04 | F38: 15 | G38: 15 | H38: =ROUND($F38*(1+$G38/100),2) -> 17.25 | I38: =$E38*$H38 -> 23253.69 | J38: ins 4059 | M38: =PAVIMENTO!C8 -> 1348.044 | O38: =ROUND(SUM(M38:N38),2) -> 1348.04
B39: 2.7 | C39: MÃO DE OBRA PARA COLOCAÇÃO DE MEIO FIO | D39: m | E39: =O39 -> 1370.5 | F39: 7.5 | G39: 25 | H39: =ROUND($F39*(1+$G39/100),2) -> 9.38 | I39: =$E39*$H39 -> 12855.29 | J39: 88309 E 88316 | M39: =M38+M40+M37 -> 1370.504 | O39: =ROUND(SUM(M39:N39),2) -> 1370.5
B40: 2.8 | C40: MEIO FIO 10X10X30x100cm (Fck = 20.0 MPa) | D40: m | E40: =O40 -> 13.96 | F40: 12 | G40: 15 | H40: =ROUND($F40*(1+$G40/100),2) -> 13.8 | I40: =$E40*$H40 -> 192.648 | J40: 94273 | M40: =PAVIMENTO!D15 -> 13.96 | O40: =ROUND(SUM(M40:N40),2) -> 13.96
B41: 2.9 | C41: REGULARIZAÇÃO DA PAVIMENTAÇÃO COM PÓ DE PEDRA 0,05m INCLUSO TRANSPORTE | D41: m³ | E41: =O41 -> 25.14 | F41: 72 | G41: 25 | H41: =ROUND($F41*(1+$G41/100),2) -> 90 | I41: =$E41*$H41 -> 2262.6 | J41: 73817/001 | M41: =M36*0.005 -> 25.13822 | O41: =ROUND(SUM(M41:N41),2) -> 25.14 | S41: =E41*Q41*1.2 -> 0
B42: 2.9 | C42: SERVIÇO DE TOPOGRAFIA, (ESTAQUEAMENTO E NIVELAMENTO) REGISTADO EM CONSELHO | D42: H | E42: =O42 -> 8 | F42: 84.82 | G42: 25 | H42: =ROUND($F42*(1+$G42/100),2) -> 106.03 | I42: =$E42*$H42 -> 848.24 | J42: 90777 | M42: 8 | O42: =ROUND(SUM(M42:N42),2) -> 8 | S42: =E42*Q42*1.2 -> 0
H46: TOTAL | I46: =SUM(I29,I15) -> 362929.84 | J46: R$/m² | K46: =I46/E30 -> 72.186918 | M46: TOTAL | Q46: VERDE | R46: NÃO MEXER É FÓRMULA
...

Sheet QCI
C1: Agente Promotor | F1: Número do Contrato
C2: Prefeitura Municipal de Araranguá | K2: .
A3: Logotipo Pref. | C3: Empreendimento | L3: Total Contratado | M3: Repasse
C4: PAVIMENTAÇÃO COM LAJOTAS SEXTAVADAS RUA ZELI DA ROCHA SILVEIRA | K4: . | L4: =$M$4+$M$6 -> 0
C5: Localização | F5: Programa | L5: Auxiliar | M5: C.P. Mínima
C6: POLÍCIA RODOVIÁRIA | K6: . | L6: =QCI!CPAuxiliar -> 362929.84
C8: QCI | D8: QUADRO DE COMPOSIÇÃO DO INVESTIMENTO
C10: QCI VIGENTE
A11: Executora | B11: ITEM | C11: Descrição dos Itens de Investimento | D11: UNID | E11: QTIDADE | F11: Repasse | H11: C.P Financeira | I11: C.P. Financeira | J11: C.P. Contrapartida | M11: Total | N11: Inc.
J12: Financeira | K12: Física | L12: Outras Fontes
C13: PAVIMENTAÇÃO COM LAJOTAS | F13: =QCI!RepasseQCI -> 0 | G13: =IF(OR($J13<>"",$K13<>"",$L13<>""),) -> FALSE | H13: =SUM($I13:$J13) -> 0 | I13: =QCI!CPAutomatica | N13: =QCI!Incidencia -> 0
F14: =QCI!RepasseQCI -> 0 | G14: =IF(OR($J14<>"",$K14<>"",$L14<>""),) -> FALSE | H14: =SUM($I14:$J14) -> 0 | I14: =QCI!CPAutomatica | N14: =QCI!Incidencia -> 0
B15: =Orcamento!B15 -> 1 | C15: =Orcamento!C15 -> DRENAGEM PLUVIAL | F15: =QCI!RepasseQCI -> 0 | G15: =IF(OR($J15<>"",$K15<>"",$L15<>""),) -> FALSE | H15: =SUM($I15:$J15) -> 22986 | I15: =QCI!CPAutomatica -> 22986 | M15: =Orcamento!I15 -> 22986 | N15: =QCI!Incidencia -> 6.3334556
B16: =Orcamento!B29 -> 2 | C16: =Orcamento!C29 -> PAVIMENTAÇÂO | F16: =QCI!RepasseQCI -> 0 | G16: =IF(OR($J16<>"",$K16<>"",$L16<>""),) -> FALSE | H16: =SUM($I16:$J16) -> 339943.84 | I16: =QCI!CPAutomatica -> 339943.84 | M16: =Orcamento!I29 -> 339943.84 | N16: =QCI!Incidencia -> 93.666544
F17: =QCI!RepasseQCI -> 0 | G17: =IF(OR($J17<>"",$K17<>"",$L17<>""),) -> FALSE | H17: =SUM($I17:$J17) -> 0 | I17: =QCI!CPAutomatica | N17: =QCI!Incidencia -> 0
F18: =QCI!RepasseQCI -> 0 | G18: =IF(OR($J18<>"",$K18<>"",$L18<>""),) -> FALSE | H18: =SUM($I18:$J18) -> 0 | I18: =QCI!CPAutomatica | N18: =QCI!Incidencia -> 0
F19: =QCI!RepasseQCI -> 0 | G19: =IF(OR($J19<>"",$K19<>"",$L19<>""),) -> FALSE | H19: =SUM($I19:$J19) -> 0 | I19: =QCI!CPAutomatica | N19: =QCI!Incidencia -> 0
F20: =QCI!RepasseQCI -> 0 | G20: =IF(OR($J20<>"",$K20<>"",$L20<>""),) -> FALSE | H20: =SUM($I20:$J20) -> 0 | I20: =QCI!CPAutomatica | N20: =QCI!Incidencia -> 0
F21: =QCI!RepasseQCI -> 0 | G21: =IF(OR($J21<>"",$K21<>"",$L21<>""),) -> FALSE | H21: =SUM($I21:$J21) -> 0 | I21: =QCI!CPAutomatica | N21: =QCI!Incidencia -> 0
F22: =QCI!RepasseQCI -> 0 | G22: =IF(OR($J22<>"",$K22<>"",$L22<>""),) -> FALSE | H22: =SUM($I22:$J22) -> 0 | I22: =QCI!CPAutomatica | N22: =QCI!Incidencia -> 0
F23: =QCI!RepasseQCI -> 0 | G23: =IF(OR($J23<>"",$K23<>"",$L23<>""),) -> FALSE | H23: =SUM($I23:$J23) -> 0 | I23: =QCI!CPAutomatica | N23: =QCI!Incidencia -> 0
F24: =QCI!RepasseQCI -> 0 | G24: =IF(OR($J24<>"",$K24<>"",$L24<>""),) -> FALSE | H24: =SUM($I24:$J24) -> 0 | I24: =QCI!CPAutomatica | N24: =QCI!Incidencia -> 0
F25: =QCI!RepasseQCI -> 0 | G25: =IF(OR($J25<>"",$K25<>"",$L25<>""),) -> FALSE | H25: =SUM($I25:$J25) -> 0 | I25: =QCI!CPAutomatica | N25: =QCI!Incidencia -> 0
F26: =QCI!RepasseQCI -> 0 | G26: =IF(OR($J26<>"",$K26<>"",$L26<>""),) -> FALSE | H26: =SUM($I26:$J26) -> 0 | I26: =QCI!CPAutomatica | N26: =QCI!Incidencia -> 0
F27: =QCI!RepasseQCI -> 0 | G27: =IF(OR($J27<>"",$K27<>"",$L27<>""),) -> FALSE | H27: =SUM($I27:$J27) -> 0 | I27: =QCI!CPAutomatica | N27: =QCI!Incidencia -> 0
F28: =QCI!RepasseQCI -> 0 | G28: =IF(OR($J28<>"",$K28<>"",$L28<>""),) -> FALSE | H28: =SUM($I28:$J28) -> 0 | I28: =QCI!CPAutomatica | N28: =QCI!Incidencia -> 0
... F52: =QCI!RepasseQCI -> 0 | G52: =IF(OR($J52<>"",$K52<>"",$L52<>""),) -> FALSE | H52: =SUM($I52:$J52) -> 0 | I52: =QCI!CPAutomatica | N52: =QCI!Incidencia -> 0
A53: =SUM($L$13:$L$52) -> 0 | C53: TOTAL | F53: =SUM($F$13:$F$52) -> 0 | J53: =QCI!TotalCPFin -> 362929.84 | K53: =SUM($K$13:$K$52) -> 0 | L53: =SUM($L$13:$L$52) -> 0 | M53: =SUM($M$13:$M$52) -> 362929.84 | N53: =SUM($N$13:$N$52) -> 100
B59: _____________________________________________
B60: Prefeito | F60: Responsável Técnico | M60: 43404
B61: Nome: | F61: Nome: | M61: Data
B62: CPF | F62: Registro:

Sheet Cronograma
A1: Agente Promotor | I1: Data Início de Obras
A2: =QCI!$C$2 -> Prefeitura Municipal de Araranguá
A3: Número do Contrato
A4: =QCI!$F$2 -> 0
A5: Programa | I5: Prazo de Execução
A6: =QCI!$F$6 -> 0 | I6: 2 | J6: =IF(I6=1,"mês","meses") -> meses
H8: CRONOGRAMA FÍSICO-FINANCEIRO | W8: CRONOGRAMA FÍSICO-FINANCEIRO | AL8: CRONOGRAMA FÍSICO-FINANCEIRO | BA8: CRONOGRAMA FÍSICO-FINANCEIRO | BP8: CRONOGRAMA FÍSICO-FINANCEIRO | CE8: CRONOGRAMA FÍSICO-FINANCEIRO | CT8: CRONOGRAMA FÍSICO-FINANCEIRO | DI8: CRONOGRAMA FÍSICO-FINANCEIRO | DX8: CRONOGRAMA FÍSICO-FINANCEIRO | EM8: CRONOGRAMA FÍSICO-FINANCEIRO | FB8: CRONOGRAMA FÍSICO-FINANCEIRO | FQ8: CRONOGRAMA FÍSICO-FINANCEIRO | GF8: CRONOGRAMA FÍSICO-FINANCEIRO | GU8: CRONOGRAMA FÍSICO-FINANCEIRO | HJ8: CRONOGRAMA FÍSICO-FINANCEIRO | HY8: CRONOGRAMA FÍSICO-FINANCEIRO
B10: Total | C10: Inc. | D10: Acum | E10: Mês 01 | H10: Mês 02 | K10: Mês 03 | N10: Mês 04 | Q10: Mês 05 | T10: Mês 06 | W10: Mês 07 | Z10: Mês 08 | AC10: Mês 09 | AF10: Mês 10 | AI10: Mês 11 | AL10: Mês 12 | AO10: Mês 13 | AR10: Mês 14 | AU10: Mês 15 | AX10: Mês 16 | BA10: Mês 17 | BD10: Mês 18 | BG10: Mês 19 | BJ10: Mês 20 | BM10: Mês 21 | BP10: Mês 22 | BS10: Mês 23 | BV10: Mês 24 | BY10: Mês 25 | CB10: Mês 26 | CE10: Mês 27 | CH10: Mês 28 | CK10: Mês 29 | CN10: Mês 30 | CQ10: Mês 31 | CT10: Mês 32 | CW10: Mês 33 | CZ10: Mês 34 | DC10: Mês 35 | DF10: Mês 36 | DI10: Mês 37 | DL10: Mês 38 | DO10: Mês 39 | DR10: Mês 40 | DU10: Mês 41 | DX10: Mês 42 | EA10: Mês 43 | ED10: Mês 44 | EG10: Mês 45 | EJ10: Mês 46 | EM10: Mês 47 | EP10: Mês 48 | ES10: Mês 49 | EV10: Mês 50 | EY10: Mês 51 | FB10: Mês 52 | FE10: Mês 53 | FH10: Mês 54 | FK10: Mês 55 | FN10: Mês 56 | FQ10: Mês 57 | FT10: Mês 58 | FW10: Mês 59 | FZ10: Mês 60 | GC10: Mês 61 | GF10: Mês 62 | GI10: Mês 63 | GL10: Mês 64 | GO10: Mês 65 | GR10: Mês 66 | GU10: Mês 67 | GX10: Mês 68 | HA10: Mês 69 | HD10: Mês 70 | HG10: Mês 71 | HJ10: Mês 72 | HM10: Mês 73 | HP10: Mês 74 | HS10: Mês 75 | HV10: Mês 76 | HY10: Mês 77 | IB10: Mês 78 | IE10: Mês 79 | IH10: Mês 80 | IK10: Mês 81 | IN10: Mês 82 | IQ10: Mês 83 | IT10: Mês 84
A11: Item | E11: Repasse | F11: Contrapartida R$ | G11: Percent. | H11: Repasse | I11: Contrapartida R$ | J11: Percent. | K11: Repasse | L11: Contrapartida R$ | M11: Percent. | N11: Repasse | O11: Contrapartida R$ | P11: Percent. | Q11: Repasse | R11: Contrapartida R$ | S11: Percent. | T11: Repasse | U11: Contrapartida R$ | V11: Percent. | W11: Repasse | X11: Contrapartida R$ | Y11: Percent. | Z11: Repasse | AA11: Contrapartida R$ | AB11: Percent. | AC11: Repasse | AD11: Contrapartida R$ | AE11: Percent. | AF11: Repasse | AG11: Contrapartida R$ | AH11: Percent. | AI11: Repasse | AJ11: Contrapartida R$ | AK11: Percent. | AL11: Repasse | AM11: Contrapartida R$ | AN11: Percent. | AO11: Repasse | AP11: Contrapartida R$ | AQ11: Percent. | AR11: Repasse | AS11: Contrapartida R$ | AT11: Percent. | AU11: Repasse | AV11: Contrapartida R$ | AW11: Percent. | AX11: Repasse | AY11: Contrapartida R$ | AZ11: Percent. | BA11: Repasse | BB11: Contrapartida R$ | BC11: Percent. | BD11: Repasse | BE11: Contrapartida R$ | BF11: Percent. | BG11: Repasse | BH11: Contrapartida R$ | BI11: Percent. | BJ11: Repasse | BK11: Contrapartida R$ | BL11: Percent. | BM11: Repasse | BN11: Contrapartida R$ | BO11: Percent. | BP11: Repasse | BQ11: Contrapartida R$ | BR11: Percent. | BS11: Repasse | BT11: Contrapartida R$ | BU11: Percent. | BV11: Repasse | BW11: Contrapartida R$ | BX11: Percent. | BY11: Repasse | BZ11: Contrapartida R$ | CA11: Percent. | CB11: Repasse | CC11: Contrapartida R$ | CD11: Percent. | CE11: Repasse | CF11: Contrapartida R$ | CG11: Percent. | CH11: Repasse | CI11: Contrapartida R$ | CJ11: Percent. | CK11: Repasse | CL11: Contrapartida R$ | CM11: Percent. | CN11: Repasse | CO11: Contrapartida R$ | CP11: Percent. | CQ11: Repasse | CR11: Contrapartida R$ | CS11: Percent. | CT11: Repasse | CU11: Contrapartida R$ | CV11: Percent. | CW11: Repasse | CX11: Contrapartida R$ | CY11: Percent. | CZ11: Repasse | DA11: Contrapartida R$ | DB11: Percent. | DC11: Repasse | DD11: Contrapartida R$ | DE11: Percent. | DF11: Repasse | DG11: Contrapartida R$ | DH11: Percent. | DI11: Repasse | DJ11: Contrapartida R$ | DK11: Percent. | DL11: Repasse | DM11: Contrapartida R$ | DN11: Percent. | DO11: Repasse | DP11: Contrapartida R$ | DQ11: Percent. | DR11: Repasse | DS11: Contrapartida R$ | DT11: Percent. | DU11: Repasse | DV11: Contrapartida R$ | DW11: Percent. | DX11: Repasse | DY11: Contrapartida R$ | DZ11: Percent. | EA11: Repasse | EB11: Contrapartida R$ | EC11: Percent. | ED11: Repasse | EE11: Contrapartida R$ | EF11: Percent. | EG11: Repasse | EH11: Contrapartida R$ | EI11: Percent. | EJ11: Repasse | EK11: Contrapartida R$ | EL11: Percent. | EM11: Repasse | EN11: Contrapartida R$ | EO11: Percent. | EP11: Repasse | EQ11: Contrapartida R$ | ER11: Percent. | ES11: Repasse | ET11: Contrapartida R$ | EU11: Percent. | EV11: Repasse | EW11: Contrapartida R$ | EX11: Percent. | EY11: Repasse | EZ11: Contrapartida R$ | FA11: Percent. | FB11: Repasse | FC11: Contrapartida R$ | FD11: Percent. | FE11: Repasse | FF11: Contrapartida R$ | FG11: Percent. | FH11: Repasse | FI11: Contrapartida R$ | FJ11: Percent. | FK11: Repasse | FL11: Contrapartida R$ | FM11: Percent. | FN11: Repasse | FO11: Contrapartida R$ | FP11: Percent. | FQ11: Repasse | FR11: Contrapartida R$ | FS11: Percent. | FT11: Repasse | FU11: Contrapartida R$ | FV11: Percent. | FW11: Repasse | FX11: Contrapartida R$ | FY11: Percent. | FZ11: Repasse | GA11: Contrapartida R$ | GB11: Percent. | GC11: Repasse | GD11: Contrapartida R$ | GE11: Percent. | GF11: Repasse | GG11: Contrapartida R$ | GH11: Percent. | GI11: Repasse | GJ11: Contrapartida R$ | GK11: Percent. | GL11: Repasse | GM11: Contrapartida R$ | GN11: Percent. | GO11: Repasse | GP11: Contrapartida R$ | GQ11: Percent. | GR11: Repasse | GS11: Contrapartida R$ | GT11: Percent. | GU11: Repasse | GV11: Contrapartida R$ | GW11: Percent. | GX11: Repasse | GY11: Contrapartida R$ | GZ11: Percent. | HA11: Repasse | HB11: Contrapartida R$ | HC11: Percent. | HD11: Repasse | HE11: Contrapartida R$ | HF11: Percent. | HG11: Repasse | HH11: Contrapartida R$ | HI11: Percent. | HJ11: Repasse | HK11: Contrapartida R$ | HL11: Percent. | HM11: Repasse | HN11: Contrapartida R$ | HO11: Percent. | HP11: Repasse | HQ11: Contrapartida R$ | HR11: Percent. | HS11: Repasse | HT11: Contrapartida R$ | HU11: Percent. | HV11: Repasse | HW11: Contrapartida R$ | HX11: Percent. | HY11: Repasse | HZ11: Contrapartida R$ | IA11: Percent. | IB11: Repasse | IC11: Contrapartida R$ | ID11: Percent. | IE11: Repasse | IF11: Contrapartida R$ | IG11: Percent. | IH11: Repasse | II11: Contrapartida R$ | IJ11: Percent. | IK11: Repasse | IL11: Contrapartida R$ | IM11: Percent. | IN11: Repasse | IO11: Contrapartida R$ | IP11: Percent. | IQ11: Repasse | IR11: Contrapartida R$ | IS11: Percent. | IT11: Repasse | IU11: Contrapartida R$ | IV11: Percent.
B12: (R$) | C12: (%) | D12: (%) | E12: (R$) | F12: (R$) | G12: (%) | H12: (R$) | I12: (R$) | J12: (%) | K12: (R$) | L12: (R$) | M12: (%) | N12: (R$) | O12: (R$) | P12: (%) | Q12: (R$) | R12: (R$) | S12: (%) | T12: (R$) | U12: (R$) | V12: (%) | W12: (R$) | X12: (R$) | Y12: (%) | Z12: (R$) | AA12: (R$) | AB12: (%) | AC12: (R$) | AD12: (R$) | AE12: (%) | AF12: (R$) | AG12: (R$) | AH12: (%) | AI12: (R$) | AJ12: (R$) | AK12: (%) | AL12: (R$) | AM12: (R$) | AN12: (%) | AO12: (R$) | AP12: (R$) | AQ12: (%) | AR12: (R$) | AS12: (R$) | AT12: (%) | AU12: (R$) | AV12: (R$) | AW12: (%) | AX12: (R$) | AY12: (R$) | AZ12: (%) | BA12: (R$) | BB12: (R$) | BC12: (%) | BD12: (R$) | BE12: (R$) | BF12: (%) | BG12: (R$) | BH12: (R$) | BI12: (%) | BJ12: (R$) | BK12: (R$) | BL12: (%) | BM12: (R$) | BN12: (R$) | BO12: (%) | BP12: (R$) | BQ12: (R$) | BR12: (%) | BS12: (R$) | BT12: (R$) | BU12: (%) | BV12: (R$) | BW12: (R$) | BX12: (%) | BY12: (R$) | BZ12: (R$) | CA12: (%) | CB12: (R$) | CC12: (R$) | CD12: (%) | CE12: (R$) | CF12: (R$) | CG12: (%) | CH12: (R$) | CI12: (R$) | CJ12: (%) | CK12: (R$) | CL12: (R$) | CM12: (%) | CN12: (R$) | CO12: (R$) | CP12: (%) | CQ12: (R$) | CR12: (R$) | CS12: (%) | CT12: (R$) | CU12: (R$) | CV12: (%) | CW12: (R$) | CX12: (R$) | CY12: (%) | CZ12: (R$) | DA12: (R$) | DB12: (%) | DC12: (R$) | DD12: (R$) | DE12: (%) | DF12: (R$) | DG12: (R$) | DH12: (%) | DI12: (R$) | DJ12: (R$) | DK12: (%) | DL12: (R$) | DM12: (R$) | DN12: (%) | DO12: (R$) | DP12: (R$) | DQ12: (%) | DR12: (R$) | DS12: (R$) | DT12: (%) | DU12: (R$) | DV12: (R$) | DW12: (%) | DX12: (R$) | DY12: (R$) | DZ12: (%) | EA12: (R$) | EB12: (R$) | EC12: (%) | ED12: (R$) | EE12: (R$) | EF12: (%) | EG12: (R$) | EH12: (R$) | EI12: (%) | EJ12: (R$) | EK12: (R$) | EL12: (%) | EM12: (R$) | EN12: (R$) | EO12: (%) | EP12: (R$) | EQ12: (R$) | ER12: (%) | ES12: (R$) | ET12: (R$) | EU12: (%) | EV12: (R$) | EW12: (R$) | EX12: (%) | EY12: (R$) | EZ12: (R$) | FA12: (%) | FB12: (R$) | FC12: (R$) | FD12: (%) | FE12: (R$) | FF12: (R$) | FG12: (%) | FH12: (R$) | FI12: (R$) | FJ12: (%) | FK12: (R$) | FL12: (R$) | FM12: (%) | FN12: (R$) | FO12: (R$) | FP12: (%) | FQ12: (R$) | FR12: (R$) | FS12: (%) | FT12: (R$) | FU12: (R$) | FV12: (%) | FW12: (R$) | FX12: (R$) | FY12: (%) | FZ12: (R$) | GA12: (R$) | GB12: (%) | GC12: (R$) | GD12: (R$) | GE12: (%) | GF12: (R$) | GG12: (R$) | GH12: (%) | GI12: (R$) | GJ12: (R$) | GK12: (%) | GL12: (R$) | GM12: (R$) | GN12: (%) | GO12: (R$) | GP12: (R$) | GQ12: (%) | GR12: (R$) | GS12: (R$) | GT12: (%) | GU12: (R$) | GV12: (R$) | GW12: (%) | GX12: (R$) | GY12: (R$) | GZ12: (%) | HA12: (R$) | HB12: (R$) | HC12: (%) | HD12: (R$) | HE12: (R$) | HF12: (%) | HG12: (R$) | HH12: (R$) | HI12: (%) | HJ12: (R$) | HK12: (R$) | HL12: (%) | HM12: (R$) | HN12: (R$) | HO12: (%) | HP12: (R$) | HQ12: (R$) | HR12: (%) | HS12: (R$) | HT12: (R$) | HU12: (%) | HV12: (R$) | HW12: (R$) | HX12: (%) | HY12: (R$) | HZ12: (R$) | IA12: (%) | IB12: (R$) | IC12: (R$) | ID12: (%) | IE12: (R$) | IF12: (R$) | IG12: (%) | IH12: (R$) | II12: (R$) | IJ12: (%) | IK12: (R$) | IL12: (R$) | IM12: (%) | IN12: (R$) | IO12: (R$) | IP12: (%) | IQ12: (R$) | IR12: (R$) | IS12: (%) | IT12: (R$) | IU12: (R$) | IV12: (%)
A13: =QCI!$B13 -> 0 | B13: =QCI!$M13 -> 0 | C13: =IF($B13=0,"",$B13/$B$53*100) | D13: =G13+J13+M13+P13+S13+V13+Y13+AB13+AE13+AH13+AK13+AN13+AQ13+AT13+AW13+AZ13+BC13+BF13+BI13+BL13+BO13+BR13+BU13+BX13+CA13+CD13+CG13+CJ13+CM13+CP13+CS13+CV13+CY13+DB13+DE13+DH13+DK13+DN13+DQ13+DT13+DW13+DZ13+EC13+EF13+EI13+EL13+EO13+ER13+EU13+EX13+FA13+FD13+FG13+FJ13+FM13+FP13+FS13+FV13+FY13+GB13+GE13+GH13+GK13+GN13+GQ13+GT13+GW13+GZ13+HC13+HF13+HI13+HL13+HO13+HR13+HU13+HX13+IA13+ID13+IG13+IJ13+IM13+IP13+IS13+IV13 -> 0 | E13: =Cronograma!Repasse | F13: =Cronograma!Contrapartida | H13: =Cronograma!Repasse | I13: =Cronograma!Contrapartida | K13: =Cronograma!Repasse | L13: =Cronograma!Contrapartida | N13: =Cronograma!Repasse | O13: =Cronograma!Contrapartida | Q13: =Cronograma!Repasse | R13: =Cronograma!Contrapartida | T13: =Cronograma!Repasse | U13: =Cronograma!Contrapartida | W13: =Cronograma!Repasse | X13: =Cronograma!Contrapartida | Z13: =Cronograma!Repasse | AA13: =Cronograma!Contrapartida | AC13: =Cronograma!Repasse | AD13: =Cronograma!Contrapartida | AF13: =Cronograma!Repasse | AG13: =Cronograma!Contrapartida | AI13: =Cronograma!Repasse | AJ13: =Cronograma!Contrapartida | AL13: =Cronograma!Repasse | AM13: =Cronograma!Contrapartida | AO13: =Cronograma!Repasse | AP13: =Cronograma!Contrapartida | AR13: =Cronograma!Repasse | AS13: =Cronograma!Contrapartida | AU13: =Cronograma!Repasse | AV13: =Cronograma!Contrapartida | AX13: =Cronograma!Repasse | AY13: =Cronograma!Contrapartida | BA13: =Cronograma!Repasse | BB13: =Cronograma!Contrapartida | BD13: =Cronograma!Repasse | BE13: =Cronograma!Contrapartida | BG13: =Cronograma!Repasse | BH13: =Cronograma!Contrapartida | BJ13: =Cronograma!Repasse | BK13: =Cronograma!Contrapartida | BM13: =Cronograma!Repasse | BN13: =Cronograma!Contrapartida | BP13: =Cronograma!Repasse | BQ13: =Cronograma!Contrapartida | BS13: =Cronograma!Repasse | BT13: =Cronograma!Contrapartida | BV13: =Cronograma!Repasse | BW13: =Cronograma!Contrapartida | BY13: =Cronograma!Repasse | BZ13: =Cronograma!Contrapartida | CB13: =Cronograma!Repasse | CC13: =Cronograma!Contrapartida | CE13: =Cronograma!Repasse | CF13: =Cronograma!Contrapartida | CH13: =Cronograma!Repasse | CI13: =Cronograma!Contrapartida | CK13: =Cronograma!Repasse | CL13: =Cronograma!Contrapartida | CN13: =Cronograma!Repasse | CO13: =Cronograma!Contrapartida | CQ13: =Cronograma!Repasse | CR13: =Cronograma!Contrapartida | CT13: =Cronograma!Repasse | CU13: =Cronograma!Contrapartida | CW13: =Cronograma!Repasse | CX13: =Cronograma!Contrapartida | CZ13: =Cronograma!Repasse | DA13: =Cronograma!Contrapartida | DC13: =Cronograma!Repasse | DD13: =Cronograma!Contrapartida | DF13: =Cronograma!Repasse | DG13: =Cronograma!Contrapartida | DI13: =Cronograma!Repasse | DJ13: =Cronograma!Contrapartida | DL13: =Cronograma!Repasse | DM13: =Cronograma!Contrapartida | DO13: =Cronograma!Repasse | DP13: =Cronograma!Contrapartida | DR13: =Cronograma!Repasse | DS13: =Cronograma!Contrapartida | DU13: =Cronograma!Repasse | DV13: =Cronograma!Contrapartida | DX13: =Cronograma!Repasse | DY13: =Cronograma!Contrapartida | EA13: =Cronograma!Repasse | EB13: =Cronograma!Contrapartida | ED13: =Cronograma!Repasse | EE13: =Cronograma!Contrapartida | EG13: =Cronograma!Repasse | EH13: =Cronograma!Contrapartida | EJ13: =Cronograma!Repasse | EK13: =Cronograma!Contrapartida | EM13: =Cronograma!Repasse | EN13: =Cronograma!Contrapartida | EP13: =Cronograma!Repasse | EQ13: =Cronograma!Contrapartida | ES13: =Cronograma!Repasse | ET13: =Cronograma!Contrapartida | EV13: =Cronograma!Repasse | EW13: =Cronograma!Contrapartida | EY13: =Cronograma!Repasse | EZ13: =Cronograma!Contrapartida | FB13: =Cronograma!Repasse | FC13: =Cronograma!Contrapartida | FE13: =Cronograma!Repasse | FF13: =Cronograma!Contrapartida | FH13: =Cronograma!Repasse | FI13: =Cronograma!Contrapartida | FK13: =Cronograma!Repasse | FL13: =Cronograma!Contrapartida | FN13: =Cronograma!Repasse | FO13: =Cronograma!Contrapartida | FQ13: =Cronograma!Repasse | FR13: =Cronograma!Contrapartida | FT13: =Cronograma!Repasse | FU13: =Cronograma!Contrapartida | FW13: =Cronograma!Repasse | FX13: =Cronograma!Contrapartida | FZ13: =Cronograma!Repasse | GA13: =Cronograma!Contrapartida | GC13: =Cronograma!Repasse | GD13: =Cronograma!Contrapartida | GF13: =Cronograma!Repasse | GG13: =Cronograma!Contrapartida | GI13: =Cronograma!Repasse | GJ13: =Cronograma!Contrapartida | GL13: =Cronograma!Repasse | GM13: =Cronograma!Contrapartida | GO13: =Cronograma!Repasse | GP13: =Cronograma!Contrapartida | GR13: =Cronograma!Repasse | GS13: =Cronograma!Contrapartida | GU13: =Cronograma!Repasse | GV13: =Cronograma!Contrapartida | GX13: =Cronograma!Repasse | GY13: =Cronograma!Contrapartida | HA13: =Cronograma!Repasse | HB13: =Cronograma!Contrapartida | HD13: =Cronograma!Repasse | HE13: =Cronograma!Contrapartida | HG13: =Cronograma!Repasse | HH13: =Cronograma!Contrapartida | HJ13: =Cronograma!Repasse | HK13: =Cronograma!Contrapartida | HM13: =Cronograma!Repasse | HN13: =Cronograma!Contrapartida | HP13: =Cronograma!Repasse | HQ13: =Cronograma!Contrapartida | HS13: =Cronograma!Repasse | HT13: =Cronograma!Contrapartida | HV13: =Cronograma!Repasse | HW13: =Cronograma!Contrapartida | HY13: =Cronograma!Repasse | HZ13: =Cronograma!Contrapartida | IB13: =Cronograma!Repasse | IC13: =Cronograma!Contrapartida | IE13: =Cronograma!Repasse | IF13: =Cronograma!Contrapartida | IH13: =Cronograma!Repasse | II13: =Cronograma!Contrapartida | IK13: =Cronograma!Repasse | IL13: =Cronograma!Contrapartida | IN13: =Cronograma!Repasse | IO13: =Cronograma!Contrapartida | IQ13: =Cronograma!Repasse | IR13: =Cronograma!Contrapartida | IT13: =Cronograma!Repasse | IU13: =Cronograma!Contrapartida
A14: =QCI!$B14 -> 0 | B14: =QCI!$M14 -> 0 | C14: =IF($B14=0,"",$B14/$B$53*100) | D14: =G14+J14+M14+P14+S14+V14+Y14+AB14+AE14+AH14+AK14+AN14+AQ14+AT14+AW14+AZ14+BC14+BF14+BI14+BL14+BO14+BR14+BU14+BX14+CA14+CD14+CG14+CJ14+CM14+CP14+CS14+CV14+CY14+DB14+DE14+DH14+DK14+DN14+DQ14+DT14+DW14+DZ14+EC14+EF14+EI14+EL14+EO14+ER14+EU14+EX14+FA14+FD14+FG14+FJ14+FM14+FP14+FS14+FV14+FY14+GB14+GE14+GH14+GK14+GN14+GQ14+GT14+GW14+GZ14+HC14+HF14+HI14+HL14+HO14+HR14+HU14+HX14+IA14+ID14+IG14+IJ14+IM14+IP14+IS14+IV14 -> 0 | E14: =Cronograma!Repasse | F14: =Cronograma!Contrapartida | H14: =Cronograma!Repasse | I14: =Cronograma!Contrapartida | K14: =Cronograma!Repasse | L14: =Cronograma!Contrapartida | N14: =Cronograma!Repasse | O14: =Cronograma!Contrapartida | Q14: =Cronograma!Repasse | R14: =Cronograma!Contrapartida | T14: =Cronograma!Repasse | U14: =Cronograma!Contrapartida | W14: =Cronograma!Repasse | X14: =Cronograma!Contrapartida | Z14: =Cronograma!Repasse | AA14: =Cronograma!Contrapartida | AC14: =Cronograma!Repasse | AD14: =Cronograma!Contrapartida | AF14: =Cronograma!Repasse | AG14: =Cronograma!Contrapartida | AI14: =Cronograma!Repasse | AJ14: =Cronograma!Contrapartida | AL14: =Cronograma!Repasse | AM14: =Cronograma!Contrapartida | AO14: =Cronograma!Repasse | AP14: =Cronograma!Contrapartida | AR14: =Cronograma!Repasse | AS14: =Cronograma!Contrapartida | AU14: =Cronograma!Repasse | AV14: =Cronograma!Contrapartida | AX14: =Cronograma!Repasse | AY14: =Cronograma!Contrapartida | BA14: =Cronograma!Repasse | BB14: =Cronograma!Contrapartida | BD14: =Cronograma!Repasse | BE14: =Cronograma!Contrapartida | BG14: =Cronograma!Repasse | BH14: =Cronograma!Contrapartida | BJ14: =Cronograma!Repasse | BK14: =Cronograma!Contrapartida | BM14: =Cronograma!Repasse | BN14: =Cronograma!Contrapartida | BP14: =Cronograma!Repasse | BQ14: =Cronograma!Contrapartida | BS14: =Cronograma!Repasse | BT14: =Cronograma!Contrapartida | BV14: =Cronograma!Repasse | BW14: =Cronograma!Contrapartida | BY14: =Cronograma!Repasse | BZ14: =Cronograma!Contrapartida | CB14: =Cronograma!Repasse | CC14: =Cronograma!Contrapartida | CE14: =Cronograma!Repasse | CF14: =Cronograma!Contrapartida | CH14: =Cronograma!Repasse | CI14: =Cronograma!Contrapartida | CK14: =Cronograma!Repasse | CL14: =Cronograma!Contrapartida | CN14: =Cronograma!Repasse | CO14: =Cronograma!Contrapartida | CQ14: =Cronograma!Repasse | CR14: =Cronograma!Contrapartida | CT14: =Cronograma!Repasse | CU14: =Cronograma!Contrapartida | CW14: =Cronograma!Repasse | CX14: =Cronograma!Contrapartida | CZ14: =Cronograma!Repasse | DA14: =Cronograma!Contrapartida | DC14: =Cronograma!Repasse | DD14: =Cronograma!Contrapartida | DF14: =Cronograma!Repasse | DG14: =Cronograma!Contrapartida | DI14: =Cronograma!Repasse | DJ14: =Cronograma!Contrapartida | DL14: =Cronograma!Repasse | DM14: =Cronograma!Contrapartida | DO14: =Cronograma!Repasse | DP14: =Cronograma!Contrapartida | DR14: =Cronograma!Repasse | DS14: =Cronograma!Contrapartida | DU14: =Cronograma!Repasse | DV14: =Cronograma!Contrapartida | DX14: =Cronograma!Repasse | DY14: =Cronograma!Contrapartida | EA14: =Cronograma!Repasse | EB14: =Cronograma!Contrapartida | ED14: =Cronograma!Repasse | EE14: =Cronograma!Contrapartida | EG14: =Cronograma!Repasse | EH14: =Cronograma!Contrapartida | EJ14: =Cronograma!Repasse | EK14: =Cronograma!Contrapartida | EM14: =Cronograma!Repasse | EN14: =Cronograma!Contrapartida | EP14: =Cronograma!Repasse | EQ14: =Cronograma!Contrapartida | ES14: =Cronograma!Repasse | ET14: =Cronograma!Contrapartida | EV14: =Cronograma!Repasse | EW14: =Cronograma!Contrapartida | EY14: =Cronograma!Repasse | EZ14: =Cronograma!Contrapartida | FB14: =Cronograma!Repasse | FC14: =Cronograma!Contrapartida | FE14: =Cronograma!Repasse | FF14: =Cronograma!Contrapartida | FH14: =Cronograma!Repasse | FI14: =Cronograma!Contrapartida | FK14: =Cronograma!Repasse | FL14: =Cronograma!Contrapartida | FN14: =Cronograma!Repasse | FO14: =Cronograma!Contrapartida | FQ14: =Cronograma!Repasse | FR14: =Cronograma!Contrapartida | FT14: =Cronograma!Repasse | FU14: =Cronograma!Contrapartida | FW14: =Cronograma!Repasse | FX14: =Cronograma!Contrapartida | FZ14: =Cronograma!Repasse | GA14: =Cronograma!Contrapartida | GC14: =Cronograma!Repasse | GD14: =Cronograma!Contrapartida | GF14: =Cronograma!Repasse | GG14: =Cronograma!Contrapartida | GI14: =Cronograma!Repasse | GJ14: =Cronograma!Contrapartida | GL14: =Cronograma!Repasse | GM14: =Cronograma!Contrapartida | GO14: =Cronograma!Repasse | GP14: =Cronograma!Contrapartida | GR14: =Cronograma!Repasse | GS14: =Cronograma!Contrapartida | GU14: =Cronograma!Repasse | GV14: =Cronograma!Contrapartida | GX14: =Cronograma!Repasse | GY14: =Cronograma!Contrapartida | HA14: =Cronograma!Repasse | HB14: =Cronograma!Contrapartida | HD14: =Cronograma!Repasse | HE14: =Cronograma!Contrapartida | HG14: =Cronograma!Repasse | HH14: =Cronograma!Contrapartida | HJ14: =Cronograma!Repasse | HK14: =Cronograma!Contrapartida | HM14: =Cronograma!Repasse | HN14: =Cronograma!Contrapartida | HP14: =Cronograma!Repasse | HQ14: =Cronograma!Contrapartida | HS14: =Cronograma!Repasse | HT14: =Cronograma!Contrapartida | HV14: =Cronograma!Repasse | HW14: =Cronograma!Contrapartida | HY14: =Cronograma!Repasse | HZ14: =Cronograma!Contrapartida | IB14: =Cronograma!Repasse | IC14: =Cronograma!Contrapartida | IE14: =Cronograma!Repasse | IF14: =Cronograma!Contrapartida | IH14: =Cronograma!Repasse | II14: =Cronograma!Contrapartida | IK14: =Cronograma!Repasse | IL14: =Cronograma!Contrapartida | IN14: =Cronograma!Repasse | IO14: =Cronograma!Contrapartida | IQ14: =Cronograma!Repasse | IR14: =Cronograma!Contrapartida | IT14: =Cronograma!Repasse | IU14: =Cronograma!Contrapartida
A15: =QCI!$B15 -> 1 | B15: =QCI!$M15 -> 22986 | C15: =IF($B15=0,"",$B15/$B$53*100) -> 6.3334556 | D15: =G15+J15+M15+P15+S15+V15+Y15+AB15+AE15+AH15+AK15+AN15+AQ15+AT15+AW15+AZ15+BC15+BF15+BI15+BL15+BO15+BR15+BU15+BX15+CA15+CD15+CG15+CJ15+CM15+CP15+CS15+CV15+CY15+DB15+DE15+DH15+DK15+DN15+DQ15+DT15+DW15+DZ15+EC15+EF15+EI15+EL15+EO15+ER15+EU15+EX15+FA15+FD15+FG15+FJ15+FM15+FP15+FS15+FV15+FY15+GB15+GE15+GH15+GK15+GN15+GQ15+GT15+GW15+GZ15+HC15+HF15+HI15+HL15+HO15+HR15+HU15+HX15+IA15+ID15+IG15+IJ15+IM15+IP15+IS15+IV15 -> 100 | E15: =Cronograma!Repasse | F15: =Cronograma!Contrapartida -> 22986 | G15: 100 | H15: =Cronograma!Repasse | I15: =Cronograma!Contrapartida -> 0 | J15: 0 | K15: =Cronograma!Repasse | L15: =Cronograma!Contrapartida -> 0 | N15: =Cronograma!Repasse | O15: =Cronograma!Contrapartida -> 0 | Q15: =Cronograma!Repasse | R15: =Cronograma!Contrapartida -> 0 | T15: =Cronograma!Repasse | U15: =Cronograma!Contrapartida -> 0 | W15: =Cronograma!Repasse | X15: =Cronograma!Contrapartida -> 0 | Z15: =Cronograma!Repasse | AA15: =Cronograma!Contrapartida -> 0 | AC15: =Cronograma!Repasse | AD15: =Cronograma!Contrapartida -> 0 | AF15: =Cronograma!Repasse | AG15: =Cronograma!Contrapartida -> 0 | AI15: =Cronograma!Repasse | AJ15: =Cronograma!Contrapartida -> 0 | AL15: =Cronograma!Repasse | AM15: =Cronograma!Contrapartida -> 0 | AO15: =Cronograma!Repasse | AP15: =Cronograma!Contrapartida -> 0 | AR15: =Cronograma!Repasse | AS15: =Cronograma!Contrapartida -> 0 | AU15: =Cronograma!Repasse | AV15: =Cronograma!Contrapartida -> 0 | AX15: =Cronograma!Repasse | AY15: =Cronograma!Contrapartida -> 0 | BA15: =Cronograma!Repasse | BB15: =Cronograma!Contrapartida -> 0 | BD15: =Cronograma!Repasse | BE15: =Cronograma!Contrapartida -> 0 | BG15: =Cronograma!Repasse | BH15: =Cronograma!Contrapartida -> 0 | BJ15: =Cronograma!Repasse | BK15: =Cronograma!Contrapartida -> 0 | BM15: =Cronograma!Repasse | BN15: =Cronograma!Contrapartida -> 0 | BP15: =Cronograma!Repasse | BQ15: =Cronograma!Contrapartida -> 0 | BS15: =Cronograma!Repasse | BT15: =Cronograma!Contrapartida -> 0 | BV15: =Cronograma!Repasse | BW15: =Cronograma!Contrapartida -> 0 | BY15: =Cronograma!Repasse | BZ15: =Cronograma!Contrapartida -> 0 | CB15: =Cronograma!Repasse | CC15: =Cronograma!Contrapartida -> 0 | CE15: =Cronograma!Repasse | CF15: =Cronograma!Contrapartida -> 0 | CH15: =Cronograma!Repasse | CI15: =Cronograma!Contrapartida -> 0 | CK15: =Cronograma!Repasse | CL15: =Cronograma!Contrapartida -> 0 | CN15: =Cronograma!Repasse | CO15: =Cronograma!Contrapartida -> 0 | CQ15: =Cronograma!Repasse | CR15: =Cronograma!Contrapartida -> 0 | CT15: =Cronograma!Repasse | CU15: =Cronograma!Contrapartida -> 0 | CW15: =Cronograma!Repasse | CX15: =Cronograma!Contrapartida -> 0 | CZ15: =Cronograma!Repasse | DA15: =Cronograma!Contrapartida -> 0 | DC15: =Cronograma!Repasse | DD15: =Cronograma!Contrapartida -> 0 | DF15: =Cronograma!Repasse | DG15: =Cronograma!Contrapartida -> 0 | DI15: =Cronograma!Repasse | DJ15: =Cronograma!Contrapartida -> 0 | DL15: =Cronograma!Repasse | DM15: =Cronograma!Contrapartida -> 0 | DO15: =Cronograma!Repasse | DP15: =Cronograma!Contrapartida -> 0 | DR15: =Cronograma!Repasse | DS15: =Cronograma!Contrapartida -> 0 | DU15: =Cronograma!Repasse | DV15: =Cronograma!Contrapartida -> 0 | DX15: =Cronograma!Repasse | DY15: =Cronograma!Contrapartida -> 0 | EA15: =Cronograma!Repasse | EB15: =Cronograma!Contrapartida -> 0 | ED15: =Cronograma!Repasse | EE15: =Cronograma!Contrapartida -> 0 | EG15: =Cronograma!Repasse | EH15: =Cronograma!Contrapartida -> 0 | EJ15: =Cronograma!Repasse | EK15: =Cronograma!Contrapartida -> 0 | EM15: =Cronograma!Repasse | EN15: =Cronograma!Contrapartida -> 0 | EP15: =Cronograma!Repasse | EQ15: =Cronograma!Contrapartida -> 0 | ES15: =Cronograma!Repasse | ET15: =Cronograma!Contrapartida -> 0 | EV15: =Cronograma!Repasse | EW15: =Cronograma!Contrapartida -> 0 | EY15: =Cronograma!Repasse | EZ15: =Cronograma!Contrapartida -> 0 | FB15: =Cronograma!Repasse | FC15: =Cronograma!Contrapartida -> 0 | FE15: =Cronograma!Repasse | FF15: =Cronograma!Contrapartida -> 0 | FH15: =Cronograma!Repasse | FI15: =Cronograma!Contrapartida -> 0 | FK15: =Cronograma!Repasse | FL15: =Cronograma!Contrapartida -> 0 | FN15: =Cronograma!Repasse | FO15: =Cronograma!Contrapartida -> 0 | FQ15: =Cronograma!Repasse | FR15: =Cronograma!Contrapartida -> 0 | FT15: =Cronograma!Repasse | FU15: =Cronograma!Contrapartida -> 0 | FW15: =Cronograma!Repasse | FX15: =Cronograma!Contrapartida -> 0 | FZ15: =Cronograma!Repasse | GA15: =Cronograma!Contrapartida -> 0 | GC15: =Cronograma!Repasse | GD15: =Cronograma!Contrapartida -> 0 | GF15: =Cronograma!Repasse | GG15: =Cronograma!Contrapartida -> 0 | GI15: =Cronograma!Repasse | GJ15: =Cronograma!Contrapartida -> 0 | GL15: =Cronograma!Repasse | GM15: =Cronograma!Contrapartida -> 0 | GO15: =Cronograma!Repasse | GP15: =Cronograma!Contrapartida -> 0 | GR15: =Cronograma!Repasse | GS15: =Cronograma!Contrapartida -> 0 | GU15: =Cronograma!Repasse | GV15: =Cronograma!Contrapartida -> 0 | GX15: =Cronograma!Repasse | GY15: =Cronograma!Contrapartida -> 0 | HA15: =Cronograma!Repasse | HB15: =Cronograma!Contrapartida -> 0 | HD15: =Cronograma!Repasse | HE15: =Cronograma!Contrapartida -> 0 | HG15: =Cronograma!Repasse | HH15: =Cronograma!Contrapartida -> 0 | HJ15: =Cronograma!Repasse | HK15: =Cronograma!Contrapartida -> 0 | HM15: =Cronograma!Repasse | HN15: =Cronograma!Contrapartida -> 0 | HP15: =Cronograma!Repasse | HQ15: =Cronograma!Contrapartida -> 0 | HS15: =Cronograma!Repasse | HT15: =Cronograma!Contrapartida -> 0 | HV15: =Cronograma!Repasse | HW15: =Cronograma!Contrapartida -> 0 | HY15: =Cronograma!Repasse | HZ15: =Cronograma!Contrapartida -> 0 | IB15: =Cronograma!Repasse | IC15: =Cronograma!Contrapartida -> 0 | IE15: =Cronograma!Repasse | IF15: =Cronograma!Contrapartida -> 0 | IH15: =Cronograma!Repasse | II15: =Cronograma!Contrapartida -> 0 | IK15: =Cronograma!Repasse | IL15: =Cronograma!Contrapartida -> 0 | IN15: =Cronograma!Repasse | IO15: =Cronograma!Contrapartida -> 0 | IQ15: =Cronograma!Repasse | IR15: =Cronograma!Contrapartida -> 0 | IT15: =Cronograma!Repasse | IU15: =Cronograma!Contrapartida -> 0
A16: =QCI!$B16 -> 2 | B16: =QCI!$M16 -> 339943.84 | C16: =IF($B16=0,"",$B16/$B$53*100) -> 93.666544 | D16: =G16+J16+M16+P16+S16+V16+Y16+AB16+AE16+AH16+AK16+AN16+AQ16+AT16+AW16+AZ16+BC16+BF16+BI16+BL16+BO16+BR16+BU16+BX16+CA16+CD16+CG16+CJ16+CM16+CP16+CS16+CV16+CY16+DB16+DE16+DH16+DK16+DN16+DQ16+DT16+DW16+DZ16+EC16+EF16+EI16+EL16+EO16+ER16+EU16+EX16+FA16+FD16+FG16+FJ16+FM16+FP16+FS16+FV16+FY16+GB16+GE16+GH16+GK16+GN16+GQ16+GT16+GW16+GZ16+HC16+HF16+HI16+HL16+HO16+HR16+HU16+HX16+IA16+ID16+IG16+IJ16+IM16+IP16+IS16+IV16 -> 100 | E16: =Cronograma!Repasse | F16: =Cronograma!Contrapartida -> 101983.15 | G16: 30 | H16: =Cronograma!Repasse | I16: =Cronograma!Contrapartida -> 169971.92 | J16: 50 | K16: =Cronograma!Repasse | L16: =Cronograma!Contrapartida -> 67988.767 | M16: 20 | N16: =Cronograma!Repasse | O16: =Cronograma!Contrapartida -> 0 | Q16: =Cronograma!Repasse | R16: =Cronograma!Contrapartida -> 0 | T16: =Cronograma!Repasse | U16: =Cronograma!Contrapartida -> 0 | W16: =Cronograma!Repasse | X16: =Cronograma!Contrapartida -> 0 | Z16: =Cronograma!Repasse | AA16: =Cronograma!Contrapartida -> 0 | AC16: =Cronograma!Repasse | AD16: =Cronograma!Contrapartida -> 0 | AF16: =Cronograma!Repasse | AG16: =Cronograma!Contrapartida -> 0 | AI16: =Cronograma!Repasse | AJ16: =Cronograma!Contrapartida -> 0 | AL16: =Cronograma!Repasse | AM16: =Cronograma!Contrapartida -> 0 | AO16: =Cronograma!Repasse | AP16: =Cronograma!Contrapartida -> 0 | AR16: =Cronograma!Repasse | AS16: =Cronograma!Contrapartida -> 0 | AU16: =Cronograma!Repasse | AV16: =Cronograma!Contrapartida -> 0 | AX16: =Cronograma!Repasse | AY16: =Cronograma!Contrapartida -> 0 | BA16: =Cronograma!Repasse | BB16: =Cronograma!Contrapartida -> 0 | BD16: =Cronograma!Repasse | BE16: =Cronograma!Contrapartida -> 0 | BG16: =Cronograma!Repasse | BH16: =Cronograma!Contrapartida -> 0 | BJ16: =Cronograma!Repasse | BK16: =Cronograma!Contrapartida -> 0 | BM16: =Cronograma!Repasse | BN16: =Cronograma!Contrapartida -> 0 | BP16: =Cronograma!Repasse | BQ16: =Cronograma!Contrapartida -> 0 | BS16: =Cronograma!Repasse | BT16: =Cronograma!Contrapartida -> 0 | BV16: =Cronograma!Repasse | BW16: =Cronograma!Contrapartida -> 0 | BY16: =Cronograma!Repasse | BZ16: =Cronograma!Contrapartida -> 0 | CB16: =Cronograma!Repasse | CC16: =Cronograma!Contrapartida -> 0 | CE16: =Cronograma!Repasse | CF16: =Cronograma!Contrapartida -> 0 | CH16: =Cronograma!Repasse | CI16: =Cronograma!Contrapartida -> 0 | CK16: =Cronograma!Repasse | CL16: =Cronograma!Contrapartida -> 0 | CN16: =Cronograma!Repasse | CO16: =Cronograma!Contrapartida -> 0 | CQ16: =Cronograma!Repasse | CR16: =Cronograma!Contrapartida -> 0 | CT16: =Cronograma!Repasse | CU16: =Cronograma!Contrapartida -> 0 | CW16: =Cronograma!Repasse | CX16: =Cronograma!Contrapartida -> 0 | CZ16: =Cronograma!Repasse | DA16: =Cronograma!Contrapartida -> 0 | DC16: =Cronograma!Repasse | DD16: =Cronograma!Contrapartida -> 0 | DF16: =Cronograma!Repasse | DG16: =Cronograma!Contrapartida -> 0 | DI16: =Cronograma!Repasse | DJ16: =Cronograma!Contrapartida -> 0 | DL16: =Cronograma!Repasse | DM16: =Cronograma!Contrapartida -> 0 | DO16: =Cronograma!Repasse | DP16: =Cronograma!Contrapartida -> 0 | DR16: =Cronograma!Repasse | DS16: =Cronograma!Contrapartida -> 0 | DU16: =Cronograma!Repasse | DV16: =Cronograma!Contrapartida -> 0 | DX16: =Cronograma!Repasse | DY16: =Cronograma!Contrapartida -> 0 | EA16: =Cronograma!Repasse | EB16: =Cronograma!Contrapartida -> 0 | ED16: =Cronograma!Repasse | EE16: =Cronograma!Contrapartida -> 0 | EG16: =Cronograma!Repasse | EH16: =Cronograma!Contrapartida -> 0 | EJ16: =Cronograma!Repasse | EK16: =Cronograma!Contrapartida -> 0 | EM16: =Cronograma!Repasse | EN16: =Cronograma!Contrapartida -> 0 | EP16: =Cronograma!Repasse | EQ16: =Cronograma!Contrapartida -> 0 | ES16: =Cronograma!Repasse | ET16: =Cronograma!Contrapartida -> 0 | EV16: =Cronograma!Repasse | EW16: =Cronograma!Contrapartida -> 0 | EY16: =Cronograma!Repasse | EZ16: =Cronograma!Contrapartida -> 0 | FB16: =Cronograma!Repasse | FC16: =Cronograma!Contrapartida -> 0 | FE16: =Cronograma!Repasse | FF16: =Cronograma!Contrapartida -> 0 | FH16: =Cronograma!Repasse | FI16: =Cronograma!Contrapartida -> 0 | FK16: =Cronograma!Repasse | FL16: =Cronograma!Contrapartida -> 0 | FN16: =Cronograma!Repasse | FO16: =Cronograma!Contrapartida -> 0 | FQ16: =Cronograma!Repasse | FR16: =Cronograma!Contrapartida -> 0 | FT16: =Cronograma!Repasse | FU16: =Cronograma!Contrapartida -> 0 | FW16: =Cronograma!Repasse | FX16: =Cronograma!Contrapartida -> 0 | FZ16: =Cronograma!Repasse | GA16: =Cronograma!Contrapartida -> 0 | GC16: =Cronograma!Repasse | GD16: =Cronograma!Contrapartida -> 0 | GF16: =Cronograma!Repasse | GG16: =Cronograma!Contrapartida -> 0 | GI16: =Cronograma!Repasse | GJ16: =Cronograma!Contrapartida -> 0 | GL16: =Cronograma!Repasse | GM16: =Cronograma!Contrapartida -> 0 | GO16: =Cronograma!Repasse | GP16: =Cronograma!Contrapartida -> 0 | GR16: =Cronograma!Repasse | GS16: =Cronograma!Contrapartida -> 0 | GU16: =Cronograma!Repasse | GV16: =Cronograma!Contrapartida -> 0 | GX16: =Cronograma!Repasse | GY16: =Cronograma!Contrapartida -> 0 | HA16: =Cronograma!Repasse | HB16: =Cronograma!Contrapartida -> 0 | HD16: =Cronograma!Repasse | HE16: =Cronograma!Contrapartida -> 0 | HG16: =Cronograma!Repasse | HH16: =Cronograma!Contrapartida -> 0 | HJ16: =Cronograma!Repasse | HK16: =Cronograma!Contrapartida -> 0 | HM16: =Cronograma!Repasse | HN16: =Cronograma!Contrapartida -> 0 | HP16: =Cronograma!Repasse | HQ16: =Cronograma!Contrapartida -> 0 | HS16: =Cronograma!Repasse | HT16: =Cronograma!Contrapartida -> 0 | HV16: =Cronograma!Repasse | HW16: =Cronograma!Contrapartida -> 0 | HY16: =Cronograma!Repasse | HZ16: =Cronograma!Contrapartida -> 0 | IB16: =Cronograma!Repasse | IC16: =Cronograma!Contrapartida -> 0 | IE16: =Cronograma!Repasse | IF16: =Cronograma!Contrapartida -> 0 | IH16: =Cronograma!Repasse | II16: =Cronograma!Contrapartida -> 0 | IK16: =Cronograma!Repasse | IL16: =Cronograma!Contrapartida -> 0 | IN16: =Cronograma!Repasse | IO16: =Cronograma!Contrapartida -> 0 | IQ16: =Cronograma!Repasse | IR16: =Cronograma!Contrapartida -> 0 | IT16: =Cronograma!Repasse | IU16: =Cronograma!Contrapartida -> 0
A17: =QCI!$B17 -> 0 | B17: =QCI!$M17 -> 0 | C17: =IF($B17=0,"",$B17/$B$53*100) | D17: =G17+J17+M17+P17+S17+V17+Y17+AB17+AE17+AH17+AK17+AN17+AQ17+AT17+AW17+AZ17+BC17+BF17+BI17+BL17+BO17+BR17+BU17+BX17+CA17+CD17+CG17+CJ17+CM17+CP17+CS17+CV17+CY17+DB17+DE17+DH17+DK17+DN17+DQ17+DT17+DW17+DZ17+EC17+EF17+EI17+EL17+EO17+ER17+EU17+EX17+FA17+FD17+FG17+FJ17+FM17+FP17+FS17+FV17+FY17+GB17+GE17+GH17+GK17+GN17+GQ17+GT17+GW17+GZ17+HC17+HF17+HI17+HL17+HO17+HR17+HU17+HX17+IA17+ID17+IG17+IJ17+IM17+IP17+IS17+IV17 -> 0 | E17: =Cronograma!Repasse | F17: =Cronograma!Contrapartida | H17: =Cronograma!Repasse | I17: =Cronograma!Contrapartida | K17: =Cronograma!Repasse | L17: =Cronograma!Contrapartida | N17: =Cronograma!Repasse | O17: =Cronograma!Contrapartida | Q17: =Cronograma!Repasse | R17: =Cronograma!Contrapartida | T17: =Cronograma!Repasse | U17: =Cronograma!Contrapartida | W17: =Cronograma!Repasse | X17: =Cronograma!Contrapartida | Z17: =Cronograma!Repasse | AA17: =Cronograma!Contrapartida | AC17: =Cronograma!Repasse | AD17: =Cronograma!Contrapartida | AF17: =Cronograma!Repasse | AG17: =Cronograma!Contrapartida | AI17: =Cronograma!Repasse | AJ17: =Cronograma!Contrapartida | AL17: =Cronograma!Repasse | AM17: =Cronograma!Contrapartida | AO17: =Cronograma!Repasse | AP17: =Cronograma!Contrapartida | AR17: =Cronograma!Repasse | AS17: =Cronograma!Contrapartida | AU17: =Cronograma!Repasse | AV17: =Cronograma!Contrapartida | AX17: =Cronograma!Repasse | AY17: =Cronograma!Contrapartida | BA17: =Cronograma!Repasse | BB17: =Cronograma!Contrapartida | BD17: =Cronograma!Repasse | BE17: =Cronograma!Contrapartida | BG17: =Cronograma!Repasse | BH17: =Cronograma!Contrapartida | BJ17: =Cronograma!Repasse | BK17: =Cronograma!Contrapartida | BM17: =Cronograma!Repasse | BN17: =Cronograma!Contrapartida | BP17: =Cronograma!Repasse | BQ17: =Cronograma!Contrapartida | BS17: =Cronograma!Repasse | BT17: =Cronograma!Contrapartida | BV17: =Cronograma!Repasse | BW17: =Cronograma!Contrapartida | BY17: =Cronograma!Repasse | BZ17: =Cronograma!Contrapartida | CB17: =Cronograma!Repasse | CC17: =Cronograma!Contrapartida | CE17: =Cronograma!Repasse | CF17: =Cronograma!Contrapartida | CH17: =Cronograma!Repasse | CI17: =Cronograma!Contrapartida | CK17: =Cronograma!Repasse | CL17: =Cronograma!Contrapartida | CN17: =Cronograma!Repasse | CO17: =Cronograma!Contrapartida | CQ17: =Cronograma!Repasse | CR17: =Cronograma!Contrapartida | CT17: =Cronograma!Repasse | CU17: =Cronograma!Contrapartida | CW17: =Cronograma!Repasse | CX17: =Cronograma!Contrapartida | CZ17: =Cronograma!Repasse | DA17: =Cronograma!Contrapartida | DC17: =Cronograma!Repasse | DD17: =Cronograma!Contrapartida | DF17: =Cronograma!Repasse | DG17: =Cronograma!Contrapartida | DI17: =Cronograma!Repasse | DJ17: =Cronograma!Contrapartida | DL17: =Cronograma!Repasse | DM17: =Cronograma!Contrapartida | DO17: =Cronograma!Repasse | DP17: =Cronograma!Contrapartida | DR17: =Cronograma!Repasse | DS17: =Cronograma!Contrapartida | DU17: =Cronograma!Repasse | DV17: =Cronograma!Contrapartida | DX17: =Cronograma!Repasse | DY17: =Cronograma!Contrapartida | EA17: =Cronograma!Repasse | EB17: =Cronograma!Contrapartida | ED17: =Cronograma!Repasse | EE17: =Cronograma!Contrapartida | EG17: =Cronograma!Repasse | EH17: =Cronograma!Contrapartida | EJ17: =Cronograma!Repasse | EK17: =Cronograma!Contrapartida | EM17: =Cronograma!Repasse | EN17: =Cronograma!Contrapartida | EP17: =Cronograma!Repasse | EQ17: =Cronograma!Contrapartida | ES17: =Cronograma!Repasse | ET17: =Cronograma!Contrapartida | EV17: =Cronograma!Repasse | EW17: =Cronograma!Contrapartida | EY17: =Cronograma!Repasse | EZ17: =Cronograma!Contrapartida | FB17: =Cronograma!Repasse | FC17: =Cronograma!Contrapartida | FE17: =Cronograma!Repasse | FF17: =Cronograma!Contrapartida | FH17: =Cronograma!Repasse | FI17: =Cronograma!Contrapartida | FK17: =Cronograma!Repasse | FL17: =Cronograma!Contrapartida | FN17: =Cronograma!Repasse | FO17: =Cronograma!Contrapartida | FQ17: =Cronograma!Repasse | FR17: =Cronograma!Contrapartida | FT17: =Cronograma!Repasse | FU17: =Cronograma!Contrapartida | FW17: =Cronograma!Repasse | FX17: =Cronograma!Contrapartida | FZ17: =Cronograma!Repasse | GA17: =Cronograma!Contrapartida | GC17: =Cronograma!Repasse | GD17: =Cronograma!Contrapartida | GF17: =Cronograma!Repasse | GG17: =Cronograma!Contrapartida | GI17: =Cronograma!Repasse | GJ17: =Cronograma!Contrapartida | GL17: =Cronograma!Repasse | GM17: =Cronograma!Contrapartida | GO17: =Cronograma!Repasse | GP17: =Cronograma!Contrapartida | GR17: =Cronograma!Repasse | GS17: =Cronograma!Contrapartida | GU17: =Cronograma!Repasse | GV17: =Cronograma!Contrapartida | GX17: =Cronograma!Repasse | GY17: =Cronograma!Contrapartida | HA17: =Cronograma!Repasse | HB17: =Cronograma!Contrapartida | HD17: =Cronograma!Repasse | HE17: =Cronograma!Contrapartida | HG17: =Cronograma!Repasse | HH17: =Cronograma!Contrapartida | HJ17: =Cronograma!Repasse | HK17: =Cronograma!Contrapartida | HM17: =Cronograma!Repasse | HN17: =Cronograma!Contrapartida | HP17: =Cronograma!Repasse | HQ17: =Cronograma!Contrapartida | HS17: =Cronograma!Repasse | HT17: =Cronograma!Contrapartida | HV17: =Cronograma!Repasse | HW17: =Cronograma!Contrapartida | HY17: =Cronograma!Repasse | HZ17: =Cronograma!Contrapartida | IB17: =Cronograma!Repasse | IC17: =Cronograma!Contrapartida | IE17: =Cronograma!Repasse | IF17: =Cronograma!Contrapartida | IH17: =Cronograma!Repasse | II17: =Cronograma!Contrapartida | IK17: =Cronograma!Repasse | IL17: =Cronograma!Contrapartida | IN17: =Cronograma!Repasse | IO17: =Cronograma!Contrapartida | IQ17: =Cronograma!Repasse | IR17: =Cronograma!Contrapartida | IT17: =Cronograma!Repasse | IU17: =Cronograma!Contrapartida
