Workbook

Sheet PISOS
A1: QUANTITATIVO GERAL PISO TÁTIL E PISO PAVER
A2: CALÇADA | B2: EXTENSÃO CALÇADA (m) | C2: QUANTIDADE DE MEIO FIO 12CM A SER DESCONTADO | D2: EXTENSÃO CALÇADA EXCLUÍDO MEIO FIO E INCLUSO LIMPA RODA (m) | E2: LARGURA CALÇADA EXCLUSO MEIO FIO (m) | F2: ÁREA CALÇADA EXCLUSO MEIO FIO E INCLUSO LIMPA RODA (m²) | G2: QUANTIDADE DE LIMPA RODAS (UNID.) | H2: LIMPA RODA 0,57m² (m²) | I2: ÁREA DA CALÇADA FORA MEIO FIO E LIMPA RODAS (m²) | J2: QUANT. DE RAMPAS | K2: QUANT. DE PISO TÁTIL ALERTA EM MUDANÇA DE DIREÇÃO | L2: QUANT. DE POSTES | M2: ÁREA DO PISO TÁTIL ALERTA EXTRA (m²) | N2: ÁREA DO PISO TÁTIL ALERTA (m²) | O2: ÁREA DO PISO TÁTIL DIRECIONAL EXTRA (m²) | P2: ÁREA DO PISO TÁTIL DIRECIONAL (m²) | Q2: ÁREA TOTAL PISO TÁTIL (m²) | R2: ÁREA TOTAL PAVER EXTRA (m²) | S2: ÁREA TOTAL PAVER (m²)
A3: Q1 | B3: 235.53 | C3: 2 | D3: =B3-(C3*0.12) -> 235.29 | E3: 1.88 | F3: =(D3*E3) -> 442.3452 | G3: 1 | H3: =0.57*G3 -> 0.57 | I3: =F3-H3 -> 441.7752 | J3: 2 | K3: 2 | L3: 7 | M3: 0 | N3: =((((2*E3+1.2)*J3)+(K3*0.4+L3*1.8))*0.4)+M3 -> 9.328 | O3: 0 | P3: =((B3-((1.08+0.12)*G3)-5.6*J3)*0.4)+O3 -> 89.252 | Q3: =SUM(N3,P3) -> 98.58 | R3: 0 | S3: =I3-Q3+R3 -> 343.1952
A4: Q2 | B4: 67.66 | C4: 3 | D4: =B4-(C4*0.12) -> 67.3 | E4: 1.88 | F4: =(D4*E4) -> 126.524 | G4: 3 | H4: =0.57*G4 -> 1.71 | I4: =F4-H4 -> 124.814 | J4: 2 | K4: 3 | L4: 1 | M4: 0 | N4: =((((2*E4+1.2)*J4)+(K4*0.4+L4*1.8))*0.4)+M4 -> 5.168 | O4: 0 | P4: =((B4-((1.08+0.12)*G4)-5.6*J4)*0.4)+O4 -> 21.144 | Q4: =SUM(N4,P4) -> 26.312 | R4: 0 | S4: =I4-Q4+R4 -> 98.502
A5: Q3 | B5: 212.126 | C5: 3 | D5: =B5-(C5*0.12) -> 211.766 | E5: 1.68 | F5: =(D5*E5) -> 355.76688 | G5: 3 | H5: =0.57*G5 -> 1.71 | I5: =F5-H5 -> 354.05688 | J5: 2 | K5: 3 | L5: 0 | M5: 0 | N5: =((((2*E5+1.2)*J5)+(K5*0.4+L5*1.8))*0.4)+M5 -> 4.128 | O5: 0 | P5: =((B5-((1.08+0.12)*G5)-5.6*J5)*0.4)+O5 -> 78.9304 | Q5: =SUM(N5,P5) -> 83.0584 | R5: 0 | S5: =I5-Q5+R5 -> 270.99848
A6: Q4 | B6: 73.42 | C6: 3 | D6: =B6-(C6*0.12) -> 73.06 | E6: 1.88 | F6: =(D6*E6) -> 137.3528 | G6: 2 | H6: =0.57*G6 -> 1.14 | I6: =F6-H6 -> 136.2128 | J6: 2 | K6: 3 | L6: 0 | M6: 0 | N6: =((((2*E6+1.2)*J6)+(K6*0.4+L6*1.8))*0.4)+M6 -> 4.448 | O6: 0 | P6: =((B6-((1.08+0.12)*G6)-5.6*J6)*0.4)+O6 -> 23.928 | Q6: =SUM(N6,P6) -> 28.376 | R6: 0 | S6: =I6-Q6+R6 -> 107.8368
F7: =SUM(F3:F6) -> 1061.9889 | H7: =SUM(H3:H6) -> 5.13 | I7: =SUM(I3:I6) -> 1056.8589 | N7: =SUM(N3:N6) -> 23.072 | P7: =SUM(P3:P6) -> 213.2544 | Q7: =SUM(Q3:Q6) -> 236.3264 | S7: =I7-Q7 -> 820.53248

Sheet MEIO FIO
A1: QUANTITATIVO MEIO FIO
B2: (m)
A3: Q1 = | B3: 236.52
A4: Q2= | B4: 73.3
A5: Q3= | B5: 215.18
A6: Q4 | B6: 78.19
A7: Q5 | B7: 0
A8: Q6 | B8: 0
B9: =SUM(B3:B8) -> 603.19

Sheet PAVIMENTAÇÃO
A2: PAVIMENTAÇÃO
G3: QTDADE | H3: UNIDADE
A4: EXTENSÃO DO PAVIMENTO | G4: 320 | H4: m
A5: LARGURA RUA | G5: 8 | H5: m
A6: LIMPA RODA 0,85 M² | G6: 0 | H6: unid.
A7: LIMPA RODA EXTRA 119,879m² | G7: 1 | H7: unid.
A8: REVESTIMENTO LAJOTA DE CONCRETO SEXTAVADA 8cm (Fck=35,0 MPa) | G8: =G4*G5+G6*0.85+G7*119.879 -> 2679.879 | H8: m²
A9: MEIO FIO DE TRAVAMENTO 10x30x100cm (Fck = 15.0 MPa) | G9: 84 | H9: m
A10: MEIO FIO 15x12x30x100cm (Fck = 25.0 MPa) | G10: 607.19 | H10: m
A11: BASE DE BRITA GRADUADA COMPACTADA esp10cm | G11: =G8*0.1 -> 267.9879 | H11: m³
A12: COCHÃO DE AREIÀ COMPACTADO esp 5cm | G12: =G8*0.05 -> 133.99395 | H12: m³
A13: REGULARIZAÇÃODO PAV. COM PÓ DE PEDRA BRITADA esp 0,005m | G13: =G8*0.005 -> 13.399395 | H13: m³
A14: REGULARIZAÇÃO DO SUB-LEITO E COMPACT. (M. NIVELADORA) | G14: =G8 -> 2679.879 | H14: m²

Sheet DRENAGEM
A1: DRENAGEM | H1: ∅ DN | I1: DIÂM EXTERNO | J1: Área Tubo (m²)
E2: QTDADE | F2: UNIDADE | H2: 30 | I2: 37 | J2: =(PI()*(((I2/2)/100)^2)) -> 0.10752101
H3: 40 | I3: 48 | J3: =(PI()*(((I3/2)/100)^2)) -> 0.18095574
A4: CAIXA DE BOCA DE LOBO | E4: 16 | F4: unid. | H4: 50 | I4: 60 | J4: =(PI()*(((I4/2)/100)^2)) -> 0.28274334
A5: CAIXA DE LIGAÇÃO | E5: 15 | F5: unid. | H5: 60 | I5: 71.1 | J5: =(PI()*(((I5/2)/100)^2)) -> 0.39703526
H6: 80 | I6: 93 | J6: =(PI()*(((I6/2)/100)^2)) -> 0.67929087
H7: 100 | I7: 120 | J7: =(PI()*(((I7/2)/100)^2)) -> 1.1309734 | K7: CONSIDERADOS TODOS COMPACTADOS
H8: 120 | I8: 144 | J8: =(PI()*(((I8/2)/100)^2)) -> 1.6286016
A9: CÁLCULO VOLUME CORTE ATERRO | E9: QTDADE | F9: UNIDADE | H9: ESCARIF (m³) | I9: REATERRO (m³) | J9: X | K9: Y | L9: ESCAR(M³) | M9: REAT (M³)
A10: TUBOS ∅30cm | E10: 85 | F10: m | H10: =E10*L10 -> 93.5 | I10: =E10*M10 -> 84.360714 | J10: 1 | K10: 1.1 | L10: =J10*K10 -> 1.1 | M10: =L10-J2 -> 0.99247899
A11: TUBOS ∅40cm | E11: 234 | F11: m | H11: =E11*L11 -> 308.88 | I11: =E11*M11 -> 266.53636 | J11: 1.1 | K11: 1.2 | L11: =J11*K11 -> 1.32 | M11: =L11-J3 -> 1.1390443
A12: TUBOS ∅50cm | E12: 64 | F12: m | H12: =E12*L12 -> 116.48 | I12: =E12*M12 -> 98.384426 | J12: 1.4 | K12: 1.3 | L12: =J12*K12 -> 1.82 | M12: =L12-J4 -> 1.5372567
A13: TUBOS ∅60cm | E13: 0 | F13: m | H13: =E13*L13 -> 0 | I13: =E13*M13 -> 0 | J13: 1.5 | K13: 1.4 | L13: =J13*K13 -> 2.1 | M13: =L13-J5 -> 1.7029647
A14: TUBOS ∅80cm | E14: 0 | F14: m | H14: =E14*L14 -> 0 | I14: =E14*M14 -> 0 | J14: 1.8 | K14: 1.6 | L14: =J14*K14 -> 2.88 | M14: =L14-J6 -> 2.2007091
A15: TUBOS ∅100cm | E15: 0 | F15: m | H15: =E15*L15 -> 0 | I15: =E15*M15 -> 0 | J15: 2.1 | K15: 1.9 | L15: =J15*K15 -> 3.99 | M15: =L15-J7 -> 2.8590266
A16: TUBOS ∅120cm | E16: 0 | F16: m | H16: =E16*L16 -> 0 | I16: =E16*M16 -> 0 | J16: 2.3 | K16: 2.1 | L16: =J16*K16 -> 4.83 | M16: =L16-J8 -> 3.2013984
K17: CAIXA DE LIG | L17: 1.2
K18: BOCA LOBO | L18: 1.2
D19: TOTAL TUBOS= | E19: =SUM(E10:E17) -> 383 | F19: m | G19: TOTAL= | H19: =SUM(H10:H16)+(L17*E5)+(L18*E4) -> 556.06 | I19: =SUM(I10:I16) -> 449.2815
D20: COLCHÃO DE BRITA (0,50X0,10)= | E20: =(E19-E10)*0.5*0.1 -> 14.9 | F20: m³

Sheet CALÇADA
A1: CALÇADA
G2: QTDADE | H2: UNIDADE
A3: ÁREA TOTAL DA CALÇADA | G3: =PISOS!I7 -> 1056.8589 | H3: m²
A4: PISO TÁTIL ALERTA | G4: =PISOS!N7 -> 23.072 | H4: m²
A5: PISO TÁTIL DIRECIONAL | G5: =PISOS!P7 -> 213.2544 | H5: m²
A6: PISO BLOCO DE CONCRETO PAVER | G6: =PISOS!S7 -> 820.53248 | H6: m²
A7: REGULAR. E COMPACT. COM LASTRO DE PÓ DE BRITA ESP 4cm | G7: =G3*0.04 -> 42.274355 | H7: m³
A8: COLCHÃO DE AREIA COMPACTADO ESP 4cm | G8: =G3*0.04 -> 42.274355 | H8: m³
A9: REGULARIZAÇÃO MECÂNICA | G9: =G3 -> 1056.8589 | H9: m²

Sheet SINALIZAÇÃO
A1: SINALIZAÇÃO HORIZONTAL E VERTICAL
G2: QTDADE | H2: UNIDADE
A3: EXTENSÃO FAIXA AMARELA TRACEJADA | G3: 0 | H3: m
A4: QUANTIDADE DE FAIXA CONTÍNUA 15,00m | G4: 3 | H4: unid.
A5: ÁREA DE PINTURA FAIXA AMARELA EXTRA | G5: 0 | H5: m²
A6: ÁREA DE PINTURA DE FAIXA AMARELA | G6: =((G3/3+G4*15)*G7)+G5 -> 4.5 | H6: m²
A7: LARGURA DA FAIXA | G7: 0.1 | H7: m
A8: QUANTIDADE DE PARADAS PARA PEDESTRES | G8: 3 | H8: Unid.
A9: PINTURA DE FAIXA DE PEDESTRE EXTRA | G9: 0 | H9: m²
A10: PINTURA DE FAIXA DE PEDESTRE | G10: =(9.6*G8)+G9 -> 28.8 | H10: m²
A11: QUANTIDADE DE FAIXA DE RETENÇÃO | G11: 3 | H11: unid.
A12: ÁREA DE PINTURA DE FAIXA RETENÇÃO | G12: =G11*2 -> 6 | H12: m²
A13: ÁREA TOTAL PINTURA DE FAIXA DE PEDESTRE BRANCA | G13: =SUM(G10,G12) -> 34.8 | H13: m²
A14: PLACA PASSAGEM DE PEDESTRE CÓDIGO A-32 L=0,50m | G14: 3 | H14: unid.
A15: PLACA PARE CÓDIGO - R - 1 L = 0,25m | G15: 4 | H15: unid.
A16: INDICAÇÃO DE RUA | G16: 1 | H16: unid.
A17: PLACA LIMITE DE VELOCIDADE 40KM/H CÓDIGO R - 19 L=0,50m | G17: 1 | H17: Unid.

Sheet PISO TÁTIL CÁLCULO POR ÁREAS
A1: QUANTITATIVO GERAL PISO TÁTIL E PISO PAVER
A2: CALÇADA | B2: EXTENSÃO DA CALÇADA COM PISO TÁTIL EXCETO LIMPA RODA (m) | C2: ÁREA DE MEIO FIO (L x 0,12)(M²) | D2: SOMATÓRIO DAS LARGURAS DAS CALÇADAS ONDE SERÃO FEITAS RAMPAS (m) | E2: ÁREA CALÇADA TOTAL HACHURAS DESENHO (m²) | F2: QUANTIDADE DE LIMPA RODAS (UNID.) | G2: LIMPA RODA 0,57m² (m²) | H2: ÁREA DA CALÇADA FORA MEIO FIO (m²) | I2: QUANT. DE RAMPAS | J2: QUANT. DE PISO TÁTIL ALERTA EM MUDANÇA DE DIREÇÃO | K2: QUANT. DE POSTES | L2: ÁREA DO PISO TÁTIL ALERTA EXTRA (m²) | M2: ÁREA DO PISO TÁTIL ALERTA (m²) | N2: ÁREA DO PISO TÁTIL DIRECIONAL EXTRA (m²) | O2: ÁREA DO PISO TÁTIL DIRECIONAL (m²) | P2: ÁREA TOTAL PISO TÁTIL (m²) | Q2: ÁREA TOTAL PAVER EXTRA (m²) | R2: ÁREA TOTAL PAVER (m²)
A3: Q1 | B3: 235.53 | C3: ='MEIO FIO'!B3*0.12 -> 28.3824 | D3: 4 | E3: 474.2 | F3: 1 | G3: =0.57*F3 -> 0.57 | H3: =E3-C3 -> 445.8176 | I3: 2 | J3: 1 | K3: 6 | L3: 0 | M3: =((((2*(D3-I3*0.12)+1.2))+(J3*0.4+K3*1.56)*0.4)+L3) -> 12.624 | N3: 0 | O3: =((B3-5.6*I3)*0.4)+N3+0.8*F3 -> 90.532 | P3: =SUM(M3,O3) -> 103.156 | Q3: 0 | R3: =H3-P3+Q3 -> 342.6616
A4: Q2 | B4: 59.74 | C4: ='MEIO FIO'!B4*0.12 -> 8.796 | D4: 4.12 | E4: 136.88 | F4: 3 | G4: =0.57*F4 -> 1.71 | H4: =E4-G4 -> 135.17 | I4: 2 | J4: 3 | K4: 1 | L4: 0 | M4: =((((2*(D4-I4*0.12)+1.2))+(J4*0.4+K4*1.56)*0.4)+L4) -> 10.064 | N4: 0 | O4: =((B4-5.6*I4)*0.4)+N4+0.8*F4 -> 21.816 | P4: =SUM(M4,O4) -> 31.88 | Q4: 0 | R4: =H4-P4+Q4 -> 103.29
A5: Q3 | B5: 203.37 | C5: ='MEIO FIO'!B5*0.12 -> 25.8216 | D5: 3.55 | E5: 358.52 | F5: 3 | G5: =0.57*F5 -> 1.71 | H5: =E5-G5 -> 356.81 | I5: 2 | J5: 4 | K5: 0 | L5: 0 | M5: =((((2*(D5-I5*0.12)+1.2))+(J5*0.4+K5*1.56)*0.4)+L5) -> 8.46 | N5: 1.5 | O5: =((B5-5.6*I5)*0.4)+N5+0.8*F5 -> 80.768 | P5: =SUM(M5,O5) -> 89.228 | Q5: 0 | R5: =H5-P5+Q5 -> 267.582
A6: Q4 | B6: 74.28 | C6: ='MEIO FIO'!B6*0.12 -> 9.3828 | D6: 4 | E6: 138.73 | F6: 3 | G6: =0.57*F6 -> 1.71 | H6: =E6-G6 -> 137.02 | I6: 2 | J6: 3 | K6: 0 | L6: 0 | M6: =((((2*(D6-I6*0.12)+1.2))+(J6*0.4+K6*1.56)*0.4)+L6) -> 9.2 | N6: 0 | O6: =((B6-5.6*I6)*0.4)+N6+0.8*F6 -> 27.632 | P6: =SUM(M6,O6) -> 36.832 | Q6: 0 | R6: =H6-P6+Q6 -> 100.188
E7: =SUM(E3:E6) -> 1108.33 | G7: =SUM(G3:G6) -> 5.7 | H7: =SUM(H3:H6) -> 1074.8176 | M7: =SUM(M3:M6) -> 40.348 | O7: =SUM(O3:O6) -> 220.748 | P7: =SUM(P3:P6) -> 261.096 | R7: =H7-P7 -> 813.7216
